BEGIN:VCALENDAR
VERSION:2.0
PRODID:-//wp-events-plugin.com//7.2.3.1//EN
TZID:Europe/London
X-WR-TIMEZONE:Europe/London
BEGIN:VEVENT
UID:3520@larevistadelapalma.com
DTSTART:20241220T170000Z
DTEND:20241220T183000Z
DTSTAMP:20241217T200237Z
URL:https://www.larevistadelapalma.com/events/exhibicion-de-patinaje-artis
 tico-en-el-paso/
SUMMARY:Exhibición de patinaje artístico en El Paso
DESCRIPTION:\nEl viernes 20 de diciembre en el Pabellón Deportivo del IES 
 El Paso\, con la participación de niños de promoción deportiva\, vivire
 mos una tarde navideña en la que podrán disfrutar de los espectáculos d
 e Club Daria y Club Mayoral.\n
ATTACH;FMTTYPE=image/jpeg:https://www.larevistadelapalma.com/wp-content/up
 loads/2024/12/exhibicion-de-patinaje-artistico.jpg
CATEGORIES:Espectáculos,Relax
LOCATION:Municipio de El Paso\, El Paso\, La Palma \, El Paso\, 38750\, Esp
 aña
GEO:28.652378;-17.880396
X-APPLE-STRUCTURED-LOCATION;VALUE=URI;X-ADDRESS=El Paso\, La Palma \, El Pa
 so\, 38750\, España;X-APPLE-RADIUS=100;X-TITLE=Municipio de El Paso:geo:2
 8.652378,-17.880396
END:VEVENT
END:VCALENDARBEGIN:VCALENDAR
VERSION:2.0
PRODID:-//wp-events-plugin.com//7.2.3.1//EN
TZID:Europe/London
X-WR-TIMEZONE:Europe/London
BEGIN:VEVENT
UID:3520@larevistadelapalma.com
DTSTART:20241220T170000Z
DTEND:20241220T183000Z
DTSTAMP:20241217T200237Z
URL:https://www.larevistadelapalma.com/events/exhibicion-de-patinaje-artis
 tico-en-el-paso/
SUMMARY:Exhibición de patinaje artístico en El Paso
DESCRIPTION:\nEl viernes 20 de diciembre en el Pabellón Deportivo del IES 
 El Paso\, con la participación de niños de promoción deportiva\, vivire
 mos una tarde navideña en la que podrán disfrutar de los espectáculos d
 e Club Daria y Club Mayoral.\n
ATTACH;FMTTYPE=image/jpeg:https://www.larevistadelapalma.com/wp-content/up
 loads/2024/12/exhibicion-de-patinaje-artistico.jpg
CATEGORIES:Espectáculos,Relax
LOCATION:Municipio de El Paso\, El Paso\, La Palma \, El Paso\, 38750\, Esp
 aña
GEO:28.652378;-17.880396
X-APPLE-STRUCTURED-LOCATION;VALUE=URI;X-ADDRESS=El Paso\, La Palma \, El Pa
 so\, 38750\, España;X-APPLE-RADIUS=100;X-TITLE=Municipio de El Paso:geo:2
 8.652378,-17.880396
END:VEVENT
END:VCALENDAR