BEGIN:VCALENDAR
VERSION:2.0
PRODID:-//wp-events-plugin.com//7.2.3.1//EN
TZID:Europe/London
X-WR-TIMEZONE:Europe/London
BEGIN:VEVENT
UID:4025@larevistadelapalma.com
DTSTART:20251016T193000Z
DTEND:20251016T203000Z
DTSTAMP:20251015T162245Z
URL:https://www.larevistadelapalma.com/events/expo-altar-de-muertos-museo-
 insular/
SUMMARY:Inauguración de la exposición ‘Altar de Muertos’\, Museo Insu
 lar
DESCRIPTION:Coincidiendo con las fechas de Finados y Todos los Santos\, la 
 muestra rinde homenaje a la Virgen de Guadalupe a través de un altar de m
 uertos mexicano.\n\nEl Cabildo de La Palma inaugura este jueves\, a las 20
 :30 horas\, la exposición Altar de Muertos en el Museo Insular\, una mu
 estra que une tradición\, espiritualidad y arte en el marco del Año Jubi
 lar Guadalupense.\n\nSe trata de la primera vez que el Museo Insular celeb
 ra una exposición vinculada a esta efeméride\, que conmemora el próximo
  centenario del Jubileo Guadalupense\, otorgado cada 25 años y de gran re
 levancia en el mundo hispanoamericano.\n\nEsta exposición es un ejemplo d
 el valor del trabajo artesanal y colectivo que caracteriza el Museo Insula
 r\, que ha sabido integrar una tradición tan rica como la mexicana en un 
 contexto palmero\, reforzando los lazos culturales que nos unen con Améri
 ca. Además\, es importante abrir espacios culturales que promuevan el di
 álogo entre las distintas formas de entender la memoria\, la devoción y 
 el arte.\n\nLa muestra rinde homenaje a la Virgen de Guadalupe a través d
 e un altar de muertos mexicano\, donde la pieza central está dedicada a s
 u figura.\n\nLa exposición\, comisariada por la directora del Museo Insul
 ar\, Isabel Santos\, ha sido elaborada íntegramente a mano por el propio 
 personal del centro. Predomina el papel de seda en tonos amarillos y naran
 jas\, formando un techo de papel picado que simboliza el viento\, uno de l
 os elementos tradicionales en los altares de muertos.\n\nEl altar incluye 
 ofrendas y símbolos representativos como la sal\, el agua\, la luz de las
  velas y la flor de cempasúchil\, junto a fotografías de varios artistas
  pertenecientes a las colecciones del museo\, que evocan la memoria de qui
 enes han partido.\n\nLa inauguración contará con la participación de la
  Escuela de Danza Maika Lerín\, del Ayuntamiento de Santa Cruz de La Palm
 a\, que ofrecerá una actuación inspirada en el tradicional baile de muer
 tos.\n\nEsta muestra se suma a otras iniciativas nacionales desarrolladas 
 en torno al Año Jubilar Guadalupense\, como la exposición del Museo del 
 Prado Tan lejos\, tan cerca. Guadalupe de México en España\, que explor
 ó los vínculos artísticos y culturales entre el Virreinato y la metróp
 oli.\n\nMás info en Museo Insular &gt\;&gt\;
ATTACH;FMTTYPE=image/jpeg:https://www.larevistadelapalma.com/wp-content/up
 loads/2025/10/Altar-de-muertos-mexicanos.jpg
CATEGORIES:Exposiciones
LOCATION:Museo Insular de La Palma\, Plaza de San Francisco\, 3\, Santa Cru
 z de La Palma\, 38700\, España
GEO:28.687;-17.762092
X-APPLE-STRUCTURED-LOCATION;VALUE=URI;X-ADDRESS=Plaza de San Francisco\, 3\
 , Santa Cruz de La Palma\, 38700\, España;X-APPLE-RADIUS=100;X-TITLE=Muse
 o Insular de La Palma:geo:28.687,-17.762092
END:VEVENT
END:VCALENDARBEGIN:VCALENDAR
VERSION:2.0
PRODID:-//wp-events-plugin.com//7.2.3.1//EN
TZID:Europe/London
X-WR-TIMEZONE:Europe/London
BEGIN:VEVENT
UID:4025@larevistadelapalma.com
DTSTART:20251016T193000Z
DTEND:20251016T203000Z
DTSTAMP:20251015T162245Z
URL:https://www.larevistadelapalma.com/events/expo-altar-de-muertos-museo-
 insular/
SUMMARY:Inauguración de la exposición ‘Altar de Muertos’\, Museo Insu
 lar
DESCRIPTION:Coincidiendo con las fechas de Finados y Todos los Santos\, la 
 muestra rinde homenaje a la Virgen de Guadalupe a través de un altar de m
 uertos mexicano.\n\nEl Cabildo de La Palma inaugura este jueves\, a las 20
 :30 horas\, la exposición Altar de Muertos en el Museo Insular\, una mu
 estra que une tradición\, espiritualidad y arte en el marco del Año Jubi
 lar Guadalupense.\n\nSe trata de la primera vez que el Museo Insular celeb
 ra una exposición vinculada a esta efeméride\, que conmemora el próximo
  centenario del Jubileo Guadalupense\, otorgado cada 25 años y de gran re
 levancia en el mundo hispanoamericano.\n\nEsta exposición es un ejemplo d
 el valor del trabajo artesanal y colectivo que caracteriza el Museo Insula
 r\, que ha sabido integrar una tradición tan rica como la mexicana en un 
 contexto palmero\, reforzando los lazos culturales que nos unen con Améri
 ca. Además\, es importante abrir espacios culturales que promuevan el di
 álogo entre las distintas formas de entender la memoria\, la devoción y 
 el arte.\n\nLa muestra rinde homenaje a la Virgen de Guadalupe a través d
 e un altar de muertos mexicano\, donde la pieza central está dedicada a s
 u figura.\n\nLa exposición\, comisariada por la directora del Museo Insul
 ar\, Isabel Santos\, ha sido elaborada íntegramente a mano por el propio 
 personal del centro. Predomina el papel de seda en tonos amarillos y naran
 jas\, formando un techo de papel picado que simboliza el viento\, uno de l
 os elementos tradicionales en los altares de muertos.\n\nEl altar incluye 
 ofrendas y símbolos representativos como la sal\, el agua\, la luz de las
  velas y la flor de cempasúchil\, junto a fotografías de varios artistas
  pertenecientes a las colecciones del museo\, que evocan la memoria de qui
 enes han partido.\n\nLa inauguración contará con la participación de la
  Escuela de Danza Maika Lerín\, del Ayuntamiento de Santa Cruz de La Palm
 a\, que ofrecerá una actuación inspirada en el tradicional baile de muer
 tos.\n\nEsta muestra se suma a otras iniciativas nacionales desarrolladas 
 en torno al Año Jubilar Guadalupense\, como la exposición del Museo del 
 Prado Tan lejos\, tan cerca. Guadalupe de México en España\, que explor
 ó los vínculos artísticos y culturales entre el Virreinato y la metróp
 oli.\n\nMás info en Museo Insular &gt\;&gt\;
ATTACH;FMTTYPE=image/jpeg:https://www.larevistadelapalma.com/wp-content/up
 loads/2025/10/Altar-de-muertos-mexicanos.jpg
CATEGORIES:Exposiciones
LOCATION:Museo Insular de La Palma\, Plaza de San Francisco\, 3\, Santa Cru
 z de La Palma\, 38700\, España
GEO:28.687;-17.762092
X-APPLE-STRUCTURED-LOCATION;VALUE=URI;X-ADDRESS=Plaza de San Francisco\, 3\
 , Santa Cruz de La Palma\, 38700\, España;X-APPLE-RADIUS=100;X-TITLE=Muse
 o Insular de La Palma:geo:28.687,-17.762092
END:VEVENT
END:VCALENDAR