BEGIN:VCALENDAR
VERSION:2.0
PRODID:-//wp-events-plugin.com//7.2.3.1//EN
TZID:Europe/London
X-WR-TIMEZONE:Europe/London
BEGIN:VEVENT
UID:3099@larevistadelapalma.com
DTSTART;VALUE=DATE:20240701
DTEND;VALUE=DATE:20240716
DTSTAMP:20240704T213202Z
URL:https://www.larevistadelapalma.com/events/expo-amigos-pintores-las-bre
 nas-sala-odaly-2/
SUMMARY:Exposición colectiva de Amigos Pintores de las Breñas en la Sala 
 O'Daly
DESCRIPTION:La sala capitalina acoge una muestra de pintura del colectivo A
 migos Pintores de Las Breñas. Hasta el 15 de julio podremos ver esta mues
 tra de varios miembros del colectivo\, pero con una misma temática. ¿Adi
 vinan cuál?\n\nHorario:\n\n 	De lunes a viernes de 10:30 a 13:30 horas y 
 de 17:00 a 20:30 horas.\n 	Sábados de 10:30 a 13:30 horas.\n\n\n\n\n\n\n\
 n\n\n&nbsp\;\n\n&nbsp\;\n\n&nbsp\;\n\n&nbsp\;\n\n&nbsp\;\n\n&nbsp\;\n\n&nb
 sp\;\n\n&nbsp\;\n\n&nbsp\;
ATTACH;FMTTYPE=image/jpeg:https://www.larevistadelapalma.com/wp-content/up
 loads/2024/07/Amigos-Pintores-de-Las-Brenas-4.jpg
CATEGORIES:Exposiciones
LOCATION:Sala O'Daly\, C. O'Daly\, 2\, \, Santa Cruz de La Palma \, 38700\,
  España
GEO:28.68306;-17.765032
X-APPLE-STRUCTURED-LOCATION;VALUE=URI;X-ADDRESS=C. O'Daly\, 2\, \, Santa Cr
 uz de La Palma \, 38700\, España;X-APPLE-RADIUS=100;X-TITLE=Sala O'Daly:g
 eo:28.68306,-17.765032
END:VEVENT
END:VCALENDARBEGIN:VCALENDAR
VERSION:2.0
PRODID:-//wp-events-plugin.com//7.2.3.1//EN
TZID:Europe/London
X-WR-TIMEZONE:Europe/London
BEGIN:VEVENT
UID:3099@larevistadelapalma.com
DTSTART;VALUE=DATE:20240701
DTEND;VALUE=DATE:20240716
DTSTAMP:20240704T213202Z
URL:https://www.larevistadelapalma.com/events/expo-amigos-pintores-las-bre
 nas-sala-odaly-2/
SUMMARY:Exposición colectiva de Amigos Pintores de las Breñas en la Sala 
 O'Daly
DESCRIPTION:La sala capitalina acoge una muestra de pintura del colectivo A
 migos Pintores de Las Breñas. Hasta el 15 de julio podremos ver esta mues
 tra de varios miembros del colectivo\, pero con una misma temática. ¿Adi
 vinan cuál?\n\nHorario:\n\n 	De lunes a viernes de 10:30 a 13:30 horas y 
 de 17:00 a 20:30 horas.\n 	Sábados de 10:30 a 13:30 horas.\n\n\n\n\n\n\n\
 n\n\n&nbsp\;\n\n&nbsp\;\n\n&nbsp\;\n\n&nbsp\;\n\n&nbsp\;\n\n&nbsp\;\n\n&nb
 sp\;\n\n&nbsp\;\n\n&nbsp\;
ATTACH;FMTTYPE=image/jpeg:https://www.larevistadelapalma.com/wp-content/up
 loads/2024/07/Amigos-Pintores-de-Las-Brenas-4.jpg
CATEGORIES:Exposiciones
LOCATION:Sala O'Daly\, C. O'Daly\, 2\, \, Santa Cruz de La Palma \, 38700\,
  España
GEO:28.68306;-17.765032
X-APPLE-STRUCTURED-LOCATION;VALUE=URI;X-ADDRESS=C. O'Daly\, 2\, \, Santa Cr
 uz de La Palma \, 38700\, España;X-APPLE-RADIUS=100;X-TITLE=Sala O'Daly:g
 eo:28.68306,-17.765032
END:VEVENT
END:VCALENDAR