BEGIN:VCALENDAR
VERSION:2.0
PRODID:-//wp-events-plugin.com//7.2.3.1//EN
TZID:Europe/London
X-WR-TIMEZONE:Europe/London
BEGIN:VEVENT
UID:3636@larevistadelapalma.com
DTSTART;VALUE=DATE:20250304
DTEND;VALUE=DATE:20250316
DTSTAMP:20250307T210341Z
URL:https://www.larevistadelapalma.com/events/expo-colectiva-sala-odaly/
SUMMARY:"Resiliencia": Exposición colectiva en la sala O’Daly
DESCRIPTION:Una muestra colectiva dedicada a la mujer y titulada "Resilienc
 ia"\, con obras fotografía y pintura de artistas de La Palma\, Tenerife\,
  Berlín\, Málaga y Galicia.
ATTACH;FMTTYPE=image/jpeg:https://www.larevistadelapalma.com/wp-content/up
 loads/2025/03/Colectiva-Odaly-cartel.jpg
CATEGORIES:Exposiciones
LOCATION:Sala O'Daly\, C. O'Daly\, 2\, \, Santa Cruz de La Palma \, 38700\,
  España
GEO:28.68306;-17.765032
X-APPLE-STRUCTURED-LOCATION;VALUE=URI;X-ADDRESS=C. O'Daly\, 2\, \, Santa Cr
 uz de La Palma \, 38700\, España;X-APPLE-RADIUS=100;X-TITLE=Sala O'Daly:g
 eo:28.68306,-17.765032
END:VEVENT
END:VCALENDARBEGIN:VCALENDAR
VERSION:2.0
PRODID:-//wp-events-plugin.com//7.2.3.1//EN
TZID:Europe/London
X-WR-TIMEZONE:Europe/London
BEGIN:VEVENT
UID:3636@larevistadelapalma.com
DTSTART;VALUE=DATE:20250304
DTEND;VALUE=DATE:20250316
DTSTAMP:20250307T210341Z
URL:https://www.larevistadelapalma.com/events/expo-colectiva-sala-odaly/
SUMMARY:"Resiliencia": Exposición colectiva en la sala O’Daly
DESCRIPTION:Una muestra colectiva dedicada a la mujer y titulada "Resilienc
 ia"\, con obras fotografía y pintura de artistas de La Palma\, Tenerife\,
  Berlín\, Málaga y Galicia.
ATTACH;FMTTYPE=image/jpeg:https://www.larevistadelapalma.com/wp-content/up
 loads/2025/03/Colectiva-Odaly-cartel.jpg
CATEGORIES:Exposiciones
LOCATION:Sala O'Daly\, C. O'Daly\, 2\, \, Santa Cruz de La Palma \, 38700\,
  España
GEO:28.68306;-17.765032
X-APPLE-STRUCTURED-LOCATION;VALUE=URI;X-ADDRESS=C. O'Daly\, 2\, \, Santa Cr
 uz de La Palma \, 38700\, España;X-APPLE-RADIUS=100;X-TITLE=Sala O'Daly:g
 eo:28.68306,-17.765032
END:VEVENT
END:VCALENDAR