BEGIN:VCALENDAR
VERSION:2.0
PRODID:-//wp-events-plugin.com//7.2.3.1//EN
TZID:Europe/London
X-WR-TIMEZONE:Europe/London
BEGIN:VEVENT
UID:4028@larevistadelapalma.com
DTSTART;VALUE=DATE:20251020
DTEND;VALUE=DATE:20251123
DTSTAMP:20251020T092849Z
URL:https://www.larevistadelapalma.com/events/expo-el-patricio-irlandes-y-
 el-letrado-garafiano-la-palma-cuna-de-la-primera-democracia/
SUMMARY:Expo: El patricio irlandés y el letrado garafiano: La Palma\, cuna
  de la primera Democracia.
DESCRIPTION:La Diputación del Común continúa con sus actos por el 40 Ani
 versario en La Palma.\n\nEl local de la sociedad La Investigadora del Casi
 no de Santa Cruz de La Palma\, acoge desde este lunes la exposición con e
 l título El patricio irlandés y el letrado garafiano: La Palma\, cuna d
 e la primera Democracia.  Con esta exposición que inaugurará la Diputad
 a del Común\, Lola Padrón\, a las 18.00 horas y una charla ofrecida por 
 el periodista Luis Ortega\, dará comienzo una nueva actividad dentro de l
 os actos que la institución viene celebrando con motivo de su 40 aniversa
 rio.\n\nDe un lado se celebran los 250 años en que a partir de la senten
 cia de 2 de enero de 1773 los cargos municipales fueron elegidos por sufra
 gio censitario\, referente temprano de participación ciudadana y democrac
 ia local en nuestro país\, un hito que ha marcado no solo la existencia d
 e la Diputación del Común\, sino el inicio de un cambio de transcendenci
 a que viene siendo posible desde finales del siglo XVII hasta nuestros dí
 as. De otro lado\, se celebra también el nacimiento hace 100 años de Lui
 s Cobiella Cuevas\, músico\, poeta\, humanista\, primer Diputado del Com
 ún de Canarias y premio Canarias de Bellas Artes 2002.\nUna exposición q
 ue escenifica el pleito de los regidores perpetuos y la constitución del 
 primer ayuntamiento elegido por sufragio censitario en España.\nEl propó
 sito de la exposición es poner en valor dos figuras señeras\, Dionisio O
 ´Daly y Anselmo Pérez de Brito\, que en la segunda mitad del siglo XVIII
  tuvieron una gran relevancia\, constituyendo un hito\, que ha quedado par
 a los anales de la historia de la isla de La Palma\, Canarias y de España
  en general.  A raíz de las disposiciones del rey Carlos III en 1766\,
  y la coincidencia en el tiempo del comerciante irlandés con el abogado 
 garafiano\, además de la coligación con otras personas ocupadas en una c
 ausa común\, posibilitaron ese año la celebración de las elecciones a 
 los cargos municipales de diputados y personeros. Estas elecciones derivar
 on en un largo y enconado pleito que finalizó con la sentencia de 1773 y 
 la consiguiente destitución de los regidores perpetuos\, que fueron susti
 tuidos por los nuevos cargos elegidos con carácter bienal.\n\nHabrá pane
 les explicativos que resumen ese gran legado histórico\, mobiliario\, una
  escribanía y también los primeros originales del auto acordado en 1776 
 por Carlos III tras el Motín de Esquilache y planos de la época.\nOtros 
 actos\nEl lunes 20\, también a las 19.30 dará lugar una charla sobre la 
 visión cercana de Luis Cobiella de la mano de Juan Capote y Anelio Rodrí
 guez Concepción. La seguirán al día siguiente charlas de Luis Ortega\, 
 con el título Notas al margen de verano en Breña alta y Conversaciones
  en torno a una mesa de trabajo con Mauro Fernández.\n\nEl viernes 24\, 
 a partir de las 19.30 horas Inmaculada Marrero y María Nieves Santo con s
 u Opus 225\, Luis Cobiella\, Músico llenarán la sala dando pie al recit
 al poético de la histórica escritora Elsa López. El sábado finalizará
 n los actos con el Carro alegórico de las orillas de Dios al corazón de
  María de Antonio Tabares y Gonzalo Cabrera.\n\nEstos actos han contado 
 con la colaboración del Parlamento de Canarias\, del Cabildo Insular de L
 a Palma\, del ayuntamiento de Santa Cruz\, de la Sociedad La Investigadora
  y de Manuel Rodríguez Acosta\, SL
ATTACH;FMTTYPE=image/jpeg:https://www.larevistadelapalma.com/wp-content/up
 loads/2025/10/Expo-el-patricio-irlandes-aniversario-diputado-del-comun.jpe
 g
CATEGORIES:Exposiciones
LOCATION:Casino de Santa Cruz de La Palma\,  C. Anselmo Pérez de Brito\, 1
 5\, Santa Cruz De La Palma\, Santa Cruz de Tenerife\, 38700\, España
GEO:28.684234;-17.7638
X-APPLE-STRUCTURED-LOCATION;VALUE=URI;X-ADDRESS= C. Anselmo Pérez de Brito
 \, 15\, Santa Cruz De La Palma\, Santa Cruz de Tenerife\, 38700\, España;
 X-APPLE-RADIUS=100;X-TITLE=Casino de Santa Cruz de La Palma:geo:28.684234,
 -17.7638
END:VEVENT
END:VCALENDARBEGIN:VCALENDAR
VERSION:2.0
PRODID:-//wp-events-plugin.com//7.2.3.1//EN
TZID:Europe/London
X-WR-TIMEZONE:Europe/London
BEGIN:VEVENT
UID:4028@larevistadelapalma.com
DTSTART;VALUE=DATE:20251020
DTEND;VALUE=DATE:20251123
DTSTAMP:20251020T092849Z
URL:https://www.larevistadelapalma.com/events/expo-el-patricio-irlandes-y-
 el-letrado-garafiano-la-palma-cuna-de-la-primera-democracia/
SUMMARY:Expo: El patricio irlandés y el letrado garafiano: La Palma\, cuna
  de la primera Democracia.
DESCRIPTION:La Diputación del Común continúa con sus actos por el 40 Ani
 versario en La Palma.\n\nEl local de la sociedad La Investigadora del Casi
 no de Santa Cruz de La Palma\, acoge desde este lunes la exposición con e
 l título El patricio irlandés y el letrado garafiano: La Palma\, cuna d
 e la primera Democracia.  Con esta exposición que inaugurará la Diputad
 a del Común\, Lola Padrón\, a las 18.00 horas y una charla ofrecida por 
 el periodista Luis Ortega\, dará comienzo una nueva actividad dentro de l
 os actos que la institución viene celebrando con motivo de su 40 aniversa
 rio.\n\nDe un lado se celebran los 250 años en que a partir de la senten
 cia de 2 de enero de 1773 los cargos municipales fueron elegidos por sufra
 gio censitario\, referente temprano de participación ciudadana y democrac
 ia local en nuestro país\, un hito que ha marcado no solo la existencia d
 e la Diputación del Común\, sino el inicio de un cambio de transcendenci
 a que viene siendo posible desde finales del siglo XVII hasta nuestros dí
 as. De otro lado\, se celebra también el nacimiento hace 100 años de Lui
 s Cobiella Cuevas\, músico\, poeta\, humanista\, primer Diputado del Com
 ún de Canarias y premio Canarias de Bellas Artes 2002.\nUna exposición q
 ue escenifica el pleito de los regidores perpetuos y la constitución del 
 primer ayuntamiento elegido por sufragio censitario en España.\nEl propó
 sito de la exposición es poner en valor dos figuras señeras\, Dionisio O
 ´Daly y Anselmo Pérez de Brito\, que en la segunda mitad del siglo XVIII
  tuvieron una gran relevancia\, constituyendo un hito\, que ha quedado par
 a los anales de la historia de la isla de La Palma\, Canarias y de España
  en general.  A raíz de las disposiciones del rey Carlos III en 1766\,
  y la coincidencia en el tiempo del comerciante irlandés con el abogado 
 garafiano\, además de la coligación con otras personas ocupadas en una c
 ausa común\, posibilitaron ese año la celebración de las elecciones a 
 los cargos municipales de diputados y personeros. Estas elecciones derivar
 on en un largo y enconado pleito que finalizó con la sentencia de 1773 y 
 la consiguiente destitución de los regidores perpetuos\, que fueron susti
 tuidos por los nuevos cargos elegidos con carácter bienal.\n\nHabrá pane
 les explicativos que resumen ese gran legado histórico\, mobiliario\, una
  escribanía y también los primeros originales del auto acordado en 1776 
 por Carlos III tras el Motín de Esquilache y planos de la época.\nOtros 
 actos\nEl lunes 20\, también a las 19.30 dará lugar una charla sobre la 
 visión cercana de Luis Cobiella de la mano de Juan Capote y Anelio Rodrí
 guez Concepción. La seguirán al día siguiente charlas de Luis Ortega\, 
 con el título Notas al margen de verano en Breña alta y Conversaciones
  en torno a una mesa de trabajo con Mauro Fernández.\n\nEl viernes 24\, 
 a partir de las 19.30 horas Inmaculada Marrero y María Nieves Santo con s
 u Opus 225\, Luis Cobiella\, Músico llenarán la sala dando pie al recit
 al poético de la histórica escritora Elsa López. El sábado finalizará
 n los actos con el Carro alegórico de las orillas de Dios al corazón de
  María de Antonio Tabares y Gonzalo Cabrera.\n\nEstos actos han contado 
 con la colaboración del Parlamento de Canarias\, del Cabildo Insular de L
 a Palma\, del ayuntamiento de Santa Cruz\, de la Sociedad La Investigadora
  y de Manuel Rodríguez Acosta\, SL
ATTACH;FMTTYPE=image/jpeg:https://www.larevistadelapalma.com/wp-content/up
 loads/2025/10/Expo-el-patricio-irlandes-aniversario-diputado-del-comun.jpe
 g
CATEGORIES:Exposiciones
LOCATION:Casino de Santa Cruz de La Palma\,  C. Anselmo Pérez de Brito\, 1
 5\, Santa Cruz De La Palma\, Santa Cruz de Tenerife\, 38700\, España
GEO:28.684234;-17.7638
X-APPLE-STRUCTURED-LOCATION;VALUE=URI;X-ADDRESS= C. Anselmo Pérez de Brito
 \, 15\, Santa Cruz De La Palma\, Santa Cruz de Tenerife\, 38700\, España;
 X-APPLE-RADIUS=100;X-TITLE=Casino de Santa Cruz de La Palma:geo:28.684234,
 -17.7638
END:VEVENT
END:VCALENDAR