BEGIN:VCALENDAR
VERSION:2.0
PRODID:-//wp-events-plugin.com//7.2.3.1//EN
TZID:Europe/London
X-WR-TIMEZONE:Europe/London
BEGIN:VEVENT
UID:3519@larevistadelapalma.com
DTSTART;VALUE=DATE:20241216
DTEND;VALUE=DATE:20250101
DTSTAMP:20241217T195206Z
URL:https://www.larevistadelapalma.com/events/expo-kathrin-switala-tijaraf
 e/
SUMMARY:"Infinito en movimiento": exposición de Kathrin Switala en Tijaraf
 e
DESCRIPTION:La sala de exposiciones de Tijarafe\, Casa del Maestro\, estren
 a expsición de la artista Kathrin Switala\, que se podrá visitar hasta e
 l 31 de diciembre de 2024\, en el horario de la oficina de información tu
 rística.\n\nLas actividades creativas y especialmente la pintura siempre 
 fueron una parte importante de la vida de esta artista\, que más tarde se
  formó en diseño de medios digitales e impresos en la Academia de Edici
 ón Electrónica de Hamburgo.\n\nLa mayoría de las obras de Kathrin está
 n realizadas en acrílico o técnica mixta\, pero también en óleo sobre 
 lienzo. Al crear sus obras\, utiliza una gran variedad de herramientas y t
 ambién le gusta utilizar ayudas y materiales poco convencionales\, que so
 n excelentes para usar en acrílico y así crear siempre nuevas piezas ún
 icas.\n\nHorario:\n\nLunes-viernes: 9:30-15:30 horas\nSábados\, domingos:
  10:00-14:00 horas
ATTACH;FMTTYPE=image/jpeg:https://www.larevistadelapalma.com/wp-content/up
 loads/2024/12/Kathrin-Switala-expo-Tijarafe.jpg
CATEGORIES:Exposiciones
LOCATION:Oficina de información turística de Tijarafe\, Calle Real\, 11\,
  Tijarafe\, 38780 \, España
GEO:28.710798;-17.955469
X-APPLE-STRUCTURED-LOCATION;VALUE=URI;X-ADDRESS=Calle Real\, 11\, Tijarafe\
 , 38780 \, España;X-APPLE-RADIUS=100;X-TITLE=Oficina de información tur
 ística de Tijarafe:geo:28.710798,-17.955469
END:VEVENT
END:VCALENDARBEGIN:VCALENDAR
VERSION:2.0
PRODID:-//wp-events-plugin.com//7.2.3.1//EN
TZID:Europe/London
X-WR-TIMEZONE:Europe/London
BEGIN:VEVENT
UID:3519@larevistadelapalma.com
DTSTART;VALUE=DATE:20241216
DTEND;VALUE=DATE:20250101
DTSTAMP:20241217T195206Z
URL:https://www.larevistadelapalma.com/events/expo-kathrin-switala-tijaraf
 e/
SUMMARY:"Infinito en movimiento": exposición de Kathrin Switala en Tijaraf
 e
DESCRIPTION:La sala de exposiciones de Tijarafe\, Casa del Maestro\, estren
 a expsición de la artista Kathrin Switala\, que se podrá visitar hasta e
 l 31 de diciembre de 2024\, en el horario de la oficina de información tu
 rística.\n\nLas actividades creativas y especialmente la pintura siempre 
 fueron una parte importante de la vida de esta artista\, que más tarde se
  formó en diseño de medios digitales e impresos en la Academia de Edici
 ón Electrónica de Hamburgo.\n\nLa mayoría de las obras de Kathrin está
 n realizadas en acrílico o técnica mixta\, pero también en óleo sobre 
 lienzo. Al crear sus obras\, utiliza una gran variedad de herramientas y t
 ambién le gusta utilizar ayudas y materiales poco convencionales\, que so
 n excelentes para usar en acrílico y así crear siempre nuevas piezas ún
 icas.\n\nHorario:\n\nLunes-viernes: 9:30-15:30 horas\nSábados\, domingos:
  10:00-14:00 horas
ATTACH;FMTTYPE=image/jpeg:https://www.larevistadelapalma.com/wp-content/up
 loads/2024/12/Kathrin-Switala-expo-Tijarafe.jpg
CATEGORIES:Exposiciones
LOCATION:Oficina de información turística de Tijarafe\, Calle Real\, 11\,
  Tijarafe\, 38780 \, España
GEO:28.710798;-17.955469
X-APPLE-STRUCTURED-LOCATION;VALUE=URI;X-ADDRESS=Calle Real\, 11\, Tijarafe\
 , 38780 \, España;X-APPLE-RADIUS=100;X-TITLE=Oficina de información tur
 ística de Tijarafe:geo:28.710798,-17.955469
END:VEVENT
END:VCALENDAR