BEGIN:VCALENDAR
VERSION:2.0
PRODID:-//wp-events-plugin.com//7.2.3.1//EN
TZID:Europe/London
X-WR-TIMEZONE:Europe/London
BEGIN:VEVENT
UID:2960@larevistadelapalma.com
DTSTART;VALUE=DATE:20240502
DTEND;VALUE=DATE:20240515
DTSTAMP:20240506T203643Z
URL:https://www.larevistadelapalma.com/events/expo-la-maquina-creadora-naz
 a-martin-en-la-sala-odaly/
SUMMARY:Exposición “La Máquina Creadora” por Naza Martín\, en la Sal
 a O'Daly
DESCRIPTION:El día 2 de mayo\, a las 18:30 horas\, se inaugura la exposici
 ón “La Máquina Creadora” por la artista Naza Martín\, en la Sala O 
 ´Daly\, en Santa Cruz de La Palma.\n"Me apetece un montón que se acerque
 n durante estos días a visitar la sala porque creo que será una experien
 cia gratificante. La obra que estará expuesta está realizada con mucho m
 imo y durante dos años de mi vida. Compaginando maternidad y mi pasión p
 or las artes.\n\nEspero que quién visite la exposición le llene\, le com
 unique\, muestre interés. Solo deseo que entren y se les despierte un mun
 do imaginario donde poder crear sus propios mundos.\n\nDurante la exposici
 ón haré videos\, fotos y directos. Me gustaría poder llevar este mundo 
 de La Máquina Creadora más allá de los límites de la isla. La Palma\, 
 paraíso maravilloso. Me inspira. Las redes sociales me han dejado llevar 
 mi obra lejos. Así que agradecida a las tecnologías por dejarme volar.\n
 \nTe invito a unirte a mi mundo y que formes parte de él. Un mundo difere
 nte. Donde encontrarás mi trabajo más reciente “Catalogo de especies
 ”\, dibujos con rotulares de tinta china. Llenos de líneas que conforma
 n una fauna ficticia.\n\nTe espero en la Sala O ´Daly del 2 al 14 de mayo
  de 2024. No faltes. Te llevaras una buena experiencia a casa. Un mundo ll
 eno de imaginación\, creatividad y fantasía. Te dejo que entres en mi mu
 ndo."\nNaza Martín.\n\n\n\n\n
ATTACH;FMTTYPE=image/jpeg:https://www.larevistadelapalma.com/wp-content/up
 loads/2024/04/Naza-Martin-Expo.jpg
CATEGORIES:Exposiciones
LOCATION:Sala O'Daly\, C. O'Daly\, 2\, \, Santa Cruz de La Palma \, 38700\,
  España
GEO:28.68306;-17.765032
X-APPLE-STRUCTURED-LOCATION;VALUE=URI;X-ADDRESS=C. O'Daly\, 2\, \, Santa Cr
 uz de La Palma \, 38700\, España;X-APPLE-RADIUS=100;X-TITLE=Sala O'Daly:g
 eo:28.68306,-17.765032
END:VEVENT
END:VCALENDARBEGIN:VCALENDAR
VERSION:2.0
PRODID:-//wp-events-plugin.com//7.2.3.1//EN
TZID:Europe/London
X-WR-TIMEZONE:Europe/London
BEGIN:VEVENT
UID:2960@larevistadelapalma.com
DTSTART;VALUE=DATE:20240502
DTEND;VALUE=DATE:20240515
DTSTAMP:20240506T203643Z
URL:https://www.larevistadelapalma.com/events/expo-la-maquina-creadora-naz
 a-martin-en-la-sala-odaly/
SUMMARY:Exposición “La Máquina Creadora” por Naza Martín\, en la Sal
 a O'Daly
DESCRIPTION:El día 2 de mayo\, a las 18:30 horas\, se inaugura la exposici
 ón “La Máquina Creadora” por la artista Naza Martín\, en la Sala O 
 ´Daly\, en Santa Cruz de La Palma.\n"Me apetece un montón que se acerque
 n durante estos días a visitar la sala porque creo que será una experien
 cia gratificante. La obra que estará expuesta está realizada con mucho m
 imo y durante dos años de mi vida. Compaginando maternidad y mi pasión p
 or las artes.\n\nEspero que quién visite la exposición le llene\, le com
 unique\, muestre interés. Solo deseo que entren y se les despierte un mun
 do imaginario donde poder crear sus propios mundos.\n\nDurante la exposici
 ón haré videos\, fotos y directos. Me gustaría poder llevar este mundo 
 de La Máquina Creadora más allá de los límites de la isla. La Palma\, 
 paraíso maravilloso. Me inspira. Las redes sociales me han dejado llevar 
 mi obra lejos. Así que agradecida a las tecnologías por dejarme volar.\n
 \nTe invito a unirte a mi mundo y que formes parte de él. Un mundo difere
 nte. Donde encontrarás mi trabajo más reciente “Catalogo de especies
 ”\, dibujos con rotulares de tinta china. Llenos de líneas que conforma
 n una fauna ficticia.\n\nTe espero en la Sala O ´Daly del 2 al 14 de mayo
  de 2024. No faltes. Te llevaras una buena experiencia a casa. Un mundo ll
 eno de imaginación\, creatividad y fantasía. Te dejo que entres en mi mu
 ndo."\nNaza Martín.\n\n\n\n\n
ATTACH;FMTTYPE=image/jpeg:https://www.larevistadelapalma.com/wp-content/up
 loads/2024/04/Naza-Martin-Expo.jpg
CATEGORIES:Exposiciones
LOCATION:Sala O'Daly\, C. O'Daly\, 2\, \, Santa Cruz de La Palma \, 38700\,
  España
GEO:28.68306;-17.765032
X-APPLE-STRUCTURED-LOCATION;VALUE=URI;X-ADDRESS=C. O'Daly\, 2\, \, Santa Cr
 uz de La Palma \, 38700\, España;X-APPLE-RADIUS=100;X-TITLE=Sala O'Daly:g
 eo:28.68306,-17.765032
END:VEVENT
END:VCALENDAR