BEGIN:VCALENDAR
VERSION:2.0
PRODID:-//wp-events-plugin.com//7.2.3.1//EN
TZID:Europe/London
X-WR-TIMEZONE:Europe/London
BEGIN:VEVENT
UID:3505@larevistadelapalma.com
DTSTART;VALUE=DATE:20241217
DTEND;VALUE=DATE:20241222
DTSTAMP:20241216T135246Z
URL:https://www.larevistadelapalma.com/events/expo-laura-lofill-barlovento
 /
SUMMARY:Exposición de Laura Lofill\, en Barlovento
DESCRIPTION:La inauguración estaba prevista para el lunes 16\, pero se pos
 pone a mañana martes día 17.\n\nLaura Lofill presenta su exposición "Un
  lugar entre salitre y memoria"\, que se podrá visitar en la sala de Arte
  del casco urbano\, en horario de 17:00 a 20.00 horas.
ATTACH;FMTTYPE=image/jpeg:https://www.larevistadelapalma.com/wp-content/up
 loads/2024/12/Expo-Laura-Lofill.jpg
CATEGORIES:Exposiciones
LOCATION:Municipio de Barlovento\, Barlovento\, Barlovento\, 38726\, Españ
 a
GEO:28.834132;-17.805077
X-APPLE-STRUCTURED-LOCATION;VALUE=URI;X-ADDRESS=Barlovento\, Barlovento\, 3
 8726\, España;X-APPLE-RADIUS=100;X-TITLE=Municipio de Barlovento:geo:28.8
 34132,-17.805077
END:VEVENT
END:VCALENDARBEGIN:VCALENDAR
VERSION:2.0
PRODID:-//wp-events-plugin.com//7.2.3.1//EN
TZID:Europe/London
X-WR-TIMEZONE:Europe/London
BEGIN:VEVENT
UID:3505@larevistadelapalma.com
DTSTART;VALUE=DATE:20241217
DTEND;VALUE=DATE:20241222
DTSTAMP:20241216T135246Z
URL:https://www.larevistadelapalma.com/events/expo-laura-lofill-barlovento
 /
SUMMARY:Exposición de Laura Lofill\, en Barlovento
DESCRIPTION:La inauguración estaba prevista para el lunes 16\, pero se pos
 pone a mañana martes día 17.\n\nLaura Lofill presenta su exposición "Un
  lugar entre salitre y memoria"\, que se podrá visitar en la sala de Arte
  del casco urbano\, en horario de 17:00 a 20.00 horas.
ATTACH;FMTTYPE=image/jpeg:https://www.larevistadelapalma.com/wp-content/up
 loads/2024/12/Expo-Laura-Lofill.jpg
CATEGORIES:Exposiciones
LOCATION:Municipio de Barlovento\, Barlovento\, Barlovento\, 38726\, Españ
 a
GEO:28.834132;-17.805077
X-APPLE-STRUCTURED-LOCATION;VALUE=URI;X-ADDRESS=Barlovento\, Barlovento\, 3
 8726\, España;X-APPLE-RADIUS=100;X-TITLE=Municipio de Barlovento:geo:28.8
 34132,-17.805077
END:VEVENT
END:VCALENDAR