BEGIN:VCALENDAR
VERSION:2.0
PRODID:-//wp-events-plugin.com//7.2.3.1//EN
TZID:Europe/London
X-WR-TIMEZONE:Europe/London
BEGIN:VEVENT
UID:146@larevistadelapalma.com
DTSTART;VALUE=DATE:20230701
DTEND;VALUE=DATE:20230716
DTSTAMP:20230706T153803Z
URL:https://www.larevistadelapalma.com/events/expo-mandelearte-de-womandal
 a/
SUMMARY:Exposición "Mandelearte" de Womandala\, en Tijarafe
DESCRIPTION:Exposición "Mandelearte" de "Womandala"\, hasta el 15 de julio
ATTACH;FMTTYPE=image/jpeg:https://www.larevistadelapalma.com/wp-content/up
 loads/2023/07/womandala.jpg
CATEGORIES:Exposiciones
LOCATION:Oficina de información turística de Tijarafe\, Calle Real\, 11\,
  Tijarafe\, 38780 \, España
GEO:28.710798;-17.955469
X-APPLE-STRUCTURED-LOCATION;VALUE=URI;X-ADDRESS=Calle Real\, 11\, Tijarafe\
 , 38780 \, España;X-APPLE-RADIUS=100;X-TITLE=Oficina de información tur
 ística de Tijarafe:geo:28.710798,-17.955469
END:VEVENT
END:VCALENDARBEGIN:VCALENDAR
VERSION:2.0
PRODID:-//wp-events-plugin.com//7.2.3.1//EN
TZID:Europe/London
X-WR-TIMEZONE:Europe/London
BEGIN:VEVENT
UID:146@larevistadelapalma.com
DTSTART;VALUE=DATE:20230701
DTEND;VALUE=DATE:20230716
DTSTAMP:20230706T153803Z
URL:https://www.larevistadelapalma.com/events/expo-mandelearte-de-womandal
 a/
SUMMARY:Exposición "Mandelearte" de Womandala\, en Tijarafe
DESCRIPTION:Exposición "Mandelearte" de "Womandala"\, hasta el 15 de julio
ATTACH;FMTTYPE=image/jpeg:https://www.larevistadelapalma.com/wp-content/up
 loads/2023/07/womandala.jpg
CATEGORIES:Exposiciones
LOCATION:Oficina de información turística de Tijarafe\, Calle Real\, 11\,
  Tijarafe\, 38780 \, España
GEO:28.710798;-17.955469
X-APPLE-STRUCTURED-LOCATION;VALUE=URI;X-ADDRESS=Calle Real\, 11\, Tijarafe\
 , 38780 \, España;X-APPLE-RADIUS=100;X-TITLE=Oficina de información tur
 ística de Tijarafe:geo:28.710798,-17.955469
END:VEVENT
END:VCALENDAR