BEGIN:VCALENDAR
VERSION:2.0
PRODID:-//wp-events-plugin.com//7.2.3.1//EN
TZID:Europe/London
X-WR-TIMEZONE:Europe/London
BEGIN:VEVENT
UID:117@larevistadelapalma.com
DTSTART;VALUE=DATE:20230701
DTEND;VALUE=DATE:20230716
DTSTAMP:20230703T113236Z
URL:https://www.larevistadelapalma.com/events/expo-maria-caro/
SUMMARY:Exposición "El tornaviaje" de María Caro
DESCRIPTION:Una oda a la isla donde se ven las influencias de viajes a Cent
 roamérica y África\, la expresión de una realidad desbordante de color 
 y vida.
ATTACH;FMTTYPE=image/jpeg:https://www.larevistadelapalma.com/wp-content/up
 loads/2023/06/Expo-Maria-Caro.jpeg
CATEGORIES:Exposiciones
LOCATION:Sala O'Daly\, C. O'Daly\, 2\, \, Santa Cruz de La Palma \, 38700\,
  España
GEO:28.68306;-17.765032
X-APPLE-STRUCTURED-LOCATION;VALUE=URI;X-ADDRESS=C. O'Daly\, 2\, \, Santa Cr
 uz de La Palma \, 38700\, España;X-APPLE-RADIUS=100;X-TITLE=Sala O'Daly:g
 eo:28.68306,-17.765032
END:VEVENT
END:VCALENDARBEGIN:VCALENDAR
VERSION:2.0
PRODID:-//wp-events-plugin.com//7.2.3.1//EN
TZID:Europe/London
X-WR-TIMEZONE:Europe/London
BEGIN:VEVENT
UID:117@larevistadelapalma.com
DTSTART;VALUE=DATE:20230701
DTEND;VALUE=DATE:20230716
DTSTAMP:20230703T113236Z
URL:https://www.larevistadelapalma.com/events/expo-maria-caro/
SUMMARY:Exposición "El tornaviaje" de María Caro
DESCRIPTION:Una oda a la isla donde se ven las influencias de viajes a Cent
 roamérica y África\, la expresión de una realidad desbordante de color 
 y vida.
ATTACH;FMTTYPE=image/jpeg:https://www.larevistadelapalma.com/wp-content/up
 loads/2023/06/Expo-Maria-Caro.jpeg
CATEGORIES:Exposiciones
LOCATION:Sala O'Daly\, C. O'Daly\, 2\, \, Santa Cruz de La Palma \, 38700\,
  España
GEO:28.68306;-17.765032
X-APPLE-STRUCTURED-LOCATION;VALUE=URI;X-ADDRESS=C. O'Daly\, 2\, \, Santa Cr
 uz de La Palma \, 38700\, España;X-APPLE-RADIUS=100;X-TITLE=Sala O'Daly:g
 eo:28.68306,-17.765032
END:VEVENT
END:VCALENDAR