BEGIN:VCALENDAR
VERSION:2.0
PRODID:-//wp-events-plugin.com//7.2.3.1//EN
TZID:Europe/London
X-WR-TIMEZONE:Europe/London
BEGIN:VEVENT
UID:728@larevistadelapalma.com
DTSTART;VALUE=DATE:20231006
DTEND;VALUE=DATE:20231119
DTSTAMP:20231003T175512Z
URL:https://www.larevistadelapalma.com/events/expo-miradas-pictoricas-miri
 am-gonzalez-alvarez/
SUMMARY:Exposición “Miradas Pictóricas” de Miriam González Álvarez
DESCRIPTION:\nVilla de Mazo inaugurará el viernes 6 de octubre a las 20:00
  horas la exposición “Miradas Pictóricas” de la artista Miriam Gonz
 ález Álvarez en el Museo Casa Roja.\n\nMiriam es escritora. En 2019 obti
 ene la Beca Jóvenes Talentos en la Escuela Contemporánea de Humanidades 
 de Madrid y en 2021 publica su primer libro titulado “Lugares de nadie
 ”. Trabaja en la Universidad de La Laguna como personal investigador tra
 s obtener la Beca FPI del Gobierno de Canarias junto con la Agencia Canari
 a de Investigación\, Innovación y Sociedad de la Información y el Fondo
  Social Europeo.\nPero otra de las pasiones de Miriam\, que es la que nos 
 ocupa hoy\, es el arte\, es graduada en Bellas Artes por la Universidad Co
 mplutense de Madrid.\n\n\n\n\nLa exposición estará abierta al público h
 asta el 18 de noviembre en horario de lunes a sábado de 10:00 a 14:00 hor
 as.\n\n
ATTACH;FMTTYPE=image/jpeg:https://www.larevistadelapalma.com/wp-content/up
 loads/2023/10/miradas-pictoricas-Miriam-Gonzalez-Alvarez.jpg
CATEGORIES:Exposiciones
LOCATION:Museo Casa Roja\, C. Maximiliano Pérez Díaz\, 23\, Villa de Mazo
 \, 38730\, España
GEO:28.607435;-17.77894
X-APPLE-STRUCTURED-LOCATION;VALUE=URI;X-ADDRESS=C. Maximiliano Pérez Díaz
 \, 23\, Villa de Mazo\, 38730\, España;X-APPLE-RADIUS=100;X-TITLE=Museo C
 asa Roja:geo:28.607435,-17.77894
END:VEVENT
END:VCALENDARBEGIN:VCALENDAR
VERSION:2.0
PRODID:-//wp-events-plugin.com//7.2.3.1//EN
TZID:Europe/London
X-WR-TIMEZONE:Europe/London
BEGIN:VEVENT
UID:728@larevistadelapalma.com
DTSTART;VALUE=DATE:20231006
DTEND;VALUE=DATE:20231119
DTSTAMP:20231003T175512Z
URL:https://www.larevistadelapalma.com/events/expo-miradas-pictoricas-miri
 am-gonzalez-alvarez/
SUMMARY:Exposición “Miradas Pictóricas” de Miriam González Álvarez
DESCRIPTION:\nVilla de Mazo inaugurará el viernes 6 de octubre a las 20:00
  horas la exposición “Miradas Pictóricas” de la artista Miriam Gonz
 ález Álvarez en el Museo Casa Roja.\n\nMiriam es escritora. En 2019 obti
 ene la Beca Jóvenes Talentos en la Escuela Contemporánea de Humanidades 
 de Madrid y en 2021 publica su primer libro titulado “Lugares de nadie
 ”. Trabaja en la Universidad de La Laguna como personal investigador tra
 s obtener la Beca FPI del Gobierno de Canarias junto con la Agencia Canari
 a de Investigación\, Innovación y Sociedad de la Información y el Fondo
  Social Europeo.\nPero otra de las pasiones de Miriam\, que es la que nos 
 ocupa hoy\, es el arte\, es graduada en Bellas Artes por la Universidad Co
 mplutense de Madrid.\n\n\n\n\nLa exposición estará abierta al público h
 asta el 18 de noviembre en horario de lunes a sábado de 10:00 a 14:00 hor
 as.\n\n
ATTACH;FMTTYPE=image/jpeg:https://www.larevistadelapalma.com/wp-content/up
 loads/2023/10/miradas-pictoricas-Miriam-Gonzalez-Alvarez.jpg
CATEGORIES:Exposiciones
LOCATION:Museo Casa Roja\, C. Maximiliano Pérez Díaz\, 23\, Villa de Mazo
 \, 38730\, España
GEO:28.607435;-17.77894
X-APPLE-STRUCTURED-LOCATION;VALUE=URI;X-ADDRESS=C. Maximiliano Pérez Díaz
 \, 23\, Villa de Mazo\, 38730\, España;X-APPLE-RADIUS=100;X-TITLE=Museo C
 asa Roja:geo:28.607435,-17.77894
END:VEVENT
END:VCALENDAR