BEGIN:VCALENDAR
VERSION:2.0
PRODID:-//wp-events-plugin.com//7.2.3.1//EN
TZID:Europe/London
X-WR-TIMEZONE:Europe/London
BEGIN:VEVENT
UID:628@larevistadelapalma.com
DTSTART;VALUE=DATE:20230901
DTEND;VALUE=DATE:20230916
DTSTAMP:20230903T210046Z
URL:https://www.larevistadelapalma.com/events/expo-sone-con-frida-antje-be
 ndfeldt-odaly/
SUMMARY:"Soñé con Frida"\, de Antje Bendfeldt en la Sala O'Daly
DESCRIPTION:Esta pintora autodidacta de origen alemán siente una total fas
 cinación por la figura de Frida Kahlo. 
ATTACH;FMTTYPE=image/jpeg:https://www.larevistadelapalma.com/wp-content/up
 loads/2023/08/Sone-con-Frida-3.jpg
CATEGORIES:Exposiciones
LOCATION:Sala O'Daly\, C. O'Daly\, 2\, \, Santa Cruz de La Palma \, 38700\,
  España
GEO:28.68306;-17.765032
X-APPLE-STRUCTURED-LOCATION;VALUE=URI;X-ADDRESS=C. O'Daly\, 2\, \, Santa Cr
 uz de La Palma \, 38700\, España;X-APPLE-RADIUS=100;X-TITLE=Sala O'Daly:g
 eo:28.68306,-17.765032
END:VEVENT
END:VCALENDARBEGIN:VCALENDAR
VERSION:2.0
PRODID:-//wp-events-plugin.com//7.2.3.1//EN
TZID:Europe/London
X-WR-TIMEZONE:Europe/London
BEGIN:VEVENT
UID:628@larevistadelapalma.com
DTSTART;VALUE=DATE:20230901
DTEND;VALUE=DATE:20230916
DTSTAMP:20230903T210046Z
URL:https://www.larevistadelapalma.com/events/expo-sone-con-frida-antje-be
 ndfeldt-odaly/
SUMMARY:"Soñé con Frida"\, de Antje Bendfeldt en la Sala O'Daly
DESCRIPTION:Esta pintora autodidacta de origen alemán siente una total fas
 cinación por la figura de Frida Kahlo. 
ATTACH;FMTTYPE=image/jpeg:https://www.larevistadelapalma.com/wp-content/up
 loads/2023/08/Sone-con-Frida-3.jpg
CATEGORIES:Exposiciones
LOCATION:Sala O'Daly\, C. O'Daly\, 2\, \, Santa Cruz de La Palma \, 38700\,
  España
GEO:28.68306;-17.765032
X-APPLE-STRUCTURED-LOCATION;VALUE=URI;X-ADDRESS=C. O'Daly\, 2\, \, Santa Cr
 uz de La Palma \, 38700\, España;X-APPLE-RADIUS=100;X-TITLE=Sala O'Daly:g
 eo:28.68306,-17.765032
END:VEVENT
END:VCALENDAR