BEGIN:VCALENDAR
VERSION:2.0
PRODID:-//wp-events-plugin.com//7.2.3.1//EN
TZID:Europe/London
X-WR-TIMEZONE:Europe/London
BEGIN:VEVENT
UID:3166@larevistadelapalma.com
DTSTART;VALUE=DATE:20240801
DTEND;VALUE=DATE:20240816
DTSTAMP:20240809T214654Z
URL:https://www.larevistadelapalma.com/events/exposicion-agua-de-ruben-san
 chez-en-la-sala-odaly/
SUMMARY:Exposición “Agua” de Rubén Sánchez en la Sala O'Daly
DESCRIPTION:La exposición se puede visitar del 1 al 15 de agosto.\nEl arti
 sta palmero Rubén Sánchez presenta en la Sala O´Daly de Santa Cruz de L
 a Palma una nueva colección de acuarelas de pequeño formato que recorren
  varios géneros. Desde el paisaje\, pasando por el bodegón y el retrato 
 hasta el desnudo. En la pequeña sala anexa se muestra una selección de p
 inturas anteriores del artista.\n\n\n \n\n\n\n&nbsp\;\nRubén Sánchez es 
 licenciado y doctor en Bellas Artes. Es también titulado superior en mús
 ica  (Saxofón) y ha realizado el Máster “Art in Context” en Berlín
 \, donde vive y trabaja como profesor de música y pintura. Ha participado
  en más de una treintena de exposiciones en Berlín\, Madrid\, Barcelona\
 , Hannover o Bonn y\, por supuesto\, en Canarias. A destacar la participac
 ión en ARCO 2007 tras recibir el segundo premio en la Bienal Regional de 
 Artes Plásticas de Tenerife.\n
ATTACH;FMTTYPE=image/jpeg:https://www.larevistadelapalma.com/wp-content/up
 loads/2024/08/Expo-Ruben-Sanchez-3.jpeg
CATEGORIES:Exposiciones
LOCATION:Sala O'Daly\, C. O'Daly\, 2\, \, Santa Cruz de La Palma \, 38700\,
  España
GEO:28.68306;-17.765032
X-APPLE-STRUCTURED-LOCATION;VALUE=URI;X-ADDRESS=C. O'Daly\, 2\, \, Santa Cr
 uz de La Palma \, 38700\, España;X-APPLE-RADIUS=100;X-TITLE=Sala O'Daly:g
 eo:28.68306,-17.765032
END:VEVENT
END:VCALENDARBEGIN:VCALENDAR
VERSION:2.0
PRODID:-//wp-events-plugin.com//7.2.3.1//EN
TZID:Europe/London
X-WR-TIMEZONE:Europe/London
BEGIN:VEVENT
UID:3166@larevistadelapalma.com
DTSTART;VALUE=DATE:20240801
DTEND;VALUE=DATE:20240816
DTSTAMP:20240809T214654Z
URL:https://www.larevistadelapalma.com/events/exposicion-agua-de-ruben-san
 chez-en-la-sala-odaly/
SUMMARY:Exposición “Agua” de Rubén Sánchez en la Sala O'Daly
DESCRIPTION:La exposición se puede visitar del 1 al 15 de agosto.\nEl arti
 sta palmero Rubén Sánchez presenta en la Sala O´Daly de Santa Cruz de L
 a Palma una nueva colección de acuarelas de pequeño formato que recorren
  varios géneros. Desde el paisaje\, pasando por el bodegón y el retrato 
 hasta el desnudo. En la pequeña sala anexa se muestra una selección de p
 inturas anteriores del artista.\n\n\n \n\n\n\n&nbsp\;\nRubén Sánchez es 
 licenciado y doctor en Bellas Artes. Es también titulado superior en mús
 ica  (Saxofón) y ha realizado el Máster “Art in Context” en Berlín
 \, donde vive y trabaja como profesor de música y pintura. Ha participado
  en más de una treintena de exposiciones en Berlín\, Madrid\, Barcelona\
 , Hannover o Bonn y\, por supuesto\, en Canarias. A destacar la participac
 ión en ARCO 2007 tras recibir el segundo premio en la Bienal Regional de 
 Artes Plásticas de Tenerife.\n
ATTACH;FMTTYPE=image/jpeg:https://www.larevistadelapalma.com/wp-content/up
 loads/2024/08/Expo-Ruben-Sanchez-3.jpeg
CATEGORIES:Exposiciones
LOCATION:Sala O'Daly\, C. O'Daly\, 2\, \, Santa Cruz de La Palma \, 38700\,
  España
GEO:28.68306;-17.765032
X-APPLE-STRUCTURED-LOCATION;VALUE=URI;X-ADDRESS=C. O'Daly\, 2\, \, Santa Cr
 uz de La Palma \, 38700\, España;X-APPLE-RADIUS=100;X-TITLE=Sala O'Daly:g
 eo:28.68306,-17.765032
END:VEVENT
END:VCALENDAR