BEGIN:VCALENDAR
VERSION:2.0
PRODID:-//wp-events-plugin.com//7.2.3.1//EN
TZID:Europe/London
X-WR-TIMEZONE:Europe/London
BEGIN:VEVENT
UID:176@larevistadelapalma.com
DTSTART;VALUE=DATE:20230712
DTEND;VALUE=DATE:20230802
DTSTAMP:20230718T153153Z
URL:https://www.larevistadelapalma.com/events/exposicion-carmen-machin-los
 -cancajos/
SUMMARY:Exposición de Carmen Machín en Los Cancajos: El poder de la natur
 aleza
DESCRIPTION:Exposición de pintura al óleo\, denominada “El poder de la 
 naturaleza”\, que acoge la Oficina de Turismo de Los Cancajos del 12 de 
 julio al 1 de agosto.
ATTACH;FMTTYPE=image/jpeg:https://www.larevistadelapalma.com/wp-content/up
 loads/2023/07/Expo-Carmen-machin.jpg
CATEGORIES:Exposiciones
LOCATION:Oficina de Turismo de Los Cancajos\, C. Punta de la Arena\, 4. Los
  Cancajos.\, Breña Baja\, 38712\, España
GEO:28.651653;-17.759307
X-APPLE-STRUCTURED-LOCATION;VALUE=URI;X-ADDRESS=C. Punta de la Arena\, 4. L
 os Cancajos.\, Breña Baja\, 38712\, España;X-APPLE-RADIUS=100;X-TITLE=Of
 icina de Turismo de Los Cancajos:geo:28.651653,-17.759307
END:VEVENT
END:VCALENDARBEGIN:VCALENDAR
VERSION:2.0
PRODID:-//wp-events-plugin.com//7.2.3.1//EN
TZID:Europe/London
X-WR-TIMEZONE:Europe/London
BEGIN:VEVENT
UID:176@larevistadelapalma.com
DTSTART;VALUE=DATE:20230712
DTEND;VALUE=DATE:20230802
DTSTAMP:20230718T153153Z
URL:https://www.larevistadelapalma.com/events/exposicion-carmen-machin-los
 -cancajos/
SUMMARY:Exposición de Carmen Machín en Los Cancajos: El poder de la natur
 aleza
DESCRIPTION:Exposición de pintura al óleo\, denominada “El poder de la 
 naturaleza”\, que acoge la Oficina de Turismo de Los Cancajos del 12 de 
 julio al 1 de agosto.
ATTACH;FMTTYPE=image/jpeg:https://www.larevistadelapalma.com/wp-content/up
 loads/2023/07/Expo-Carmen-machin.jpg
CATEGORIES:Exposiciones
LOCATION:Oficina de Turismo de Los Cancajos\, C. Punta de la Arena\, 4. Los
  Cancajos.\, Breña Baja\, 38712\, España
GEO:28.651653;-17.759307
X-APPLE-STRUCTURED-LOCATION;VALUE=URI;X-ADDRESS=C. Punta de la Arena\, 4. L
 os Cancajos.\, Breña Baja\, 38712\, España;X-APPLE-RADIUS=100;X-TITLE=Of
 icina de Turismo de Los Cancajos:geo:28.651653,-17.759307
END:VEVENT
END:VCALENDAR