BEGIN:VCALENDAR
VERSION:2.0
PRODID:-//wp-events-plugin.com//7.2.3.1//EN
TZID:Europe/London
X-WR-TIMEZONE:Europe/London
BEGIN:VEVENT
UID:3374@larevistadelapalma.com
DTSTART;VALUE=DATE:20241101
DTEND;VALUE=DATE:20241116
DTSTAMP:20241031T171721Z
URL:https://www.larevistadelapalma.com/events/exposicion-colectiva-de-arte
 -textil-en-tijarafe/
SUMMARY:Exposición colectiva de arte textil en Tijarafe
DESCRIPTION:De Justina Gaydite\,Vaiva Kaledaite y Jasmin Urbschat.\nHorario
 :\n\n 	De lunes a viernes: 9:30 -15:30 h.\n 	Sábados\, domingos y festivo
 s: 10:00 – 14:00 h.\n
ATTACH;FMTTYPE=image/jpeg:https://www.larevistadelapalma.com/wp-content/up
 loads/2024/10/Expo-arte-textil.jpg
CATEGORIES:Exposiciones
LOCATION:Oficina de información turística de Tijarafe\, Calle Real\, 11\,
  Tijarafe\, 38780 \, España
GEO:28.710798;-17.955469
X-APPLE-STRUCTURED-LOCATION;VALUE=URI;X-ADDRESS=Calle Real\, 11\, Tijarafe\
 , 38780 \, España;X-APPLE-RADIUS=100;X-TITLE=Oficina de información tur
 ística de Tijarafe:geo:28.710798,-17.955469
END:VEVENT
END:VCALENDARBEGIN:VCALENDAR
VERSION:2.0
PRODID:-//wp-events-plugin.com//7.2.3.1//EN
TZID:Europe/London
X-WR-TIMEZONE:Europe/London
BEGIN:VEVENT
UID:3374@larevistadelapalma.com
DTSTART;VALUE=DATE:20241101
DTEND;VALUE=DATE:20241116
DTSTAMP:20241031T171721Z
URL:https://www.larevistadelapalma.com/events/exposicion-colectiva-de-arte
 -textil-en-tijarafe/
SUMMARY:Exposición colectiva de arte textil en Tijarafe
DESCRIPTION:De Justina Gaydite\,Vaiva Kaledaite y Jasmin Urbschat.\nHorario
 :\n\n 	De lunes a viernes: 9:30 -15:30 h.\n 	Sábados\, domingos y festivo
 s: 10:00 – 14:00 h.\n
ATTACH;FMTTYPE=image/jpeg:https://www.larevistadelapalma.com/wp-content/up
 loads/2024/10/Expo-arte-textil.jpg
CATEGORIES:Exposiciones
LOCATION:Oficina de información turística de Tijarafe\, Calle Real\, 11\,
  Tijarafe\, 38780 \, España
GEO:28.710798;-17.955469
X-APPLE-STRUCTURED-LOCATION;VALUE=URI;X-ADDRESS=Calle Real\, 11\, Tijarafe\
 , 38780 \, España;X-APPLE-RADIUS=100;X-TITLE=Oficina de información tur
 ística de Tijarafe:geo:28.710798,-17.955469
END:VEVENT
END:VCALENDAR