BEGIN:VCALENDAR
VERSION:2.0
PRODID:-//wp-events-plugin.com//7.2.3.1//EN
TZID:Europe/London
X-WR-TIMEZONE:Europe/London
BEGIN:VEVENT
UID:2730@larevistadelapalma.com
DTSTART:20240115T110000Z
DTEND:20240202T160000Z
DTSTAMP:20240116T202433Z
URL:https://www.larevistadelapalma.com/events/exposicion-colectiva-viva-la
 -vida/
SUMMARY:Exposición colectiva "Viva la vida"
DESCRIPTION:Exposición colectiva: Carola Demblon\, Annete OudShoorn y Jan
 ida Smith.\nDel 15 de enero al 02 de febrero\nTodos los días\, de 12:00 a
  17:00 horas\nSalón 1 de la Casa de la Cultura\, Santo Domingo.\n"Viva la
  Vida"\, que auna a tres artistas que residen en el municipio de Garafía\
 , en la que se combinan obras muy originales donde sus creadoras imprimen 
 un sello único\, como podemos ver en las piedras de callado pintadas con 
 gran mimo o los alegres cuadros de Janida. También en los cuadros colorid
 os y abstractos de Karola\, algunos de los cuales incorporan elementos nat
 urales\, y las postales que usan de base mapas marinos. Además están los
  cuadros de alegres formas y coloridos pintados con muchos detalles\, incl
 uso en varios segmentos separados entre sí\, de Annette\, quien nos invit
 a a colorear alguno de los dibujos que nos propone a modo de mandala.\n\n\
 n
ATTACH;FMTTYPE=image/jpeg:https://www.larevistadelapalma.com/wp-content/up
 loads/2024/01/Viva-la-vida.jpg
CATEGORIES:Exposiciones
LOCATION:Casa de La Cultura de Santo Domingo\, Garafía\, Calle Diaz Juarez
 \, 21\,\, Garafía\, 38787\, España
GEO:28.790649;-17.917631
X-APPLE-STRUCTURED-LOCATION;VALUE=URI;X-ADDRESS=Calle Diaz Juarez\, 21\,\, 
 Garafía\, 38787\, España;X-APPLE-RADIUS=100;X-TITLE=Casa de La Cultura d
 e Santo Domingo\, Garafía:geo:28.790649,-17.917631
END:VEVENT
END:VCALENDARBEGIN:VCALENDAR
VERSION:2.0
PRODID:-//wp-events-plugin.com//7.2.3.1//EN
TZID:Europe/London
X-WR-TIMEZONE:Europe/London
BEGIN:VEVENT
UID:2730@larevistadelapalma.com
DTSTART:20240115T110000Z
DTEND:20240202T160000Z
DTSTAMP:20240116T202433Z
URL:https://www.larevistadelapalma.com/events/exposicion-colectiva-viva-la
 -vida/
SUMMARY:Exposición colectiva "Viva la vida"
DESCRIPTION:Exposición colectiva: Carola Demblon\, Annete OudShoorn y Jan
 ida Smith.\nDel 15 de enero al 02 de febrero\nTodos los días\, de 12:00 a
  17:00 horas\nSalón 1 de la Casa de la Cultura\, Santo Domingo.\n"Viva la
  Vida"\, que auna a tres artistas que residen en el municipio de Garafía\
 , en la que se combinan obras muy originales donde sus creadoras imprimen 
 un sello único\, como podemos ver en las piedras de callado pintadas con 
 gran mimo o los alegres cuadros de Janida. También en los cuadros colorid
 os y abstractos de Karola\, algunos de los cuales incorporan elementos nat
 urales\, y las postales que usan de base mapas marinos. Además están los
  cuadros de alegres formas y coloridos pintados con muchos detalles\, incl
 uso en varios segmentos separados entre sí\, de Annette\, quien nos invit
 a a colorear alguno de los dibujos que nos propone a modo de mandala.\n\n\
 n
ATTACH;FMTTYPE=image/jpeg:https://www.larevistadelapalma.com/wp-content/up
 loads/2024/01/Viva-la-vida.jpg
CATEGORIES:Exposiciones
LOCATION:Casa de La Cultura de Santo Domingo\, Garafía\, Calle Diaz Juarez
 \, 21\,\, Garafía\, 38787\, España
GEO:28.790649;-17.917631
X-APPLE-STRUCTURED-LOCATION;VALUE=URI;X-ADDRESS=Calle Diaz Juarez\, 21\,\, 
 Garafía\, 38787\, España;X-APPLE-RADIUS=100;X-TITLE=Casa de La Cultura d
 e Santo Domingo\, Garafía:geo:28.790649,-17.917631
END:VEVENT
END:VCALENDAR