BEGIN:VCALENDAR
VERSION:2.0
PRODID:-//wp-events-plugin.com//7.2.3.1//EN
TZID:Europe/London
X-WR-TIMEZONE:Europe/London
BEGIN:VEVENT
UID:818@larevistadelapalma.com
DTSTART;VALUE=DATE:20231102
DTEND;VALUE=DATE:20231116
DTSTAMP:20231106T180743Z
URL:https://www.larevistadelapalma.com/events/exposicion-con-corazon-del-h
 ombre-y-la-naturaleza-sala-odaly/
SUMMARY:Exposición «Con Corazón del hombre y la naturaleza»\, Sala O'Da
 ly
DESCRIPTION:Cuadros\, objetos\, collages\, arte reciclado…\nLa nueva expo
 sición de la Sala O'Daly nos trae el arte de Jikke R. Visser  y Luisi.\
 n\nHorario: \n\n 	De lunes a viernes de 10:30 a 14:00 horas y de 17:00 a 1
 9:00 horas.\n 	Sábados de 10:30 a 14:00 horas.\n\n\n\n\n\n\n\n\n\n&nbsp\;
 \n\n&nbsp\;
ATTACH;FMTTYPE=image/jpeg:https://www.larevistadelapalma.com/wp-content/up
 loads/2023/11/Con-Corazon-del-hombre-y-la-naturaleza-2.jpeg
CATEGORIES:Exposiciones
LOCATION:Sala O'Daly\, C. O'Daly\, 2\, \, Santa Cruz de La Palma \, 38700\,
  España
GEO:28.68306;-17.765032
X-APPLE-STRUCTURED-LOCATION;VALUE=URI;X-ADDRESS=C. O'Daly\, 2\, \, Santa Cr
 uz de La Palma \, 38700\, España;X-APPLE-RADIUS=100;X-TITLE=Sala O'Daly:g
 eo:28.68306,-17.765032
END:VEVENT
END:VCALENDARBEGIN:VCALENDAR
VERSION:2.0
PRODID:-//wp-events-plugin.com//7.2.3.1//EN
TZID:Europe/London
X-WR-TIMEZONE:Europe/London
BEGIN:VEVENT
UID:818@larevistadelapalma.com
DTSTART;VALUE=DATE:20231102
DTEND;VALUE=DATE:20231116
DTSTAMP:20231106T180743Z
URL:https://www.larevistadelapalma.com/events/exposicion-con-corazon-del-h
 ombre-y-la-naturaleza-sala-odaly/
SUMMARY:Exposición «Con Corazón del hombre y la naturaleza»\, Sala O'Da
 ly
DESCRIPTION:Cuadros\, objetos\, collages\, arte reciclado…\nLa nueva expo
 sición de la Sala O'Daly nos trae el arte de Jikke R. Visser  y Luisi.\
 n\nHorario: \n\n 	De lunes a viernes de 10:30 a 14:00 horas y de 17:00 a 1
 9:00 horas.\n 	Sábados de 10:30 a 14:00 horas.\n\n\n\n\n\n\n\n\n\n&nbsp\;
 \n\n&nbsp\;
ATTACH;FMTTYPE=image/jpeg:https://www.larevistadelapalma.com/wp-content/up
 loads/2023/11/Con-Corazon-del-hombre-y-la-naturaleza-2.jpeg
CATEGORIES:Exposiciones
LOCATION:Sala O'Daly\, C. O'Daly\, 2\, \, Santa Cruz de La Palma \, 38700\,
  España
GEO:28.68306;-17.765032
X-APPLE-STRUCTURED-LOCATION;VALUE=URI;X-ADDRESS=C. O'Daly\, 2\, \, Santa Cr
 uz de La Palma \, 38700\, España;X-APPLE-RADIUS=100;X-TITLE=Sala O'Daly:g
 eo:28.68306,-17.765032
END:VEVENT
END:VCALENDAR