BEGIN:VCALENDAR
VERSION:2.0
PRODID:-//wp-events-plugin.com//7.2.3.1//EN
TZID:Europe/London
X-WR-TIMEZONE:Europe/London
BEGIN:VEVENT
UID:725@larevistadelapalma.com
DTSTART;VALUE=DATE:20231001
DTEND;VALUE=DATE:20231016
DTSTAMP:20231002T004457Z
URL:https://www.larevistadelapalma.com/events/exposicion-con-corazon-del-h
 ombre-y-la-naturaleza-tijarafe/
SUMMARY:Exposición "Con Corazón del hombre y la naturaleza"\, Tijarafe
DESCRIPTION:Cuadros\, objetos\, collages\, arte reciclado... \nDe Jikke R. 
 Visser  y Luisi.\n\nDesde el 1-15 de octubre 2023 en La Casa del Maestro
 \, Oficina de información turística de Tijarafe.\n\nHorario:\n\nLunes a 
 viernes de 9:30 a 15:30\, y sábados\, domingos y festivos de 10:00 a 14:0
 0 horas.\n\n\n\n\n\n&nbsp\;
ATTACH;FMTTYPE=image/jpeg:https://www.larevistadelapalma.com/wp-content/up
 loads/2023/10/Con-Corazon-del-hombre-y-la-naturaleza-0.jpg
CATEGORIES:Exposiciones
LOCATION:Oficina de información turística de Tijarafe\, Calle Real\, 11\,
  Tijarafe\, 38780 \, España
GEO:28.710798;-17.955469
X-APPLE-STRUCTURED-LOCATION;VALUE=URI;X-ADDRESS=Calle Real\, 11\, Tijarafe\
 , 38780 \, España;X-APPLE-RADIUS=100;X-TITLE=Oficina de información tur
 ística de Tijarafe:geo:28.710798,-17.955469
END:VEVENT
END:VCALENDARBEGIN:VCALENDAR
VERSION:2.0
PRODID:-//wp-events-plugin.com//7.2.3.1//EN
TZID:Europe/London
X-WR-TIMEZONE:Europe/London
BEGIN:VEVENT
UID:725@larevistadelapalma.com
DTSTART;VALUE=DATE:20231001
DTEND;VALUE=DATE:20231016
DTSTAMP:20231002T004457Z
URL:https://www.larevistadelapalma.com/events/exposicion-con-corazon-del-h
 ombre-y-la-naturaleza-tijarafe/
SUMMARY:Exposición "Con Corazón del hombre y la naturaleza"\, Tijarafe
DESCRIPTION:Cuadros\, objetos\, collages\, arte reciclado... \nDe Jikke R. 
 Visser  y Luisi.\n\nDesde el 1-15 de octubre 2023 en La Casa del Maestro
 \, Oficina de información turística de Tijarafe.\n\nHorario:\n\nLunes a 
 viernes de 9:30 a 15:30\, y sábados\, domingos y festivos de 10:00 a 14:0
 0 horas.\n\n\n\n\n\n&nbsp\;
ATTACH;FMTTYPE=image/jpeg:https://www.larevistadelapalma.com/wp-content/up
 loads/2023/10/Con-Corazon-del-hombre-y-la-naturaleza-0.jpg
CATEGORIES:Exposiciones
LOCATION:Oficina de información turística de Tijarafe\, Calle Real\, 11\,
  Tijarafe\, 38780 \, España
GEO:28.710798;-17.955469
X-APPLE-STRUCTURED-LOCATION;VALUE=URI;X-ADDRESS=Calle Real\, 11\, Tijarafe\
 , 38780 \, España;X-APPLE-RADIUS=100;X-TITLE=Oficina de información tur
 ística de Tijarafe:geo:28.710798,-17.955469
END:VEVENT
END:VCALENDAR