BEGIN:VCALENDAR
VERSION:2.0
PRODID:-//wp-events-plugin.com//7.2.3.1//EN
TZID:Europe/London
X-WR-TIMEZONE:Europe/London
BEGIN:VEVENT
UID:7@larevistadelapalma.com
DTSTART;VALUE=DATE:20230619
DTEND;VALUE=DATE:20230722
DTSTAMP:20230703T114731Z
URL:https://www.larevistadelapalma.com/events/exposicion-de-christa-naher/
SUMMARY:El Museo Insular de La Palma acoge una muestra de pintura de Christ
 a Näher
DESCRIPTION:Muestra representativa de la pintura y trayectoria de la artist
 a alemana Christa Näher
ATTACH;FMTTYPE=image/jpeg:https://www.larevistadelapalma.com/wp-content/up
 loads/2023/06/Expo-pintura-de-Christa-Naher.jpg
CATEGORIES:Exposiciones
LOCATION:Museo Insular de La Palma\, Plaza de San Francisco\, 3\, Santa Cru
 z de La Palma\, 38700\, España
GEO:28.687;-17.762092
X-APPLE-STRUCTURED-LOCATION;VALUE=URI;X-ADDRESS=Plaza de San Francisco\, 3\
 , Santa Cruz de La Palma\, 38700\, España;X-APPLE-RADIUS=100;X-TITLE=Muse
 o Insular de La Palma:geo:28.687,-17.762092
END:VEVENT
END:VCALENDARBEGIN:VCALENDAR
VERSION:2.0
PRODID:-//wp-events-plugin.com//7.2.3.1//EN
TZID:Europe/London
X-WR-TIMEZONE:Europe/London
BEGIN:VEVENT
UID:7@larevistadelapalma.com
DTSTART;VALUE=DATE:20230619
DTEND;VALUE=DATE:20230722
DTSTAMP:20230703T114731Z
URL:https://www.larevistadelapalma.com/events/exposicion-de-christa-naher/
SUMMARY:El Museo Insular de La Palma acoge una muestra de pintura de Christ
 a Näher
DESCRIPTION:Muestra representativa de la pintura y trayectoria de la artist
 a alemana Christa Näher
ATTACH;FMTTYPE=image/jpeg:https://www.larevistadelapalma.com/wp-content/up
 loads/2023/06/Expo-pintura-de-Christa-Naher.jpg
CATEGORIES:Exposiciones
LOCATION:Museo Insular de La Palma\, Plaza de San Francisco\, 3\, Santa Cru
 z de La Palma\, 38700\, España
GEO:28.687;-17.762092
X-APPLE-STRUCTURED-LOCATION;VALUE=URI;X-ADDRESS=Plaza de San Francisco\, 3\
 , Santa Cruz de La Palma\, 38700\, España;X-APPLE-RADIUS=100;X-TITLE=Muse
 o Insular de La Palma:geo:28.687,-17.762092
END:VEVENT
END:VCALENDAR