BEGIN:VCALENDAR
VERSION:2.0
PRODID:-//wp-events-plugin.com//7.2.3.1//EN
TZID:Europe/London
X-WR-TIMEZONE:Europe/London
BEGIN:VEVENT
UID:2944@larevistadelapalma.com
DTSTART;VALUE=DATE:20240415
DTEND;VALUE=DATE:20240501
DTSTAMP:20240419T125213Z
URL:https://www.larevistadelapalma.com/events/exposicion-de-la-escuela-de-
 arte-de-la-palma-en-la-sala-odaly/
SUMMARY:Exposición de la Escuela de Arte de La Palma en la Sala O'Daly
DESCRIPTION:La inauguración tendrá lugar este viernes 19 de abril. \nLa 
 Escuela de Arte Manolo Blahnik muestra el trabajo de sus alumnos y la ofer
 ta formativa del centro en una exposición en la Sala O'Daly de Santa Cruz
  de La Palma.\nSe pueden ver trabajos de distintos ciclos formativos\, com
 o fotografía\, ilustración\, joyería\, vestimenta...\n\nAprovechamos la
  ocasión para recordarte que el plazo para la solicitud de ciclos estará
  abierta hasta el 23 de abril y la de bachillerato del 23 de abril al 14 d
 e mayo.\n\n\n\n\n\n\n\n\n\n&nbsp\;\n\n&nbsp\;
ATTACH;FMTTYPE=image/jpeg:https://www.larevistadelapalma.com/wp-content/up
 loads/2024/04/Escuela-de-Arte-expo-Odaly.jpg
CATEGORIES:Exposiciones
LOCATION:Sala O'Daly\, C. O'Daly\, 2\, \, Santa Cruz de La Palma \, 38700\,
  España
GEO:28.68306;-17.765032
X-APPLE-STRUCTURED-LOCATION;VALUE=URI;X-ADDRESS=C. O'Daly\, 2\, \, Santa Cr
 uz de La Palma \, 38700\, España;X-APPLE-RADIUS=100;X-TITLE=Sala O'Daly:g
 eo:28.68306,-17.765032
END:VEVENT
END:VCALENDARBEGIN:VCALENDAR
VERSION:2.0
PRODID:-//wp-events-plugin.com//7.2.3.1//EN
TZID:Europe/London
X-WR-TIMEZONE:Europe/London
BEGIN:VEVENT
UID:2944@larevistadelapalma.com
DTSTART;VALUE=DATE:20240415
DTEND;VALUE=DATE:20240501
DTSTAMP:20240419T125213Z
URL:https://www.larevistadelapalma.com/events/exposicion-de-la-escuela-de-
 arte-de-la-palma-en-la-sala-odaly/
SUMMARY:Exposición de la Escuela de Arte de La Palma en la Sala O'Daly
DESCRIPTION:La inauguración tendrá lugar este viernes 19 de abril. \nLa 
 Escuela de Arte Manolo Blahnik muestra el trabajo de sus alumnos y la ofer
 ta formativa del centro en una exposición en la Sala O'Daly de Santa Cruz
  de La Palma.\nSe pueden ver trabajos de distintos ciclos formativos\, com
 o fotografía\, ilustración\, joyería\, vestimenta...\n\nAprovechamos la
  ocasión para recordarte que el plazo para la solicitud de ciclos estará
  abierta hasta el 23 de abril y la de bachillerato del 23 de abril al 14 d
 e mayo.\n\n\n\n\n\n\n\n\n\n&nbsp\;\n\n&nbsp\;
ATTACH;FMTTYPE=image/jpeg:https://www.larevistadelapalma.com/wp-content/up
 loads/2024/04/Escuela-de-Arte-expo-Odaly.jpg
CATEGORIES:Exposiciones
LOCATION:Sala O'Daly\, C. O'Daly\, 2\, \, Santa Cruz de La Palma \, 38700\,
  España
GEO:28.68306;-17.765032
X-APPLE-STRUCTURED-LOCATION;VALUE=URI;X-ADDRESS=C. O'Daly\, 2\, \, Santa Cr
 uz de La Palma \, 38700\, España;X-APPLE-RADIUS=100;X-TITLE=Sala O'Daly:g
 eo:28.68306,-17.765032
END:VEVENT
END:VCALENDAR