BEGIN:VCALENDAR
VERSION:2.0
PRODID:-//wp-events-plugin.com//7.2.3.1//EN
TZID:Europe/London
X-WR-TIMEZONE:Europe/London
BEGIN:VEVENT
UID:3910@larevistadelapalma.com
DTSTART;VALUE=DATE:20250816
DTEND;VALUE=DATE:20250823
DTSTAMP:20250818T173747Z
URL:https://www.larevistadelapalma.com/events/exposicion-de-maquetas-de-jo
 se-javier-concepcion-perez/
SUMMARY:Exposición de maquetas de José Javier Concepción Pérez
DESCRIPTION:\nHasta el 22 de agosto\, puedes visitar la exposición de maqu
 etas artesanales de José Javier Concepción Pérez en el Local de La Glor
 ieta (La Concepción\, Breña Alta).\n\n\n\nHorario | 17:00h a 21:00 horas
 .\n \n\n
ATTACH;FMTTYPE=image/jpeg:https://www.larevistadelapalma.com/wp-content/up
 loads/2025/08/Expo-maquetas-b-alta-2.jpg
CATEGORIES:Exposiciones
LOCATION:Plaza de La Glorieta\, Breña Alta\, Plaza de la Glorieta\, Breña
  Alta\, 38710\, España
GEO:28.675493;-17.780948
X-APPLE-STRUCTURED-LOCATION;VALUE=URI;X-ADDRESS=Plaza de la Glorieta\, Bre
 ña Alta\, 38710\, España;X-APPLE-RADIUS=100;X-TITLE=Plaza de La Glorieta
 \, Breña Alta:geo:28.675493,-17.780948
END:VEVENT
END:VCALENDARBEGIN:VCALENDAR
VERSION:2.0
PRODID:-//wp-events-plugin.com//7.2.3.1//EN
TZID:Europe/London
X-WR-TIMEZONE:Europe/London
BEGIN:VEVENT
UID:3910@larevistadelapalma.com
DTSTART;VALUE=DATE:20250816
DTEND;VALUE=DATE:20250823
DTSTAMP:20250818T173747Z
URL:https://www.larevistadelapalma.com/events/exposicion-de-maquetas-de-jo
 se-javier-concepcion-perez/
SUMMARY:Exposición de maquetas de José Javier Concepción Pérez
DESCRIPTION:\nHasta el 22 de agosto\, puedes visitar la exposición de maqu
 etas artesanales de José Javier Concepción Pérez en el Local de La Glor
 ieta (La Concepción\, Breña Alta).\n\n\n\nHorario | 17:00h a 21:00 horas
 .\n \n\n
ATTACH;FMTTYPE=image/jpeg:https://www.larevistadelapalma.com/wp-content/up
 loads/2025/08/Expo-maquetas-b-alta-2.jpg
CATEGORIES:Exposiciones
LOCATION:Plaza de La Glorieta\, Breña Alta\, Plaza de la Glorieta\, Breña
  Alta\, 38710\, España
GEO:28.675493;-17.780948
X-APPLE-STRUCTURED-LOCATION;VALUE=URI;X-ADDRESS=Plaza de la Glorieta\, Bre
 ña Alta\, 38710\, España;X-APPLE-RADIUS=100;X-TITLE=Plaza de La Glorieta
 \, Breña Alta:geo:28.675493,-17.780948
END:VEVENT
END:VCALENDAR