BEGIN:VCALENDAR
VERSION:2.0
PRODID:-//wp-events-plugin.com//7.2.3.1//EN
TZID:Europe/London
X-WR-TIMEZONE:Europe/London
BEGIN:VEVENT
UID:575@larevistadelapalma.com
DTSTART;VALUE=DATE:20230801
DTEND;VALUE=DATE:20230820
DTSTAMP:20230802T062829Z
URL:https://www.larevistadelapalma.com/events/exposicion-de-pinturas-de-go
 nzalo-concepcion-en-la-sala-odaly/
SUMMARY:Exposición de pinturas de Gonzalo Concepción en la Sala O'Daly
DESCRIPTION:Una vez más\, la sala capitalina acoge una muestra del artista
  palmero Gonzalo Concepción. Hasta el 19 de agosto podremos ver esta mues
 tra que recrea paisajes urbanos y marinos que giran en torno a dos lugares
  con un nexo en común: el mar\, como son su isla natal\, La Palma y la is
 la de Menorca.\n\nEn sus obras podemos contemplar escenas de la vida cotid
 iana e imágenes del pasado de la ciudad de Santa Cruz de La Palma y tambi
 én personajes de las Fiestas Lustrales de la Bajada de la Virgen de La Pa
 lma.\n\nHorario:\n\n 	De lunes a viernes de 10:30 a 14:00 horas y de 18:00
  a 20:30 horas.\n 	Sábados de 10:30 a 14:00 horas.\n\n\n\n\n\n\n\n 
ATTACH;FMTTYPE=image/jpeg:https://www.larevistadelapalma.com/wp-content/up
 loads/2023/08/Gonzalo-Concepcion-2023.jpg
CATEGORIES:Exposiciones
LOCATION:Sala O'Daly\, C. O'Daly\, 2\, \, Santa Cruz de La Palma \, 38700\,
  España
GEO:28.68306;-17.765032
X-APPLE-STRUCTURED-LOCATION;VALUE=URI;X-ADDRESS=C. O'Daly\, 2\, \, Santa Cr
 uz de La Palma \, 38700\, España;X-APPLE-RADIUS=100;X-TITLE=Sala O'Daly:g
 eo:28.68306,-17.765032
END:VEVENT
END:VCALENDARBEGIN:VCALENDAR
VERSION:2.0
PRODID:-//wp-events-plugin.com//7.2.3.1//EN
TZID:Europe/London
X-WR-TIMEZONE:Europe/London
BEGIN:VEVENT
UID:575@larevistadelapalma.com
DTSTART;VALUE=DATE:20230801
DTEND;VALUE=DATE:20230820
DTSTAMP:20230802T062829Z
URL:https://www.larevistadelapalma.com/events/exposicion-de-pinturas-de-go
 nzalo-concepcion-en-la-sala-odaly/
SUMMARY:Exposición de pinturas de Gonzalo Concepción en la Sala O'Daly
DESCRIPTION:Una vez más\, la sala capitalina acoge una muestra del artista
  palmero Gonzalo Concepción. Hasta el 19 de agosto podremos ver esta mues
 tra que recrea paisajes urbanos y marinos que giran en torno a dos lugares
  con un nexo en común: el mar\, como son su isla natal\, La Palma y la is
 la de Menorca.\n\nEn sus obras podemos contemplar escenas de la vida cotid
 iana e imágenes del pasado de la ciudad de Santa Cruz de La Palma y tambi
 én personajes de las Fiestas Lustrales de la Bajada de la Virgen de La Pa
 lma.\n\nHorario:\n\n 	De lunes a viernes de 10:30 a 14:00 horas y de 18:00
  a 20:30 horas.\n 	Sábados de 10:30 a 14:00 horas.\n\n\n\n\n\n\n\n 
ATTACH;FMTTYPE=image/jpeg:https://www.larevistadelapalma.com/wp-content/up
 loads/2023/08/Gonzalo-Concepcion-2023.jpg
CATEGORIES:Exposiciones
LOCATION:Sala O'Daly\, C. O'Daly\, 2\, \, Santa Cruz de La Palma \, 38700\,
  España
GEO:28.68306;-17.765032
X-APPLE-STRUCTURED-LOCATION;VALUE=URI;X-ADDRESS=C. O'Daly\, 2\, \, Santa Cr
 uz de La Palma \, 38700\, España;X-APPLE-RADIUS=100;X-TITLE=Sala O'Daly:g
 eo:28.68306,-17.765032
END:VEVENT
END:VCALENDAR