BEGIN:VCALENDAR
VERSION:2.0
PRODID:-//wp-events-plugin.com//7.2.3.1//EN
TZID:Europe/London
X-WR-TIMEZONE:Europe/London
BEGIN:VEVENT
UID:4632@larevistadelapalma.com
DTSTART;VALUE=DATE:20260416
DTEND;VALUE=DATE:20260719
DTSTAMP:20260420T214800Z
URL:https://www.larevistadelapalma.com/events/exposicion-el-color-negro-el
 egancia-luto-y-muerte-en-el-museo-insular/
SUMMARY:Exposición "El color negro: elegancia\, luto y muerte"\, en el Mus
 eo Insular
DESCRIPTION:El color negro es la percepción visual de la máxima oscuridad
 \, es un color acromático que se asocia con la elegancia\, el prestigio y
  el poder\, pero tambien con el misterio\, la muerte y la serenidad. Esta 
 exposición pretende propiciar una mirada a ese pasado\, a través de cóm
 o se vestía de negro. Cuando se asistía a fiestas\, funerales y se vest
 ía de luto riguroso.\n\nLa muestra reúne la mayor parte de la colección
  de la Casa Museo Casa Museo Cayetano Gómez Felipe\, completándose con o
 bras del Museo Insular\, del archivo General de La Palma\, de la Bibliotec
 a Insular José Perez Vidal y de colecciones privadas.\n\n
ATTACH;FMTTYPE=image/jpeg:https://www.larevistadelapalma.com/wp-content/up
 loads/2026/04/Expo-negro.jpeg
CATEGORIES:Exposiciones
LOCATION:Museo Insular de La Palma\, Plaza de San Francisco\, 3\, Santa Cru
 z de La Palma\, 38700\, España
GEO:28.687;-17.762092
X-APPLE-STRUCTURED-LOCATION;VALUE=URI;X-ADDRESS=Plaza de San Francisco\, 3\
 , Santa Cruz de La Palma\, 38700\, España;X-APPLE-RADIUS=100;X-TITLE=Muse
 o Insular de La Palma:geo:28.687,-17.762092
END:VEVENT
END:VCALENDARBEGIN:VCALENDAR
VERSION:2.0
PRODID:-//wp-events-plugin.com//7.2.3.1//EN
TZID:Europe/London
X-WR-TIMEZONE:Europe/London
BEGIN:VEVENT
UID:4632@larevistadelapalma.com
DTSTART;VALUE=DATE:20260416
DTEND;VALUE=DATE:20260719
DTSTAMP:20260420T214800Z
URL:https://www.larevistadelapalma.com/events/exposicion-el-color-negro-el
 egancia-luto-y-muerte-en-el-museo-insular/
SUMMARY:Exposición "El color negro: elegancia\, luto y muerte"\, en el Mus
 eo Insular
DESCRIPTION:El color negro es la percepción visual de la máxima oscuridad
 \, es un color acromático que se asocia con la elegancia\, el prestigio y
  el poder\, pero tambien con el misterio\, la muerte y la serenidad. Esta 
 exposición pretende propiciar una mirada a ese pasado\, a través de cóm
 o se vestía de negro. Cuando se asistía a fiestas\, funerales y se vest
 ía de luto riguroso.\n\nLa muestra reúne la mayor parte de la colección
  de la Casa Museo Casa Museo Cayetano Gómez Felipe\, completándose con o
 bras del Museo Insular\, del archivo General de La Palma\, de la Bibliotec
 a Insular José Perez Vidal y de colecciones privadas.\n\n
ATTACH;FMTTYPE=image/jpeg:https://www.larevistadelapalma.com/wp-content/up
 loads/2026/04/Expo-negro.jpeg
CATEGORIES:Exposiciones
LOCATION:Museo Insular de La Palma\, Plaza de San Francisco\, 3\, Santa Cru
 z de La Palma\, 38700\, España
GEO:28.687;-17.762092
X-APPLE-STRUCTURED-LOCATION;VALUE=URI;X-ADDRESS=Plaza de San Francisco\, 3\
 , Santa Cruz de La Palma\, 38700\, España;X-APPLE-RADIUS=100;X-TITLE=Muse
 o Insular de La Palma:geo:28.687,-17.762092
END:VEVENT
END:VCALENDAR