BEGIN:VCALENDAR
VERSION:2.0
PRODID:-//wp-events-plugin.com//7.2.3.1//EN
TZID:Europe/London
X-WR-TIMEZONE:Europe/London
BEGIN:VEVENT
UID:3191@larevistadelapalma.com
DTSTART;VALUE=DATE:20240821
DTEND;VALUE=DATE:20240901
DTSTAMP:20240822T211656Z
URL:https://www.larevistadelapalma.com/events/exposicion-enlaces-de-gracie
 la-janet-el-paso/
SUMMARY:Exposición "ENLACES" de Graciela Janet\, El Paso
DESCRIPTION:Exposición "ENLACES" de la palmera Graciela Janet\, que se pod
 rá visitar hasta el 31 de agosto. En la segunda planta de la Casa de la C
 ultura ‘Braulio Martín Hernández’\n\nGraciela Janet Hernández Rodr
 íguez nace en 1978 en el municipio de Fuencaliente en la isla de La Palm
 a. En el año 2000 finaliza sus estudios de Bellas Artes de la Universidad
  de La Laguna. A partir del año 2002  trabaja como profesora de enseñan
 za secundaria impartiendo la especialidad de dibujo. Su labor docente la c
 ombina con la pintura y el diseño realizando hasta el momento más de una
  veintena de exposiciones tanto individuales como colectivas y varios trab
 ajos de diseño como murales\, etiquetas de vinos y portadas de libros.\n\
 nSus temas se relacionan habitualmente con objetos de su entorno\, o del p
 aisaje de las islas\, con un estilo surrealista y cuidando la línea a tra
 vés de la técnica del lápiz\, acrílicos y óleos.\n\nEn este enlace pu
 eden ver ejemplos de algunas de sus obras.
ATTACH;FMTTYPE=image/jpeg:https://www.larevistadelapalma.com/wp-content/up
 loads/2024/08/Graciela-Janet-expo.jpg
CATEGORIES:Exposiciones
LOCATION:Casa de la Cultura Braulio Martín Hernández de El Paso\, Av. Isl
 as Canarias\, 9\,\, El Paso\, 38750\, España
GEO:28.652923;-17.880463
X-APPLE-STRUCTURED-LOCATION;VALUE=URI;X-ADDRESS=Av. Islas Canarias\, 9\,\, 
 El Paso\, 38750\, España;X-APPLE-RADIUS=100;X-TITLE=Casa de la Cultura Br
 aulio Martín Hernández de El Paso:geo:28.652923,-17.880463
END:VEVENT
END:VCALENDARBEGIN:VCALENDAR
VERSION:2.0
PRODID:-//wp-events-plugin.com//7.2.3.1//EN
TZID:Europe/London
X-WR-TIMEZONE:Europe/London
BEGIN:VEVENT
UID:3191@larevistadelapalma.com
DTSTART;VALUE=DATE:20240821
DTEND;VALUE=DATE:20240901
DTSTAMP:20240822T211656Z
URL:https://www.larevistadelapalma.com/events/exposicion-enlaces-de-gracie
 la-janet-el-paso/
SUMMARY:Exposición "ENLACES" de Graciela Janet\, El Paso
DESCRIPTION:Exposición "ENLACES" de la palmera Graciela Janet\, que se pod
 rá visitar hasta el 31 de agosto. En la segunda planta de la Casa de la C
 ultura ‘Braulio Martín Hernández’\n\nGraciela Janet Hernández Rodr
 íguez nace en 1978 en el municipio de Fuencaliente en la isla de La Palm
 a. En el año 2000 finaliza sus estudios de Bellas Artes de la Universidad
  de La Laguna. A partir del año 2002  trabaja como profesora de enseñan
 za secundaria impartiendo la especialidad de dibujo. Su labor docente la c
 ombina con la pintura y el diseño realizando hasta el momento más de una
  veintena de exposiciones tanto individuales como colectivas y varios trab
 ajos de diseño como murales\, etiquetas de vinos y portadas de libros.\n\
 nSus temas se relacionan habitualmente con objetos de su entorno\, o del p
 aisaje de las islas\, con un estilo surrealista y cuidando la línea a tra
 vés de la técnica del lápiz\, acrílicos y óleos.\n\nEn este enlace pu
 eden ver ejemplos de algunas de sus obras.
ATTACH;FMTTYPE=image/jpeg:https://www.larevistadelapalma.com/wp-content/up
 loads/2024/08/Graciela-Janet-expo.jpg
CATEGORIES:Exposiciones
LOCATION:Casa de la Cultura Braulio Martín Hernández de El Paso\, Av. Isl
 as Canarias\, 9\,\, El Paso\, 38750\, España
GEO:28.652923;-17.880463
X-APPLE-STRUCTURED-LOCATION;VALUE=URI;X-ADDRESS=Av. Islas Canarias\, 9\,\, 
 El Paso\, 38750\, España;X-APPLE-RADIUS=100;X-TITLE=Casa de la Cultura Br
 aulio Martín Hernández de El Paso:geo:28.652923,-17.880463
END:VEVENT
END:VCALENDAR