BEGIN:VCALENDAR
VERSION:2.0
PRODID:-//wp-events-plugin.com//7.2.3.1//EN
TZID:Europe/London
X-WR-TIMEZONE:Europe/London
BEGIN:VEVENT
UID:746@larevistadelapalma.com
DTSTART;VALUE=DATE:20231007
DTEND;VALUE=DATE:20231108
DTSTAMP:20231007T113953Z
URL:https://www.larevistadelapalma.com/events/exposicion-fotografica-de-di
 uber-sicilia-camacho-en-el-museo-del-puro/
SUMMARY:Exposición fotográfica de Diuber Sicilia Camacho en el Museo del 
 Puro
DESCRIPTION:\nLa muestra que podremos ver se llama "Los Sueños de la razó
 n".\nDesde el sábado 7 de octubre hasta el 7 de noviembre\, se puede visi
 tar la exposición fotográfica de Diuber Sicilia Camacho\, fotógrafo y a
 rtista visual de Cuba.\nLas fotografías de esta muestra llamada "Los sue
 ños de la razón"\, están inspiradas en La Habana\, capital cubana\, y t
 ienen como referencia diversos ambientes y escenarios de la ciudad. Son im
 ágenes en blanco y negro\, o tonos pastel y envejecidos. Y el nombre de 
 la muestra hace referencia a la obra del pintor Francisco de Goya.\n\nDiub
 er comenzó su acercamiento a la fotografía en el año 2012 trabajando fu
 ndamentalmente la edición de imágenes hasta que en el 2013 empezó sus e
 studios en la EFCH (Escuela de Fotografía Creativa de La Habana) hasta gr
 aduarse en el 2014.\nSu obra personal está enfocada mayormente en la foto
 grafía conceptual\, aunque también trabaja el género documental. En sus
  propias palabras “Trato de capturar momentos de la vida cotidiana que s
 on únicos e irrepetibles a través de mi realidad\, mostrando que por muy
  sencillos que parezcan siempre hay algo mágico en ellos”.\nAdemás com
 pagina estos trabajos de fotografía conceptual con su estudio fotográfic
 o Vintage Color Photography.\n\n\n\nLa muestra está abierta al público e
 n el Museo del Puro Palmero en su horario habitual.\n\n\n 	Martes a vierne
 s 10:00h - 13:00h\n 	Sábados 10:00h - 14:00h\n\n
ATTACH;FMTTYPE=image/jpeg:https://www.larevistadelapalma.com/wp-content/up
 loads/2023/10/Los-suenos-de-la-razon-expo.jpg
CATEGORIES:Exposiciones
LOCATION:Museo del Puro Palmero\, Parque de Los Álamos\, Breña Alta\, 387
 10\, España
GEO:28.666832;-17.787186
X-APPLE-STRUCTURED-LOCATION;VALUE=URI;X-ADDRESS=Parque de Los Álamos\, Bre
 ña Alta\, 38710\, España;X-APPLE-RADIUS=100;X-TITLE=Museo del Puro Palme
 ro:geo:28.666832,-17.787186
END:VEVENT
END:VCALENDARBEGIN:VCALENDAR
VERSION:2.0
PRODID:-//wp-events-plugin.com//7.2.3.1//EN
TZID:Europe/London
X-WR-TIMEZONE:Europe/London
BEGIN:VEVENT
UID:746@larevistadelapalma.com
DTSTART;VALUE=DATE:20231007
DTEND;VALUE=DATE:20231108
DTSTAMP:20231007T113953Z
URL:https://www.larevistadelapalma.com/events/exposicion-fotografica-de-di
 uber-sicilia-camacho-en-el-museo-del-puro/
SUMMARY:Exposición fotográfica de Diuber Sicilia Camacho en el Museo del 
 Puro
DESCRIPTION:\nLa muestra que podremos ver se llama "Los Sueños de la razó
 n".\nDesde el sábado 7 de octubre hasta el 7 de noviembre\, se puede visi
 tar la exposición fotográfica de Diuber Sicilia Camacho\, fotógrafo y a
 rtista visual de Cuba.\nLas fotografías de esta muestra llamada "Los sue
 ños de la razón"\, están inspiradas en La Habana\, capital cubana\, y t
 ienen como referencia diversos ambientes y escenarios de la ciudad. Son im
 ágenes en blanco y negro\, o tonos pastel y envejecidos. Y el nombre de 
 la muestra hace referencia a la obra del pintor Francisco de Goya.\n\nDiub
 er comenzó su acercamiento a la fotografía en el año 2012 trabajando fu
 ndamentalmente la edición de imágenes hasta que en el 2013 empezó sus e
 studios en la EFCH (Escuela de Fotografía Creativa de La Habana) hasta gr
 aduarse en el 2014.\nSu obra personal está enfocada mayormente en la foto
 grafía conceptual\, aunque también trabaja el género documental. En sus
  propias palabras “Trato de capturar momentos de la vida cotidiana que s
 on únicos e irrepetibles a través de mi realidad\, mostrando que por muy
  sencillos que parezcan siempre hay algo mágico en ellos”.\nAdemás com
 pagina estos trabajos de fotografía conceptual con su estudio fotográfic
 o Vintage Color Photography.\n\n\n\nLa muestra está abierta al público e
 n el Museo del Puro Palmero en su horario habitual.\n\n\n 	Martes a vierne
 s 10:00h - 13:00h\n 	Sábados 10:00h - 14:00h\n\n
ATTACH;FMTTYPE=image/jpeg:https://www.larevistadelapalma.com/wp-content/up
 loads/2023/10/Los-suenos-de-la-razon-expo.jpg
CATEGORIES:Exposiciones
LOCATION:Museo del Puro Palmero\, Parque de Los Álamos\, Breña Alta\, 387
 10\, España
GEO:28.666832;-17.787186
X-APPLE-STRUCTURED-LOCATION;VALUE=URI;X-ADDRESS=Parque de Los Álamos\, Bre
 ña Alta\, 38710\, España;X-APPLE-RADIUS=100;X-TITLE=Museo del Puro Palme
 ro:geo:28.666832,-17.787186
END:VEVENT
END:VCALENDAR