BEGIN:VCALENDAR
VERSION:2.0
PRODID:-//wp-events-plugin.com//7.2.3.1//EN
TZID:Europe/London
X-WR-TIMEZONE:Europe/London
BEGIN:VEVENT
UID:4065@larevistadelapalma.com
DTSTART;VALUE=DATE:20251201
DTEND;VALUE=DATE:20251216
DTSTAMP:20251127T122124Z
URL:https://www.larevistadelapalma.com/events/exposicion-herrumbre-vivo/
SUMMARY:Exposición "Herrumbre vivo"
DESCRIPTION:Una muestra que explora la belleza de lo oxidado.\nLas piezas c
 readas por el palmero Gustavo Díaz ( Herrumbre Vivo) son arte con actitud
 . Metales perdidos y objetos que un día fueron basura y ahora se creen im
 portantes.\n\nLa inauguración tendrá lugar el lunes 1 de diciembre\, a l
 as 17:00 horas.Horario de visita: De 10:00 a 13:00 y de 16:00 a 19:00.\n\n
 \n
ATTACH;FMTTYPE=image/jpeg:https://www.larevistadelapalma.com/wp-content/up
 loads/2025/11/HERRUMBRE-VIVO.jpg
CATEGORIES:Exposiciones
LOCATION:Sala O'Daly\, C. O'Daly\, 2\, \, Santa Cruz de La Palma \, 38700\,
  España
GEO:28.68306;-17.765032
X-APPLE-STRUCTURED-LOCATION;VALUE=URI;X-ADDRESS=C. O'Daly\, 2\, \, Santa Cr
 uz de La Palma \, 38700\, España;X-APPLE-RADIUS=100;X-TITLE=Sala O'Daly:g
 eo:28.68306,-17.765032
END:VEVENT
END:VCALENDARBEGIN:VCALENDAR
VERSION:2.0
PRODID:-//wp-events-plugin.com//7.2.3.1//EN
TZID:Europe/London
X-WR-TIMEZONE:Europe/London
BEGIN:VEVENT
UID:4065@larevistadelapalma.com
DTSTART;VALUE=DATE:20251201
DTEND;VALUE=DATE:20251216
DTSTAMP:20251127T122124Z
URL:https://www.larevistadelapalma.com/events/exposicion-herrumbre-vivo/
SUMMARY:Exposición "Herrumbre vivo"
DESCRIPTION:Una muestra que explora la belleza de lo oxidado.\nLas piezas c
 readas por el palmero Gustavo Díaz ( Herrumbre Vivo) son arte con actitud
 . Metales perdidos y objetos que un día fueron basura y ahora se creen im
 portantes.\n\nLa inauguración tendrá lugar el lunes 1 de diciembre\, a l
 as 17:00 horas.Horario de visita: De 10:00 a 13:00 y de 16:00 a 19:00.\n\n
 \n
ATTACH;FMTTYPE=image/jpeg:https://www.larevistadelapalma.com/wp-content/up
 loads/2025/11/HERRUMBRE-VIVO.jpg
CATEGORIES:Exposiciones
LOCATION:Sala O'Daly\, C. O'Daly\, 2\, \, Santa Cruz de La Palma \, 38700\,
  España
GEO:28.68306;-17.765032
X-APPLE-STRUCTURED-LOCATION;VALUE=URI;X-ADDRESS=C. O'Daly\, 2\, \, Santa Cr
 uz de La Palma \, 38700\, España;X-APPLE-RADIUS=100;X-TITLE=Sala O'Daly:g
 eo:28.68306,-17.765032
END:VEVENT
END:VCALENDAR