BEGIN:VCALENDAR
VERSION:2.0
PRODID:-//wp-events-plugin.com//7.2.3.1//EN
TZID:Europe/London
X-WR-TIMEZONE:Europe/London
BEGIN:VEVENT
UID:65@larevistadelapalma.com
DTSTART;VALUE=DATE:20230623
DTEND;VALUE=DATE:20230816
DTSTAMP:20230704T105040Z
URL:https://www.larevistadelapalma.com/events/exposicion-la-divina-comedia
 -y-dante-alighieri-en-el-casino-de-santa-cruz-de-la-palma/
SUMMARY:Exposición “La Divina Comedia y Dante Alighieri”
DESCRIPTION:La exposición recoge un conjunto de libros\, láminas y otros 
 materiales bibliográficos relacionados con esta obra literaria
ATTACH;FMTTYPE=image/jpeg:https://www.larevistadelapalma.com/wp-content/up
 loads/2023/06/expo-casino-3.jpg
CATEGORIES:Exposiciones
LOCATION:Casino de Santa Cruz de La Palma\,  C. Anselmo Pérez de Brito\, 1
 5\, Santa Cruz De La Palma\, Santa Cruz de Tenerife\, 38700\, España
GEO:28.684234;-17.7638
X-APPLE-STRUCTURED-LOCATION;VALUE=URI;X-ADDRESS= C. Anselmo Pérez de Brito
 \, 15\, Santa Cruz De La Palma\, Santa Cruz de Tenerife\, 38700\, España;
 X-APPLE-RADIUS=100;X-TITLE=Casino de Santa Cruz de La Palma:geo:28.684234,
 -17.7638
END:VEVENT
END:VCALENDARBEGIN:VCALENDAR
VERSION:2.0
PRODID:-//wp-events-plugin.com//7.2.3.1//EN
TZID:Europe/London
X-WR-TIMEZONE:Europe/London
BEGIN:VEVENT
UID:65@larevistadelapalma.com
DTSTART;VALUE=DATE:20230623
DTEND;VALUE=DATE:20230816
DTSTAMP:20230704T105040Z
URL:https://www.larevistadelapalma.com/events/exposicion-la-divina-comedia
 -y-dante-alighieri-en-el-casino-de-santa-cruz-de-la-palma/
SUMMARY:Exposición “La Divina Comedia y Dante Alighieri”
DESCRIPTION:La exposición recoge un conjunto de libros\, láminas y otros 
 materiales bibliográficos relacionados con esta obra literaria
ATTACH;FMTTYPE=image/jpeg:https://www.larevistadelapalma.com/wp-content/up
 loads/2023/06/expo-casino-3.jpg
CATEGORIES:Exposiciones
LOCATION:Casino de Santa Cruz de La Palma\,  C. Anselmo Pérez de Brito\, 1
 5\, Santa Cruz De La Palma\, Santa Cruz de Tenerife\, 38700\, España
GEO:28.684234;-17.7638
X-APPLE-STRUCTURED-LOCATION;VALUE=URI;X-ADDRESS= C. Anselmo Pérez de Brito
 \, 15\, Santa Cruz De La Palma\, Santa Cruz de Tenerife\, 38700\, España;
 X-APPLE-RADIUS=100;X-TITLE=Casino de Santa Cruz de La Palma:geo:28.684234,
 -17.7638
END:VEVENT
END:VCALENDAR