BEGIN:VCALENDAR
VERSION:2.0
PRODID:-//wp-events-plugin.com//7.2.3.1//EN
TZID:Europe/London
X-WR-TIMEZONE:Europe/London
BEGIN:VEVENT
UID:6@larevistadelapalma.com
DTSTART;VALUE=DATE:20230609
DTEND;VALUE=DATE:20230701
DTSTAMP:20230626T094723Z
URL:https://www.larevistadelapalma.com/events/exposicion-la-necropolis-de-
 la-cucaracha/
SUMMARY:Exposición "La necrópolis de La Cucaracha"
DESCRIPTION:La muestra\, compuesta por una serie de ilustraciones-recreacio
 nes elaboradas por Miguel Ángel Brito\, fotografías de Miriam Cabrera\, 
 Amílcar Morera\, Luis Diego Cuscoy\, Antonio Camacho\, Pedro Riverol\, Jo
 rge Pais\, etc y los textos y guión de Jorge Pais y Nuria Álvarez\,
ATTACH;FMTTYPE=image/jpeg:https://www.larevistadelapalma.com/wp-content/up
 loads/2023/06/SSD_5793-scaled.jpg
CATEGORIES:Exposiciones
LOCATION:Casa principal de Salazar\, Calle Odaly\, 22\, Santa Cruz de La Pa
 lma\, 38700\, España
GEO:28.682275;-17.765795
X-APPLE-STRUCTURED-LOCATION;VALUE=URI;X-ADDRESS=Calle Odaly\, 22\, Santa Cr
 uz de La Palma\, 38700\, España;X-APPLE-RADIUS=100;X-TITLE=Casa principal
  de Salazar:geo:28.682275,-17.765795
END:VEVENT
END:VCALENDARBEGIN:VCALENDAR
VERSION:2.0
PRODID:-//wp-events-plugin.com//7.2.3.1//EN
TZID:Europe/London
X-WR-TIMEZONE:Europe/London
BEGIN:VEVENT
UID:6@larevistadelapalma.com
DTSTART;VALUE=DATE:20230609
DTEND;VALUE=DATE:20230701
DTSTAMP:20230626T094723Z
URL:https://www.larevistadelapalma.com/events/exposicion-la-necropolis-de-
 la-cucaracha/
SUMMARY:Exposición "La necrópolis de La Cucaracha"
DESCRIPTION:La muestra\, compuesta por una serie de ilustraciones-recreacio
 nes elaboradas por Miguel Ángel Brito\, fotografías de Miriam Cabrera\, 
 Amílcar Morera\, Luis Diego Cuscoy\, Antonio Camacho\, Pedro Riverol\, Jo
 rge Pais\, etc y los textos y guión de Jorge Pais y Nuria Álvarez\,
ATTACH;FMTTYPE=image/jpeg:https://www.larevistadelapalma.com/wp-content/up
 loads/2023/06/SSD_5793-scaled.jpg
CATEGORIES:Exposiciones
LOCATION:Casa principal de Salazar\, Calle Odaly\, 22\, Santa Cruz de La Pa
 lma\, 38700\, España
GEO:28.682275;-17.765795
X-APPLE-STRUCTURED-LOCATION;VALUE=URI;X-ADDRESS=Calle Odaly\, 22\, Santa Cr
 uz de La Palma\, 38700\, España;X-APPLE-RADIUS=100;X-TITLE=Casa principal
  de Salazar:geo:28.682275,-17.765795
END:VEVENT
END:VCALENDAR