BEGIN:VCALENDAR
VERSION:2.0
PRODID:-//wp-events-plugin.com//7.2.3.1//EN
TZID:Europe/London
X-WR-TIMEZONE:Europe/London
BEGIN:VEVENT
UID:4062@larevistadelapalma.com
DTSTART;VALUE=DATE:20251119
DTEND;VALUE=DATE:20251213
DTSTAMP:20251121T214002Z
URL:https://www.larevistadelapalma.com/events/exposicion-la-palabra-herida
 /
SUMMARY:Exposición “La Palabra Herida”
DESCRIPTION:La exposición “La Palabra Herida” utiliza el arte para con
 ectar con la juventud y sensibilizar sobre los Derechos Humanos.\n\nLa Dip
 utada del Común\, Lola Padrón\, inauguró este miércoles en el Palacio 
 Salazar la exposición “La Palabra Herida”\, en un acto que contó con
  la presencia de la consejera insular Miriam Perestelo Rodríguez y de la 
 artista Paqui Martín. La sala reunió a un numeroso público que mostró 
 su interés y compromiso con el trabajo en Derechos Humanos.\n\n“La Pala
 bra Herida” surge porque la carta de los Derechos Humanos no está siend
 o plenamente respetada y\, por ello\, se siente herida. Las obras de la ex
 posición abordan el dolor\, la pérdida\, el refugio y la esperanza\, uti
 lizando la Declaración Universal de los Derechos Humanos como referencia 
 simbólica para invitar a la reflexión sobre la dignidad humana y la frag
 ilidad de la vida en escenarios de violencia.\n\nDurante la inauguración\
 , la diputada Lola Padrón explicó que el sentido del proyecto y de todas
  las actividades que lo acompañan es captar la atención de los jóvenes 
 utilizando un lenguaje que les interpela —en este caso\, el arte— para
  facilitar que comprendan la importancia de conocer\, preservar y defender
  los Derechos Humanos\, tanto en contextos de conflicto como en su vida co
 tidiana.\n\n\n\nLa consejera Miriam Perestelo afirmó que “los Derechos 
 Humanos atraviesan todas las áreas de nuestra sociedad. No son un asunto 
 sectorial\, sino una responsabilidad colectiva. Por eso es tan importante 
 generar conciencia\, sensibilizar y abrir espacios como este\, donde la ci
 udadanía —y especialmente la juventud— pueda reflexionar\, compartir 
 y aprender. Apoyamos estas iniciativas porque nos permiten avanzar como co
 munidad y promover la protección\, el respeto y la convivencia”.\n\nPor
  su parte\, Paqui Martín comentó que “la idea de esta exposición no e
 s revolver conciencias —tocándose el estómago—\, sino conmover —to
 cándose el pecho—\, y con esa premisa fue concebida cada una de las obr
 as expuestas”.\n\nUn programa vinculado a la Escuela de Ciudadanía\n\nE
 stas actividades se integra en el programa de la Escuela de Ciudadanía de
  la Diputación del Común\, una iniciativa creada para promover la formac
 ión\, la participación y el empoderamiento de la ciudadanía\, con espec
 ial énfasis en los jóvenes y en la difusión de la cultura de los Derech
 os Humanos. Este marco institucional acoge actividades educativas\, cultur
 ales y participativas que permiten conectar el arte con la sensibilizació
 n social.\n\nTalleres de creación artística\n\nA lo largo del periodo ex
 positivo se imparten talleres con alumnado de distintos centros educativos
  de La Palma. Las obras generadas pasarán a formar parte de la muestra al
 ojada en el Palacio Salazar.\n\nAcción artística en la calle O’Daly 
 – 9 de diciembre\n\nEl programa continuará el 9 de diciembre con una in
 tervención en la calle O’Daly\, donde el alumnado presentará una perfo
 rmance basada en sus propias creaciones\, acercando el mensaje de la expos
 ición al espacio público.\n\nActo institucional del 10 de diciembre – 
 Museo Arqueológico Benahoarita\n\nEl 10 de diciembre\, Día de la Declara
 ción Universal de los Derechos Humanos\, se celebrará en el Museo Arqueo
 lógico Benahoarita un acto institucional con dos ponencias de expertos en
  Derechos Humanos. El programa incluirá también la lectura poética de E
 lsa López con su poema “Las sábanas”\, música original compuesta po
 r Carmen Agredano con arreglos de Ner Suárez\, y una performance de Paqui
  Martín\, en continuidad con el espíritu expresivo de la exposición.\n\
 nAgradecimientos\n\nLa Diputación del Común agradece al público\, al pr
 ofesorado\, al alumnado\, a las autoridades y a todas las personas que asi
 stieron a la inauguración\, reconociendo que la defensa de los Derechos H
 umanos requiere un compromiso transversal de toda la sociedad. Igualmente\
 , agradece la implicación de los centros educativos\, los institutos y la
  Escuela de Arte Manolo Blahnik\, así como el apoyo del Cabildo de La Pal
 ma por facilitar los espacios del Palacio Salazar y del Museo Arqueológic
 o Benahoarita para las actividades de conmemoración.\n\nCon esta iniciati
 va\, la institución reafirma su voluntad de seguir impulsando procesos de
  aprendizaje\, participación y sensibilización social\, situando a la ju
 ventud en el centro de la defensa presente y futura de los derechos fundam
 entales.
ATTACH;FMTTYPE=image/jpeg:https://www.larevistadelapalma.com/wp-content/up
 loads/2025/11/Lola-Padron-y-Paqui-Martin-en-La-inauguracion-de-la-exposici
 on-La-Palabra-HERIDA.jpg
CATEGORIES:Exposiciones
LOCATION:Casa principal de Salazar\, Calle Odaly\, 22\, Santa Cruz de La Pa
 lma\, 38700\, España
GEO:28.682275;-17.765795
X-APPLE-STRUCTURED-LOCATION;VALUE=URI;X-ADDRESS=Calle Odaly\, 22\, Santa Cr
 uz de La Palma\, 38700\, España;X-APPLE-RADIUS=100;X-TITLE=Casa principal
  de Salazar:geo:28.682275,-17.765795
END:VEVENT
END:VCALENDARBEGIN:VCALENDAR
VERSION:2.0
PRODID:-//wp-events-plugin.com//7.2.3.1//EN
TZID:Europe/London
X-WR-TIMEZONE:Europe/London
BEGIN:VEVENT
UID:4062@larevistadelapalma.com
DTSTART;VALUE=DATE:20251119
DTEND;VALUE=DATE:20251213
DTSTAMP:20251121T214002Z
URL:https://www.larevistadelapalma.com/events/exposicion-la-palabra-herida
 /
SUMMARY:Exposición “La Palabra Herida”
DESCRIPTION:La exposición “La Palabra Herida” utiliza el arte para con
 ectar con la juventud y sensibilizar sobre los Derechos Humanos.\n\nLa Dip
 utada del Común\, Lola Padrón\, inauguró este miércoles en el Palacio 
 Salazar la exposición “La Palabra Herida”\, en un acto que contó con
  la presencia de la consejera insular Miriam Perestelo Rodríguez y de la 
 artista Paqui Martín. La sala reunió a un numeroso público que mostró 
 su interés y compromiso con el trabajo en Derechos Humanos.\n\n“La Pala
 bra Herida” surge porque la carta de los Derechos Humanos no está siend
 o plenamente respetada y\, por ello\, se siente herida. Las obras de la ex
 posición abordan el dolor\, la pérdida\, el refugio y la esperanza\, uti
 lizando la Declaración Universal de los Derechos Humanos como referencia 
 simbólica para invitar a la reflexión sobre la dignidad humana y la frag
 ilidad de la vida en escenarios de violencia.\n\nDurante la inauguración\
 , la diputada Lola Padrón explicó que el sentido del proyecto y de todas
  las actividades que lo acompañan es captar la atención de los jóvenes 
 utilizando un lenguaje que les interpela —en este caso\, el arte— para
  facilitar que comprendan la importancia de conocer\, preservar y defender
  los Derechos Humanos\, tanto en contextos de conflicto como en su vida co
 tidiana.\n\n\n\nLa consejera Miriam Perestelo afirmó que “los Derechos 
 Humanos atraviesan todas las áreas de nuestra sociedad. No son un asunto 
 sectorial\, sino una responsabilidad colectiva. Por eso es tan importante 
 generar conciencia\, sensibilizar y abrir espacios como este\, donde la ci
 udadanía —y especialmente la juventud— pueda reflexionar\, compartir 
 y aprender. Apoyamos estas iniciativas porque nos permiten avanzar como co
 munidad y promover la protección\, el respeto y la convivencia”.\n\nPor
  su parte\, Paqui Martín comentó que “la idea de esta exposición no e
 s revolver conciencias —tocándose el estómago—\, sino conmover —to
 cándose el pecho—\, y con esa premisa fue concebida cada una de las obr
 as expuestas”.\n\nUn programa vinculado a la Escuela de Ciudadanía\n\nE
 stas actividades se integra en el programa de la Escuela de Ciudadanía de
  la Diputación del Común\, una iniciativa creada para promover la formac
 ión\, la participación y el empoderamiento de la ciudadanía\, con espec
 ial énfasis en los jóvenes y en la difusión de la cultura de los Derech
 os Humanos. Este marco institucional acoge actividades educativas\, cultur
 ales y participativas que permiten conectar el arte con la sensibilizació
 n social.\n\nTalleres de creación artística\n\nA lo largo del periodo ex
 positivo se imparten talleres con alumnado de distintos centros educativos
  de La Palma. Las obras generadas pasarán a formar parte de la muestra al
 ojada en el Palacio Salazar.\n\nAcción artística en la calle O’Daly 
 – 9 de diciembre\n\nEl programa continuará el 9 de diciembre con una in
 tervención en la calle O’Daly\, donde el alumnado presentará una perfo
 rmance basada en sus propias creaciones\, acercando el mensaje de la expos
 ición al espacio público.\n\nActo institucional del 10 de diciembre – 
 Museo Arqueológico Benahoarita\n\nEl 10 de diciembre\, Día de la Declara
 ción Universal de los Derechos Humanos\, se celebrará en el Museo Arqueo
 lógico Benahoarita un acto institucional con dos ponencias de expertos en
  Derechos Humanos. El programa incluirá también la lectura poética de E
 lsa López con su poema “Las sábanas”\, música original compuesta po
 r Carmen Agredano con arreglos de Ner Suárez\, y una performance de Paqui
  Martín\, en continuidad con el espíritu expresivo de la exposición.\n\
 nAgradecimientos\n\nLa Diputación del Común agradece al público\, al pr
 ofesorado\, al alumnado\, a las autoridades y a todas las personas que asi
 stieron a la inauguración\, reconociendo que la defensa de los Derechos H
 umanos requiere un compromiso transversal de toda la sociedad. Igualmente\
 , agradece la implicación de los centros educativos\, los institutos y la
  Escuela de Arte Manolo Blahnik\, así como el apoyo del Cabildo de La Pal
 ma por facilitar los espacios del Palacio Salazar y del Museo Arqueológic
 o Benahoarita para las actividades de conmemoración.\n\nCon esta iniciati
 va\, la institución reafirma su voluntad de seguir impulsando procesos de
  aprendizaje\, participación y sensibilización social\, situando a la ju
 ventud en el centro de la defensa presente y futura de los derechos fundam
 entales.
ATTACH;FMTTYPE=image/jpeg:https://www.larevistadelapalma.com/wp-content/up
 loads/2025/11/Lola-Padron-y-Paqui-Martin-en-La-inauguracion-de-la-exposici
 on-La-Palabra-HERIDA.jpg
CATEGORIES:Exposiciones
LOCATION:Casa principal de Salazar\, Calle Odaly\, 22\, Santa Cruz de La Pa
 lma\, 38700\, España
GEO:28.682275;-17.765795
X-APPLE-STRUCTURED-LOCATION;VALUE=URI;X-ADDRESS=Calle Odaly\, 22\, Santa Cr
 uz de La Palma\, 38700\, España;X-APPLE-RADIUS=100;X-TITLE=Casa principal
  de Salazar:geo:28.682275,-17.765795
END:VEVENT
END:VCALENDAR