BEGIN:VCALENDAR
VERSION:2.0
PRODID:-//wp-events-plugin.com//7.2.3.1//EN
TZID:Europe/London
X-WR-TIMEZONE:Europe/London
BEGIN:VEVENT
UID:856@larevistadelapalma.com
DTSTART;VALUE=DATE:20231120
DTEND;VALUE=DATE:20231212
DTSTAMP:20231130T175827Z
URL:https://www.larevistadelapalma.com/events/exposicion-leon-peter-sieber
 -las-tricias/
SUMMARY:Exposición "Bueno para nada"\, de Leon-Peter Sieber\, en Las Trici
 as
DESCRIPTION:Leon combina distintos elementos reutilizados para dar vida a u
 n sinfín de formas en tes dimensiones\, además de ofrecer una colección
  de postales muy pintorescas de alegres colores sobre finas tablas blanque
 adas. Sin duda nos ofrece unas obras muy originales y dinámicas.
ATTACH;FMTTYPE=image/jpeg:https://www.larevistadelapalma.com/wp-content/up
 loads/2023/11/Bueno-para-nada-1.jpg
CATEGORIES:Exposiciones
LOCATION:Oficina de información turística de Tijarafe\, Calle Real\, 11\,
  Tijarafe\, 38780 \, España
GEO:28.710798;-17.955469
X-APPLE-STRUCTURED-LOCATION;VALUE=URI;X-ADDRESS=Calle Real\, 11\, Tijarafe\
 , 38780 \, España;X-APPLE-RADIUS=100;X-TITLE=Oficina de información tur
 ística de Tijarafe:geo:28.710798,-17.955469
END:VEVENT
END:VCALENDARBEGIN:VCALENDAR
VERSION:2.0
PRODID:-//wp-events-plugin.com//7.2.3.1//EN
TZID:Europe/London
X-WR-TIMEZONE:Europe/London
BEGIN:VEVENT
UID:856@larevistadelapalma.com
DTSTART;VALUE=DATE:20231120
DTEND;VALUE=DATE:20231212
DTSTAMP:20231130T175827Z
URL:https://www.larevistadelapalma.com/events/exposicion-leon-peter-sieber
 -las-tricias/
SUMMARY:Exposición "Bueno para nada"\, de Leon-Peter Sieber\, en Las Trici
 as
DESCRIPTION:Leon combina distintos elementos reutilizados para dar vida a u
 n sinfín de formas en tes dimensiones\, además de ofrecer una colección
  de postales muy pintorescas de alegres colores sobre finas tablas blanque
 adas. Sin duda nos ofrece unas obras muy originales y dinámicas.
ATTACH;FMTTYPE=image/jpeg:https://www.larevistadelapalma.com/wp-content/up
 loads/2023/11/Bueno-para-nada-1.jpg
CATEGORIES:Exposiciones
LOCATION:Oficina de información turística de Tijarafe\, Calle Real\, 11\,
  Tijarafe\, 38780 \, España
GEO:28.710798;-17.955469
X-APPLE-STRUCTURED-LOCATION;VALUE=URI;X-ADDRESS=Calle Real\, 11\, Tijarafe\
 , 38780 \, España;X-APPLE-RADIUS=100;X-TITLE=Oficina de información tur
 ística de Tijarafe:geo:28.710798,-17.955469
END:VEVENT
END:VCALENDAR