BEGIN:VCALENDAR
VERSION:2.0
PRODID:-//wp-events-plugin.com//7.2.3.1//EN
TZID:Europe/London
X-WR-TIMEZONE:Europe/London
BEGIN:VEVENT
UID:2957@larevistadelapalma.com
DTSTART;VALUE=DATE:20240516
DTEND;VALUE=DATE:20240612
DTSTAMP:20240523T223439Z
URL:https://www.larevistadelapalma.com/events/exposicion-mestura-de-gracie
 la-janet-hernandez-en-la-casa-del-conde/
SUMMARY:Exposición “Mestura” de Graciela Janet Hernández\, en la Casa
  del Conde
DESCRIPTION:Presentación de las obras más significativas de la pintora pa
 lmera donde muestra el paisaje de las islas con un estilo surrealista\, cu
 idando la línea a través de la técnica del lápiz\, acuarelas\, acríli
 cos y óleos.\n\nGraciela Janet Hernández Rodríguez nace en 1978 en el m
 unicipio de Fuencaliente en la isla de La Palma. En el año 2000 finaliza 
 sus estudios de Bellas Artes de la Universidad de La Laguna. A partir del 
 año 2002  trabaja como profesora de enseñanza secundaria impartiendo la
  especialidad de dibujo. Su labor docente la combina con la pintura y el d
 iseño realizando hasta el momento más de una veintena de exposiciones ta
 nto individuales como colectivas y varios trabajos de diseño como murales
 \, etiquetas de vinos y portadas de libros.\n\nSus temas se relacionan hab
 itualmente con objetos de su entorno\, o del paisaje de las islas\, con un
  estilo surrealista y cuidando la línea a través de la técnica del láp
 iz\, acrílicos y óleos. En este enlace pueden ver ejemplos de algunas de
  sus obras.\n\nPodrán admirarlas en vivo y en directo hasta el 11 de juni
 o en las instalaciones de la Casa del Conde\, en Argual.\n\n 	Inauguració
 n el 16 de mayo a las 19:00 horas.\n 	Horario:  De martes a domingo de 11
 :00 a 18:00 horas.\n\n\n\n
ATTACH;FMTTYPE=image/jpeg:https://www.larevistadelapalma.com/wp-content/up
 loads/2024/04/Graciela-Janet-Hernandez.jpg
CATEGORIES:Exposiciones
LOCATION:Casa del Conde\, Los Llanos de Aridane\, C/San Antonio\, 35 - Llan
 o de Argual\, Los Llanos de Aridane\, 38760\, España
GEO:28.655333;-17.926641
X-APPLE-STRUCTURED-LOCATION;VALUE=URI;X-ADDRESS=C/San Antonio\, 35 - Llano 
 de Argual\, Los Llanos de Aridane\, 38760\, España;X-APPLE-RADIUS=100;X-T
 ITLE=Casa del Conde\, Los Llanos de Aridane:geo:28.655333,-17.926641
END:VEVENT
END:VCALENDARBEGIN:VCALENDAR
VERSION:2.0
PRODID:-//wp-events-plugin.com//7.2.3.1//EN
TZID:Europe/London
X-WR-TIMEZONE:Europe/London
BEGIN:VEVENT
UID:2957@larevistadelapalma.com
DTSTART;VALUE=DATE:20240516
DTEND;VALUE=DATE:20240612
DTSTAMP:20240523T223439Z
URL:https://www.larevistadelapalma.com/events/exposicion-mestura-de-gracie
 la-janet-hernandez-en-la-casa-del-conde/
SUMMARY:Exposición “Mestura” de Graciela Janet Hernández\, en la Casa
  del Conde
DESCRIPTION:Presentación de las obras más significativas de la pintora pa
 lmera donde muestra el paisaje de las islas con un estilo surrealista\, cu
 idando la línea a través de la técnica del lápiz\, acuarelas\, acríli
 cos y óleos.\n\nGraciela Janet Hernández Rodríguez nace en 1978 en el m
 unicipio de Fuencaliente en la isla de La Palma. En el año 2000 finaliza 
 sus estudios de Bellas Artes de la Universidad de La Laguna. A partir del 
 año 2002  trabaja como profesora de enseñanza secundaria impartiendo la
  especialidad de dibujo. Su labor docente la combina con la pintura y el d
 iseño realizando hasta el momento más de una veintena de exposiciones ta
 nto individuales como colectivas y varios trabajos de diseño como murales
 \, etiquetas de vinos y portadas de libros.\n\nSus temas se relacionan hab
 itualmente con objetos de su entorno\, o del paisaje de las islas\, con un
  estilo surrealista y cuidando la línea a través de la técnica del láp
 iz\, acrílicos y óleos. En este enlace pueden ver ejemplos de algunas de
  sus obras.\n\nPodrán admirarlas en vivo y en directo hasta el 11 de juni
 o en las instalaciones de la Casa del Conde\, en Argual.\n\n 	Inauguració
 n el 16 de mayo a las 19:00 horas.\n 	Horario:  De martes a domingo de 11
 :00 a 18:00 horas.\n\n\n\n
ATTACH;FMTTYPE=image/jpeg:https://www.larevistadelapalma.com/wp-content/up
 loads/2024/04/Graciela-Janet-Hernandez.jpg
CATEGORIES:Exposiciones
LOCATION:Casa del Conde\, Los Llanos de Aridane\, C/San Antonio\, 35 - Llan
 o de Argual\, Los Llanos de Aridane\, 38760\, España
GEO:28.655333;-17.926641
X-APPLE-STRUCTURED-LOCATION;VALUE=URI;X-ADDRESS=C/San Antonio\, 35 - Llano 
 de Argual\, Los Llanos de Aridane\, 38760\, España;X-APPLE-RADIUS=100;X-T
 ITLE=Casa del Conde\, Los Llanos de Aridane:geo:28.655333,-17.926641
END:VEVENT
END:VCALENDAR