BEGIN:VCALENDAR
VERSION:2.0
PRODID:-//wp-events-plugin.com//7.2.3.1//EN
TZID:Europe/London
X-WR-TIMEZONE:Europe/London
BEGIN:VEVENT
UID:3169@larevistadelapalma.com
DTSTART;VALUE=DATE:20240802
DTEND;VALUE=DATE:20240817
DTSTAMP:20240801T231254Z
URL:https://www.larevistadelapalma.com/events/exposicion-naturaleza-y-colo
 r-de-andrea-trigos/
SUMMARY:Exposición "Naturaleza y color" de Andrea Trigos
DESCRIPTION:\nEl martes 2 de agosto\, a las 19:00 horas\, se inaugura en el
  Bar Central de El Paso la muestra que nos ofrece la fantástica pintora m
 exicana Andrea Trigos que nos trae una colección de obras llenas de detal
 les\, de color y de energía\, como es característico en sus creaciones.\
 nLa muestra estará abierta hasta el próximo 16 de agosto.\n\n
ATTACH;FMTTYPE=image/jpeg:https://www.larevistadelapalma.com/wp-content/up
 loads/2024/08/Andrea-Trigos-expo-1.jpg
CATEGORIES:Exposiciones
LOCATION:Municipio de El Paso\, El Paso\, La Palma \, El Paso\, 38750\, Esp
 aña
GEO:28.652378;-17.880396
X-APPLE-STRUCTURED-LOCATION;VALUE=URI;X-ADDRESS=El Paso\, La Palma \, El Pa
 so\, 38750\, España;X-APPLE-RADIUS=100;X-TITLE=Municipio de El Paso:geo:2
 8.652378,-17.880396
END:VEVENT
END:VCALENDARBEGIN:VCALENDAR
VERSION:2.0
PRODID:-//wp-events-plugin.com//7.2.3.1//EN
TZID:Europe/London
X-WR-TIMEZONE:Europe/London
BEGIN:VEVENT
UID:3169@larevistadelapalma.com
DTSTART;VALUE=DATE:20240802
DTEND;VALUE=DATE:20240817
DTSTAMP:20240801T231254Z
URL:https://www.larevistadelapalma.com/events/exposicion-naturaleza-y-colo
 r-de-andrea-trigos/
SUMMARY:Exposición "Naturaleza y color" de Andrea Trigos
DESCRIPTION:\nEl martes 2 de agosto\, a las 19:00 horas\, se inaugura en el
  Bar Central de El Paso la muestra que nos ofrece la fantástica pintora m
 exicana Andrea Trigos que nos trae una colección de obras llenas de detal
 les\, de color y de energía\, como es característico en sus creaciones.\
 nLa muestra estará abierta hasta el próximo 16 de agosto.\n\n
ATTACH;FMTTYPE=image/jpeg:https://www.larevistadelapalma.com/wp-content/up
 loads/2024/08/Andrea-Trigos-expo-1.jpg
CATEGORIES:Exposiciones
LOCATION:Municipio de El Paso\, El Paso\, La Palma \, El Paso\, 38750\, Esp
 aña
GEO:28.652378;-17.880396
X-APPLE-STRUCTURED-LOCATION;VALUE=URI;X-ADDRESS=El Paso\, La Palma \, El Pa
 so\, 38750\, España;X-APPLE-RADIUS=100;X-TITLE=Municipio de El Paso:geo:2
 8.652378,-17.880396
END:VEVENT
END:VCALENDAR