BEGIN:VCALENDAR
VERSION:2.0
PRODID:-//wp-events-plugin.com//7.2.3.1//EN
TZID:Europe/London
X-WR-TIMEZONE:Europe/London
BEGIN:VEVENT
UID:2946@larevistadelapalma.com
DTSTART;VALUE=DATE:20240502
DTEND;VALUE=DATE:20240524
DTSTAMP:20240506T205304Z
URL:https://www.larevistadelapalma.com/events/exposicion-pain-dolor-casa-d
 el-conde/
SUMMARY:Exposición fotográfica "Pain/Dolor"\, de Marco Mira\, en la Casa 
 del Conde de Argual
DESCRIPTION:Flashes e historia de Alejandro Mutis. Fotografías de Marco Mi
 ra."\n\nInauguración: 2 de mayo a las 19:00 horas.\n\nMuestra de fotograf
 ías que representan el sufrimiento transmitido a través de generaciones 
 que se sienten discriminadas debido a la singularidad de sus identidades s
 exuales.\n"Retratar el dolor acumulado de generaciones que al verse DISCRI
 MINADOS por la singularidad de sus IDENTIDADES SEXUALES\; es un intentar d
 esnudar el alma de todos los castigos impuestos\, precisamente por el cues
 tionar la libertad con la cotidianidad del querer vivir de cómo nos decid
 imos a deconstruir los arquetipos sociales frente a las imposiciones moral
 es entre el bien y el mal transmitidas por los CredosDeFé.\n\nMutis decid
 e descomponer al mundo y su hogar de Odio\, mirarles a la cara\, con todas
  sus heridas sobre su cuerpo\, para decirles\, que nada nos detiene por ce
 lebrar nuestras Vidas\, ni siquiera el dolor!\nMe vestí de guerrero y ni 
 el miedo\, ya me detiene…"\nHorario:  De martes a domingo de 11:00 a 18
 :00 horas.\n\n\n\n&nbsp\;
ATTACH;FMTTYPE=image/jpeg:https://www.larevistadelapalma.com/wp-content/up
 loads/2024/04/Casa-del-Conde-expo-Pain-Dolor-1.jpg
CATEGORIES:Exposiciones
LOCATION:Casa del Conde\, Los Llanos de Aridane\, C/San Antonio\, 35 - Llan
 o de Argual\, Los Llanos de Aridane\, 38760\, España
GEO:28.655333;-17.926641
X-APPLE-STRUCTURED-LOCATION;VALUE=URI;X-ADDRESS=C/San Antonio\, 35 - Llano 
 de Argual\, Los Llanos de Aridane\, 38760\, España;X-APPLE-RADIUS=100;X-T
 ITLE=Casa del Conde\, Los Llanos de Aridane:geo:28.655333,-17.926641
END:VEVENT
END:VCALENDARBEGIN:VCALENDAR
VERSION:2.0
PRODID:-//wp-events-plugin.com//7.2.3.1//EN
TZID:Europe/London
X-WR-TIMEZONE:Europe/London
BEGIN:VEVENT
UID:2946@larevistadelapalma.com
DTSTART;VALUE=DATE:20240502
DTEND;VALUE=DATE:20240524
DTSTAMP:20240506T205304Z
URL:https://www.larevistadelapalma.com/events/exposicion-pain-dolor-casa-d
 el-conde/
SUMMARY:Exposición fotográfica "Pain/Dolor"\, de Marco Mira\, en la Casa 
 del Conde de Argual
DESCRIPTION:Flashes e historia de Alejandro Mutis. Fotografías de Marco Mi
 ra."\n\nInauguración: 2 de mayo a las 19:00 horas.\n\nMuestra de fotograf
 ías que representan el sufrimiento transmitido a través de generaciones 
 que se sienten discriminadas debido a la singularidad de sus identidades s
 exuales.\n"Retratar el dolor acumulado de generaciones que al verse DISCRI
 MINADOS por la singularidad de sus IDENTIDADES SEXUALES\; es un intentar d
 esnudar el alma de todos los castigos impuestos\, precisamente por el cues
 tionar la libertad con la cotidianidad del querer vivir de cómo nos decid
 imos a deconstruir los arquetipos sociales frente a las imposiciones moral
 es entre el bien y el mal transmitidas por los CredosDeFé.\n\nMutis decid
 e descomponer al mundo y su hogar de Odio\, mirarles a la cara\, con todas
  sus heridas sobre su cuerpo\, para decirles\, que nada nos detiene por ce
 lebrar nuestras Vidas\, ni siquiera el dolor!\nMe vestí de guerrero y ni 
 el miedo\, ya me detiene…"\nHorario:  De martes a domingo de 11:00 a 18
 :00 horas.\n\n\n\n&nbsp\;
ATTACH;FMTTYPE=image/jpeg:https://www.larevistadelapalma.com/wp-content/up
 loads/2024/04/Casa-del-Conde-expo-Pain-Dolor-1.jpg
CATEGORIES:Exposiciones
LOCATION:Casa del Conde\, Los Llanos de Aridane\, C/San Antonio\, 35 - Llan
 o de Argual\, Los Llanos de Aridane\, 38760\, España
GEO:28.655333;-17.926641
X-APPLE-STRUCTURED-LOCATION;VALUE=URI;X-ADDRESS=C/San Antonio\, 35 - Llano 
 de Argual\, Los Llanos de Aridane\, 38760\, España;X-APPLE-RADIUS=100;X-T
 ITLE=Casa del Conde\, Los Llanos de Aridane:geo:28.655333,-17.926641
END:VEVENT
END:VCALENDAR