BEGIN:VCALENDAR
VERSION:2.0
PRODID:-//wp-events-plugin.com//7.2.3.1//EN
TZID:Europe/London
X-WR-TIMEZONE:Europe/London
BEGIN:VEVENT
UID:3907@larevistadelapalma.com
DTSTART;VALUE=DATE:20250815
DTEND;VALUE=DATE:20250830
DTSTAMP:20250825T205139Z
URL:https://www.larevistadelapalma.com/events/exposicion-plutonicas-de-gus
 tavo-diaz/
SUMMARY:Exposición Plutónicas\, de Gustavo Díaz
DESCRIPTION:La muestra Plutónicas\, de Gustavo Díaz\, es una exposición 
 itinerante de esculturas en piedra de origen volcánico que pone en valor 
 la riqueza geológica y cultural de la isla de La Palma. El viernes 15 de 
 agosto\, a las 20:00 horas\, la muestra llega al Antiguo Ayuntamiento de F
 uencaliente\, municipio que da pistoletazo de salida\, ese mismo día\, a 
 sus Fiestas de La Vendimia 2025.\n\nLa propuesta de esta exposición part
 e de un diálogo íntimo con el territorio\, transformando la piedra en un
  lenguaje artístico que conecta geología\, memoria y emoción. Cada piez
 a esculpida representa un fragmento de fuego y tiempo\, una forma de custo
 diar el paisaje y de transmitir un legado a futuras generaciones.\n\n\n"No
  es solo arte: es territorio\, identidad y legado\, un fragmento de fuego 
 y tiempo\, una forma de conservar la belleza de nuestro patrimonio."\n\nPl
 utónicas es una nueva idea de Gustavo\, natural de Fuencaliente y creador
  de Herrumbre vivo\, un proyecto con el que el artista del reciclaje crea 
 obras de arte de los desechos. Crea esculturas a partir de objetos olvidad
 os\, principalmente metálicos\, manteniendo el toque de óxido que han co
 nseguido de manera natural. También usa elementos de plástico\, vidrio o
  madera. En sus piezas destacan los motivos canarios.\n\nGustavo también 
 lidera el movimiento ambiental "SOMOS UNA OLA"\, con el que emprende accio
 nes de limpieza y conservación en enclaves costeros de La Palma.\n\n&nbsp
 \;
ATTACH;FMTTYPE=image/jpeg:https://www.larevistadelapalma.com/wp-content/up
 loads/2025/08/plutonicas.jpg
CATEGORIES:Exposiciones
LOCATION:Municipio de Fuencaliente\, Fuencaliente\, Fuencaliente\, 38740\, 
 España
GEO:28.479676;-17.840616
X-APPLE-STRUCTURED-LOCATION;VALUE=URI;X-ADDRESS=Fuencaliente\, Fuencaliente
 \, 38740\, España;X-APPLE-RADIUS=100;X-TITLE=Municipio de Fuencaliente:ge
 o:28.479676,-17.840616
END:VEVENT
END:VCALENDARBEGIN:VCALENDAR
VERSION:2.0
PRODID:-//wp-events-plugin.com//7.2.3.1//EN
TZID:Europe/London
X-WR-TIMEZONE:Europe/London
BEGIN:VEVENT
UID:3907@larevistadelapalma.com
DTSTART;VALUE=DATE:20250815
DTEND;VALUE=DATE:20250830
DTSTAMP:20250825T205139Z
URL:https://www.larevistadelapalma.com/events/exposicion-plutonicas-de-gus
 tavo-diaz/
SUMMARY:Exposición Plutónicas\, de Gustavo Díaz
DESCRIPTION:La muestra Plutónicas\, de Gustavo Díaz\, es una exposición 
 itinerante de esculturas en piedra de origen volcánico que pone en valor 
 la riqueza geológica y cultural de la isla de La Palma. El viernes 15 de 
 agosto\, a las 20:00 horas\, la muestra llega al Antiguo Ayuntamiento de F
 uencaliente\, municipio que da pistoletazo de salida\, ese mismo día\, a 
 sus Fiestas de La Vendimia 2025.\n\nLa propuesta de esta exposición part
 e de un diálogo íntimo con el territorio\, transformando la piedra en un
  lenguaje artístico que conecta geología\, memoria y emoción. Cada piez
 a esculpida representa un fragmento de fuego y tiempo\, una forma de custo
 diar el paisaje y de transmitir un legado a futuras generaciones.\n\n\n"No
  es solo arte: es territorio\, identidad y legado\, un fragmento de fuego 
 y tiempo\, una forma de conservar la belleza de nuestro patrimonio."\n\nPl
 utónicas es una nueva idea de Gustavo\, natural de Fuencaliente y creador
  de Herrumbre vivo\, un proyecto con el que el artista del reciclaje crea 
 obras de arte de los desechos. Crea esculturas a partir de objetos olvidad
 os\, principalmente metálicos\, manteniendo el toque de óxido que han co
 nseguido de manera natural. También usa elementos de plástico\, vidrio o
  madera. En sus piezas destacan los motivos canarios.\n\nGustavo también 
 lidera el movimiento ambiental "SOMOS UNA OLA"\, con el que emprende accio
 nes de limpieza y conservación en enclaves costeros de La Palma.\n\n&nbsp
 \;
ATTACH;FMTTYPE=image/jpeg:https://www.larevistadelapalma.com/wp-content/up
 loads/2025/08/plutonicas.jpg
CATEGORIES:Exposiciones
LOCATION:Municipio de Fuencaliente\, Fuencaliente\, Fuencaliente\, 38740\, 
 España
GEO:28.479676;-17.840616
X-APPLE-STRUCTURED-LOCATION;VALUE=URI;X-ADDRESS=Fuencaliente\, Fuencaliente
 \, 38740\, España;X-APPLE-RADIUS=100;X-TITLE=Municipio de Fuencaliente:ge
 o:28.479676,-17.840616
END:VEVENT
END:VCALENDAR