BEGIN:VCALENDAR
VERSION:2.0
PRODID:-//wp-events-plugin.com//7.2.3.1//EN
TZID:Europe/London
X-WR-TIMEZONE:Europe/London
BEGIN:VEVENT
UID:3511@larevistadelapalma.com
DTSTART;VALUE=DATE:20250103
DTEND;VALUE=DATE:20250113
DTSTAMP:20241216T212651Z
URL:https://www.larevistadelapalma.com/events/exposicion-relatos-de-srta-g
 uayaba-sala-odaly/
SUMMARY:Exposición "Relatos" de Srta.Guayaba\, Sala O'Daly
DESCRIPTION:A partir del uso de la técnica pictórica mixta que combina ti
 nta\, acuarela y papel\, se crea la serie Relatos\, donde se trabaja la co
 nstrucción de pequeñas historias conexas\, con el uso de diferentes form
 atos que van desde 14\,8 x 21 cm hasta el formato 29\,7 x 42 cm.\n\nSrta. 
 Guayaba\, nacida en 1986 en la Isla de La Palma\, es el nombre artístico 
 escogido por María J. P. Viña para acuñar su obra\, la cual combina la 
 fotografía analógica con el collage y las técnicas mixtas. La estética
  de su obra se alimenta de su formación como conservadora – restaurador
 a\, con especialidad en Pintura. En 2021\, obtiene el Primer Premio de Fot
 ografía Amateur del Festival Estela Viva\, cuya finalidad se concreta en 
 la unión del mar y la cultura de Canarias con un objetivo social. Ese mis
 mo año es finalista con PhotoEspaña en el concurso Visit Spain. En 2023\
 , es Premio Fotografía RTVC sobre los Fondos Marinos de Canarias y el añ
 o 2024\, es finalista en el concurso El Verano de Nuestras Vidas que organ
 iza Cultura Inquieta.
ATTACH;FMTTYPE=image/jpeg:https://www.larevistadelapalma.com/wp-content/up
 loads/2024/12/Relatos-expo.jpg
CATEGORIES:Exposiciones
LOCATION:Sala O'Daly\, C. O'Daly\, 2\, \, Santa Cruz de La Palma \, 38700\,
  España
GEO:28.68306;-17.765032
X-APPLE-STRUCTURED-LOCATION;VALUE=URI;X-ADDRESS=C. O'Daly\, 2\, \, Santa Cr
 uz de La Palma \, 38700\, España;X-APPLE-RADIUS=100;X-TITLE=Sala O'Daly:g
 eo:28.68306,-17.765032
END:VEVENT
END:VCALENDARBEGIN:VCALENDAR
VERSION:2.0
PRODID:-//wp-events-plugin.com//7.2.3.1//EN
TZID:Europe/London
X-WR-TIMEZONE:Europe/London
BEGIN:VEVENT
UID:3511@larevistadelapalma.com
DTSTART;VALUE=DATE:20250103
DTEND;VALUE=DATE:20250113
DTSTAMP:20241216T212651Z
URL:https://www.larevistadelapalma.com/events/exposicion-relatos-de-srta-g
 uayaba-sala-odaly/
SUMMARY:Exposición "Relatos" de Srta.Guayaba\, Sala O'Daly
DESCRIPTION:A partir del uso de la técnica pictórica mixta que combina ti
 nta\, acuarela y papel\, se crea la serie Relatos\, donde se trabaja la co
 nstrucción de pequeñas historias conexas\, con el uso de diferentes form
 atos que van desde 14\,8 x 21 cm hasta el formato 29\,7 x 42 cm.\n\nSrta. 
 Guayaba\, nacida en 1986 en la Isla de La Palma\, es el nombre artístico 
 escogido por María J. P. Viña para acuñar su obra\, la cual combina la 
 fotografía analógica con el collage y las técnicas mixtas. La estética
  de su obra se alimenta de su formación como conservadora – restaurador
 a\, con especialidad en Pintura. En 2021\, obtiene el Primer Premio de Fot
 ografía Amateur del Festival Estela Viva\, cuya finalidad se concreta en 
 la unión del mar y la cultura de Canarias con un objetivo social. Ese mis
 mo año es finalista con PhotoEspaña en el concurso Visit Spain. En 2023\
 , es Premio Fotografía RTVC sobre los Fondos Marinos de Canarias y el añ
 o 2024\, es finalista en el concurso El Verano de Nuestras Vidas que organ
 iza Cultura Inquieta.
ATTACH;FMTTYPE=image/jpeg:https://www.larevistadelapalma.com/wp-content/up
 loads/2024/12/Relatos-expo.jpg
CATEGORIES:Exposiciones
LOCATION:Sala O'Daly\, C. O'Daly\, 2\, \, Santa Cruz de La Palma \, 38700\,
  España
GEO:28.68306;-17.765032
X-APPLE-STRUCTURED-LOCATION;VALUE=URI;X-ADDRESS=C. O'Daly\, 2\, \, Santa Cr
 uz de La Palma \, 38700\, España;X-APPLE-RADIUS=100;X-TITLE=Sala O'Daly:g
 eo:28.68306,-17.765032
END:VEVENT
END:VCALENDAR