BEGIN:VCALENDAR
VERSION:2.0
PRODID:-//wp-events-plugin.com//7.2.3.1//EN
TZID:Europe/London
X-WR-TIMEZONE:Europe/London
BEGIN:VEVENT
UID:2989@larevistadelapalma.com
DTSTART;VALUE=DATE:20240510
DTEND;VALUE=DATE:20240521
DTSTAMP:20240513T215004Z
URL:https://www.larevistadelapalma.com/events/exposicion-retales-de-la-esc
 uela-de-arte-manolo-blahnik-en-la-real-21/
SUMMARY:Exposición "Retales"\, de la Escuela de Arte Manolo Blahnik\, en l
 a Real 21
DESCRIPTION:\nLa industria textil\, impulsada por el consumo acelerado y de
 smedido de la moda\, es una de las más contaminantes del mundo. Más del 
 70% de los residuos textiles terminan en vertederos. En la Isla de La Palm
 a\, el residuo textil constituye uno de los mayores problemas medioambient
 ales. En un territorio tan pequeño\, cada año se tiran aproximadamente d
 e 400 a 500 toneladas de residuos textiles a vertederos\, lo que genera un
  grave problema de contaminación medioambiental.\n\n\nRetales es un proye
 cto realizado por el alumnado de la Escuela de Arte Manolo Blahnik junto 
 con la Fundación Isonorte\, donde se abordó la búsqueda creativa en dar
  una segunda oportunidad a los residuos textiles de la isla de La Palma.\n
 \nEntre las creaciones se encuentran fotografías\, ilustraciones\, piezas
  audiovisuales\, además de los diseños de moda y piezas de joyería.\nEs
 ta colección se presentó el pasado mes de marzo en Santa Cruz de La Palm
 a.\n\n
ATTACH;FMTTYPE=image/jpeg:https://www.larevistadelapalma.com/wp-content/up
 loads/2024/05/Retales-Escuela-de-Arte.jpg
CATEGORIES:Exposiciones
LOCATION:Espacio Cultural Real 21\, Los Llanos de Aridane\, C. Real\, 21\,\
 , Los Llanos de Aridane\, 38760\, España
GEO:28.658619;-17.910989
X-APPLE-STRUCTURED-LOCATION;VALUE=URI;X-ADDRESS=C. Real\, 21\,\, Los Llanos
  de Aridane\, 38760\, España;X-APPLE-RADIUS=100;X-TITLE=Espacio Cultural 
 Real 21\, Los Llanos de Aridane:geo:28.658619,-17.910989
END:VEVENT
END:VCALENDARBEGIN:VCALENDAR
VERSION:2.0
PRODID:-//wp-events-plugin.com//7.2.3.1//EN
TZID:Europe/London
X-WR-TIMEZONE:Europe/London
BEGIN:VEVENT
UID:2989@larevistadelapalma.com
DTSTART;VALUE=DATE:20240510
DTEND;VALUE=DATE:20240521
DTSTAMP:20240513T215004Z
URL:https://www.larevistadelapalma.com/events/exposicion-retales-de-la-esc
 uela-de-arte-manolo-blahnik-en-la-real-21/
SUMMARY:Exposición "Retales"\, de la Escuela de Arte Manolo Blahnik\, en l
 a Real 21
DESCRIPTION:\nLa industria textil\, impulsada por el consumo acelerado y de
 smedido de la moda\, es una de las más contaminantes del mundo. Más del 
 70% de los residuos textiles terminan en vertederos. En la Isla de La Palm
 a\, el residuo textil constituye uno de los mayores problemas medioambient
 ales. En un territorio tan pequeño\, cada año se tiran aproximadamente d
 e 400 a 500 toneladas de residuos textiles a vertederos\, lo que genera un
  grave problema de contaminación medioambiental.\n\n\nRetales es un proye
 cto realizado por el alumnado de la Escuela de Arte Manolo Blahnik junto 
 con la Fundación Isonorte\, donde se abordó la búsqueda creativa en dar
  una segunda oportunidad a los residuos textiles de la isla de La Palma.\n
 \nEntre las creaciones se encuentran fotografías\, ilustraciones\, piezas
  audiovisuales\, además de los diseños de moda y piezas de joyería.\nEs
 ta colección se presentó el pasado mes de marzo en Santa Cruz de La Palm
 a.\n\n
ATTACH;FMTTYPE=image/jpeg:https://www.larevistadelapalma.com/wp-content/up
 loads/2024/05/Retales-Escuela-de-Arte.jpg
CATEGORIES:Exposiciones
LOCATION:Espacio Cultural Real 21\, Los Llanos de Aridane\, C. Real\, 21\,\
 , Los Llanos de Aridane\, 38760\, España
GEO:28.658619;-17.910989
X-APPLE-STRUCTURED-LOCATION;VALUE=URI;X-ADDRESS=C. Real\, 21\,\, Los Llanos
  de Aridane\, 38760\, España;X-APPLE-RADIUS=100;X-TITLE=Espacio Cultural 
 Real 21\, Los Llanos de Aridane:geo:28.658619,-17.910989
END:VEVENT
END:VCALENDAR