BEGIN:VCALENDAR
VERSION:2.0
PRODID:-//wp-events-plugin.com//7.2.3.1//EN
TZID:Europe/London
X-WR-TIMEZONE:Europe/London
BEGIN:VEVENT
UID:171@larevistadelapalma.com
DTSTART;VALUE=DATE:20230717
DTEND;VALUE=DATE:20230801
DTSTAMP:20230717T123742Z
URL:https://www.larevistadelapalma.com/events/exposicion-retrospectiva-del
 -palmero-ruben-sanchez/
SUMMARY:Exposición retrospectiva del palmero Rubén Sánchez
DESCRIPTION:El artista palmero Rubén Sánchez muestra en la Sala O´Daly d
 e Santa Cruz de La Palma una selección de sus obras desde su primera pint
 ura en el año 1997\, hasta obra inédita de los años 2022 y 2023.  
ATTACH;FMTTYPE=image/jpeg:https://www.larevistadelapalma.com/wp-content/up
 loads/2023/07/Ruben-Sanchez-retrospectiva.jpg
CATEGORIES:Exposiciones
LOCATION:Sala O'Daly\, C. O'Daly\, 2\, \, Santa Cruz de La Palma \, 38700\,
  España
GEO:28.68306;-17.765032
X-APPLE-STRUCTURED-LOCATION;VALUE=URI;X-ADDRESS=C. O'Daly\, 2\, \, Santa Cr
 uz de La Palma \, 38700\, España;X-APPLE-RADIUS=100;X-TITLE=Sala O'Daly:g
 eo:28.68306,-17.765032
END:VEVENT
END:VCALENDARBEGIN:VCALENDAR
VERSION:2.0
PRODID:-//wp-events-plugin.com//7.2.3.1//EN
TZID:Europe/London
X-WR-TIMEZONE:Europe/London
BEGIN:VEVENT
UID:171@larevistadelapalma.com
DTSTART;VALUE=DATE:20230717
DTEND;VALUE=DATE:20230801
DTSTAMP:20230717T123742Z
URL:https://www.larevistadelapalma.com/events/exposicion-retrospectiva-del
 -palmero-ruben-sanchez/
SUMMARY:Exposición retrospectiva del palmero Rubén Sánchez
DESCRIPTION:El artista palmero Rubén Sánchez muestra en la Sala O´Daly d
 e Santa Cruz de La Palma una selección de sus obras desde su primera pint
 ura en el año 1997\, hasta obra inédita de los años 2022 y 2023.  
ATTACH;FMTTYPE=image/jpeg:https://www.larevistadelapalma.com/wp-content/up
 loads/2023/07/Ruben-Sanchez-retrospectiva.jpg
CATEGORIES:Exposiciones
LOCATION:Sala O'Daly\, C. O'Daly\, 2\, \, Santa Cruz de La Palma \, 38700\,
  España
GEO:28.68306;-17.765032
X-APPLE-STRUCTURED-LOCATION;VALUE=URI;X-ADDRESS=C. O'Daly\, 2\, \, Santa Cr
 uz de La Palma \, 38700\, España;X-APPLE-RADIUS=100;X-TITLE=Sala O'Daly:g
 eo:28.68306,-17.765032
END:VEVENT
END:VCALENDAR