BEGIN:VCALENDAR
VERSION:2.0
PRODID:-//wp-events-plugin.com//7.2.3.1//EN
TZID:Europe/London
X-WR-TIMEZONE:Europe/London
BEGIN:VEVENT
UID:4053@larevistadelapalma.com
DTSTART;VALUE=DATE:20251114
DTEND;VALUE=DATE:20251117
DTSTAMP:20251113T122032Z
URL:https://www.larevistadelapalma.com/events/expresarte-celebra-su-v-edic
 ion-este-noviembre-en-brena-baja/
SUMMARY:ExpresARTe celebra su V edición este noviembre en Breña Baja
DESCRIPTION:Esta quinta edición viene cargada de novedades. Entre ellas\, 
 el carácter itinerante que adoptan estas jornadas\, además de la primera
   entrega de los premios ExpresARTe que reconocerán la excelencia litera
 ria\, periodística y artística y cultural de los profesionales canarios 
 de este sector.\n\nLa semana del 10 al 16 de noviembre el municipio de Bre
 ña Baja acogerá las quintas jornadas literarias ExpresARTe. Un proyecto 
 que se reubica en este municipio por la fuerte apuesta cultural que está 
 haciendo con la firme convicción de dar a conocer el talento literario qu
 e se publica en nuestra tierra. Desde sus comienzos ExpresARTe nació con 
 una vocación itinerante\, esta será la primera edición en que se plasme
  este objetivo.Un evento literario que cuenta con una amplia programación
  de actividades culturales  para todas las edades. Estas jornadas tendrá
 n dos sedes principales\, la Biblioteca Mauro Fernández Santos y las Anti
 guas Salinas de los Cancajos. Las actividades para los centros educativos 
 del municipio se desarrollarán del 10 al 12 en la biblioteca para incenti
 var con las mismas el fomento a la lectura y la escritura entre los más j
 óvenes y durante el fin de semana del 14\, 15 y 16 de noviembre el espaci
 o de las Antiguas Salinas abrirá sus puertas para acoger una programació
 n extensa donde no faltarán las presentaciones de libros\, los debates li
 terarios\, la música\, y otras actividades relacionadas con todos los gé
 neros literarios.\n\nEste proyecto\, que apuesta por los creadores locales
 \, pretende también acercar al público a interesantes figuras de la lite
 ratura\, el periodismo y la cultura canaria\, por eso en esta V edición\,
  ExpresARTe refuerza ese compromiso con la primera entrega de premios. Los
  seleccionados para recibir la excelencia de esta edición 2025 son: Gusta
 vo Mederos\, Luis León Barreto e Isa Guerra. Todos ellos\, grandes talent
 os en su oficio y con una trayectoria envidiable.\n\nEste evento cuenta co
 n el respaldo del Ayuntamiento de Breña Baja a través de su área de cul
 tura y por el área de cultura del Cabildo Insular. De esta manera\, la co
 ncejal de cultura Ana Trujillo asegura que "en Breña Baja llevamos años 
 apostando por el talento local\, es importante el dar a conocer a nuestros
  creadores\, por eso desde el área de cultura y biblioteca no hemos dudad
 o en acoger un proyecto consolidado como las Jornadas literarias ExpresART
 e. Creo que esta apuesta refuerza nuestro compromiso con los escritores y 
 escritoras de nuestra tierra".\n\nBeatriz Gómez\, impulsora y directora d
 e estas jornadas afirma que ExpresARTe siempre ha buscado potenciar el tal
 ento tanto artístico como cultural que tenemos en Canarias\, por eso este
  año se ha querido recuperar esa parte de sus inicios en donde ofrecer un
 a programación adaptada a esos amantes de las letras y a su vez\, seguir 
 apostando por el sector educativo\, que son el futuro y trabajar con ellos
  estas cosas a una edad temprana facilita mucho más el aprendizaje y se c
 onvierte en una motivación.\n\nAdemás\, desarrollar esta edición tan es
 pecial en Breña Baja\, este municipio que ha hecho una apuesta firme y de
 cidida desde hace años con esta disciplina es un regalo muy valioso que s
 iempre tendré que agradecer\, no sólo por respaldar estas jornadas\, sin
 o por el valor que se le da a la literatura y el compromiso que se ha adop
 tado con la misma.\n\n
ATTACH;FMTTYPE=image/jpeg:https://www.larevistadelapalma.com/wp-content/up
 loads/2025/11/W-Expresarte-25-CartelGeneral.jpg
CATEGORIES:Otras propuestas,Varios
LOCATION:Antiguas Salinas de Los Cancajos\, P.º del litoral\, Breña Baja\
 , 38712\, España
GEO:28.650095;-17.75849
X-APPLE-STRUCTURED-LOCATION;VALUE=URI;X-ADDRESS=P.º del litoral\, Breña B
 aja\, 38712\, España;X-APPLE-RADIUS=100;X-TITLE=Antiguas Salinas de Los C
 ancajos:geo:28.650095,-17.75849
END:VEVENT
END:VCALENDARBEGIN:VCALENDAR
VERSION:2.0
PRODID:-//wp-events-plugin.com//7.2.3.1//EN
TZID:Europe/London
X-WR-TIMEZONE:Europe/London
BEGIN:VEVENT
UID:4053@larevistadelapalma.com
DTSTART;VALUE=DATE:20251114
DTEND;VALUE=DATE:20251117
DTSTAMP:20251113T122032Z
URL:https://www.larevistadelapalma.com/events/expresarte-celebra-su-v-edic
 ion-este-noviembre-en-brena-baja/
SUMMARY:ExpresARTe celebra su V edición este noviembre en Breña Baja
DESCRIPTION:Esta quinta edición viene cargada de novedades. Entre ellas\, 
 el carácter itinerante que adoptan estas jornadas\, además de la primera
   entrega de los premios ExpresARTe que reconocerán la excelencia litera
 ria\, periodística y artística y cultural de los profesionales canarios 
 de este sector.\n\nLa semana del 10 al 16 de noviembre el municipio de Bre
 ña Baja acogerá las quintas jornadas literarias ExpresARTe. Un proyecto 
 que se reubica en este municipio por la fuerte apuesta cultural que está 
 haciendo con la firme convicción de dar a conocer el talento literario qu
 e se publica en nuestra tierra. Desde sus comienzos ExpresARTe nació con 
 una vocación itinerante\, esta será la primera edición en que se plasme
  este objetivo.Un evento literario que cuenta con una amplia programación
  de actividades culturales  para todas las edades. Estas jornadas tendrá
 n dos sedes principales\, la Biblioteca Mauro Fernández Santos y las Anti
 guas Salinas de los Cancajos. Las actividades para los centros educativos 
 del municipio se desarrollarán del 10 al 12 en la biblioteca para incenti
 var con las mismas el fomento a la lectura y la escritura entre los más j
 óvenes y durante el fin de semana del 14\, 15 y 16 de noviembre el espaci
 o de las Antiguas Salinas abrirá sus puertas para acoger una programació
 n extensa donde no faltarán las presentaciones de libros\, los debates li
 terarios\, la música\, y otras actividades relacionadas con todos los gé
 neros literarios.\n\nEste proyecto\, que apuesta por los creadores locales
 \, pretende también acercar al público a interesantes figuras de la lite
 ratura\, el periodismo y la cultura canaria\, por eso en esta V edición\,
  ExpresARTe refuerza ese compromiso con la primera entrega de premios. Los
  seleccionados para recibir la excelencia de esta edición 2025 son: Gusta
 vo Mederos\, Luis León Barreto e Isa Guerra. Todos ellos\, grandes talent
 os en su oficio y con una trayectoria envidiable.\n\nEste evento cuenta co
 n el respaldo del Ayuntamiento de Breña Baja a través de su área de cul
 tura y por el área de cultura del Cabildo Insular. De esta manera\, la co
 ncejal de cultura Ana Trujillo asegura que "en Breña Baja llevamos años 
 apostando por el talento local\, es importante el dar a conocer a nuestros
  creadores\, por eso desde el área de cultura y biblioteca no hemos dudad
 o en acoger un proyecto consolidado como las Jornadas literarias ExpresART
 e. Creo que esta apuesta refuerza nuestro compromiso con los escritores y 
 escritoras de nuestra tierra".\n\nBeatriz Gómez\, impulsora y directora d
 e estas jornadas afirma que ExpresARTe siempre ha buscado potenciar el tal
 ento tanto artístico como cultural que tenemos en Canarias\, por eso este
  año se ha querido recuperar esa parte de sus inicios en donde ofrecer un
 a programación adaptada a esos amantes de las letras y a su vez\, seguir 
 apostando por el sector educativo\, que son el futuro y trabajar con ellos
  estas cosas a una edad temprana facilita mucho más el aprendizaje y se c
 onvierte en una motivación.\n\nAdemás\, desarrollar esta edición tan es
 pecial en Breña Baja\, este municipio que ha hecho una apuesta firme y de
 cidida desde hace años con esta disciplina es un regalo muy valioso que s
 iempre tendré que agradecer\, no sólo por respaldar estas jornadas\, sin
 o por el valor que se le da a la literatura y el compromiso que se ha adop
 tado con la misma.\n\n
ATTACH;FMTTYPE=image/jpeg:https://www.larevistadelapalma.com/wp-content/up
 loads/2025/11/W-Expresarte-25-CartelGeneral.jpg
CATEGORIES:Otras propuestas,Varios
LOCATION:Antiguas Salinas de Los Cancajos\, P.º del litoral\, Breña Baja\
 , 38712\, España
GEO:28.650095;-17.75849
X-APPLE-STRUCTURED-LOCATION;VALUE=URI;X-ADDRESS=P.º del litoral\, Breña B
 aja\, 38712\, España;X-APPLE-RADIUS=100;X-TITLE=Antiguas Salinas de Los C
 ancajos:geo:28.650095,-17.75849
END:VEVENT
END:VCALENDAR