BEGIN:VCALENDAR
VERSION:2.0
PRODID:-//wp-events-plugin.com//7.2.3.1//EN
TZID:Europe/London
X-WR-TIMEZONE:Europe/London
BEGIN:VEVENT
UID:736@larevistadelapalma.com
DTSTART:20231008T100000Z
DTEND:20231008T134500Z
DTSTAMP:20231005T173416Z
URL:https://www.larevistadelapalma.com/events/extension-del-festival-borea
 l-2023/
SUMMARY:Extensión del Festival Boreal 2023
DESCRIPTION:Se estrena una nueva edición del Festival Boreal\, y tendrá s
 u extensión en La Palma. Convertido en un festival de referencia internac
 ional\, Boreal es una iniciativa de carácter multidisciplinar\, diverso e
  intergeneracional que propone un encuentro cultural único en España. El
  acercamiento a otras culturas por medio de sus respectivas manifestacione
 s culturales y naturales\, y la puesta en valor de la nuestra propia\, son
  dos de los pilares de este festival\, único evento con estas caracterís
 ticas nacido en las Islas Canarias.\nEn esta ocasión nos tendremos al dú
 o Ual.la con el espectáculo ¡Play!  y además\, talleres familiares.\nA
  las 13:30 horas\, en la Plaza de España nos encontraremos con el dúo ba
 rcelonés Ual.la!\, con su estilo "tablemusic"\, está formado por el pian
 ista Modesto Lai y la cantante Alba Rubió\, ambos con formación teatral 
 y mucho sentido del humor.\nEste singular proyecto se dejó entrever en ba
 res y locales de Barcelona para después expandir su radio de acción a Ca
 taluña y el resto de la península\, e incluso volar hacia otros continen
 tes. Sus composiciones nos invitan a jugar\, a investigar la música\, a i
 ndagar el arte\, a preguntarnos cómo mejorar el mundo… Siempre que lo h
 agamos al son del absurdo y la sonrisa. Ual·la! consigue hacer de lo coti
 diano y aparentemente simple algo artístico y creativo.\nhttps://www.yout
 ube.com/watch?v=kZdDrX_XP_w\n"¡Play!" (2020) es el tercer disco del dúo 
 y también el título de su último espectáculo. Esta invitación al jueg
 o permanente mezcla géneros\, como el hip hop\, el spoken word o la bossa
  nova\, y no acepta límites. Las nuevas canciones -nada convencionales\, 
 pero divertidísimas- y sus raras armonías se ejecutan con una mesa\, ele
 mentos sencillos como pelotas\, bolsas de plástico\, lápices o vasos\, y
  las voces de Modesto y Alba. En cada parón de esta locura inteligente\, 
 puede suceder cualquier cosa. Diversión con conciencia\, juegos para todo
 s los públicos\, incluido el infantil.\nEn cuanto a los talleres\, tendr
 án lugar también en la Plaza de España\, desde las 11:00 horas. Serán 
 impartidos por Alessandro Ferrato y 4Bichos. Y tratarán materias como la 
 construcción y utilización de instrumentos musicales con materiales reci
 clados\; eco-fauna canaria en cartón y estambre en el que elaborarán un 
 pinzón de El Hierro y un caballito de mar.
ATTACH;FMTTYPE=image/jpeg:https://www.larevistadelapalma.com/wp-content/up
 loads/2023/10/uala-boreal.jpg
CATEGORIES:Espectáculos
LOCATION:Plaza de España de Santa Cruz de La Palma\, Plaza de España\, Sa
 nta Cruz De La Palma\, Santa Cruz de Tenerife\, 38700\, España
GEO:28.683369;-17.76487
X-APPLE-STRUCTURED-LOCATION;VALUE=URI;X-ADDRESS=Plaza de España\, Santa Cr
 uz De La Palma\, Santa Cruz de Tenerife\, 38700\, España;X-APPLE-RADIUS=1
 00;X-TITLE=Plaza de España de Santa Cruz de La Palma:geo:28.683369,-17.76
 487
END:VEVENT
END:VCALENDARBEGIN:VCALENDAR
VERSION:2.0
PRODID:-//wp-events-plugin.com//7.2.3.1//EN
TZID:Europe/London
X-WR-TIMEZONE:Europe/London
BEGIN:VEVENT
UID:736@larevistadelapalma.com
DTSTART:20231008T100000Z
DTEND:20231008T134500Z
DTSTAMP:20231005T173416Z
URL:https://www.larevistadelapalma.com/events/extension-del-festival-borea
 l-2023/
SUMMARY:Extensión del Festival Boreal 2023
DESCRIPTION:Se estrena una nueva edición del Festival Boreal\, y tendrá s
 u extensión en La Palma. Convertido en un festival de referencia internac
 ional\, Boreal es una iniciativa de carácter multidisciplinar\, diverso e
  intergeneracional que propone un encuentro cultural único en España. El
  acercamiento a otras culturas por medio de sus respectivas manifestacione
 s culturales y naturales\, y la puesta en valor de la nuestra propia\, son
  dos de los pilares de este festival\, único evento con estas caracterís
 ticas nacido en las Islas Canarias.\nEn esta ocasión nos tendremos al dú
 o Ual.la con el espectáculo ¡Play!  y además\, talleres familiares.\nA
  las 13:30 horas\, en la Plaza de España nos encontraremos con el dúo ba
 rcelonés Ual.la!\, con su estilo "tablemusic"\, está formado por el pian
 ista Modesto Lai y la cantante Alba Rubió\, ambos con formación teatral 
 y mucho sentido del humor.\nEste singular proyecto se dejó entrever en ba
 res y locales de Barcelona para después expandir su radio de acción a Ca
 taluña y el resto de la península\, e incluso volar hacia otros continen
 tes. Sus composiciones nos invitan a jugar\, a investigar la música\, a i
 ndagar el arte\, a preguntarnos cómo mejorar el mundo… Siempre que lo h
 agamos al son del absurdo y la sonrisa. Ual·la! consigue hacer de lo coti
 diano y aparentemente simple algo artístico y creativo.\nhttps://www.yout
 ube.com/watch?v=kZdDrX_XP_w\n"¡Play!" (2020) es el tercer disco del dúo 
 y también el título de su último espectáculo. Esta invitación al jueg
 o permanente mezcla géneros\, como el hip hop\, el spoken word o la bossa
  nova\, y no acepta límites. Las nuevas canciones -nada convencionales\, 
 pero divertidísimas- y sus raras armonías se ejecutan con una mesa\, ele
 mentos sencillos como pelotas\, bolsas de plástico\, lápices o vasos\, y
  las voces de Modesto y Alba. En cada parón de esta locura inteligente\, 
 puede suceder cualquier cosa. Diversión con conciencia\, juegos para todo
 s los públicos\, incluido el infantil.\nEn cuanto a los talleres\, tendr
 án lugar también en la Plaza de España\, desde las 11:00 horas. Serán 
 impartidos por Alessandro Ferrato y 4Bichos. Y tratarán materias como la 
 construcción y utilización de instrumentos musicales con materiales reci
 clados\; eco-fauna canaria en cartón y estambre en el que elaborarán un 
 pinzón de El Hierro y un caballito de mar.
ATTACH;FMTTYPE=image/jpeg:https://www.larevistadelapalma.com/wp-content/up
 loads/2023/10/uala-boreal.jpg
CATEGORIES:Espectáculos
LOCATION:Plaza de España de Santa Cruz de La Palma\, Plaza de España\, Sa
 nta Cruz De La Palma\, Santa Cruz de Tenerife\, 38700\, España
GEO:28.683369;-17.76487
X-APPLE-STRUCTURED-LOCATION;VALUE=URI;X-ADDRESS=Plaza de España\, Santa Cr
 uz De La Palma\, Santa Cruz de Tenerife\, 38700\, España;X-APPLE-RADIUS=1
 00;X-TITLE=Plaza de España de Santa Cruz de La Palma:geo:28.683369,-17.76
 487
END:VEVENT
END:VCALENDAR