BEGIN:VCALENDAR
VERSION:2.0
PRODID:-//wp-events-plugin.com//7.2.3.1//EN
TZID:Europe/London
X-WR-TIMEZONE:Europe/London
BEGIN:VEVENT
UID:4422@larevistadelapalma.com
DTSTART:20251222T183000Z
DTEND:20251222T193000Z
DTSTAMP:20251218T204012Z
URL:https://www.larevistadelapalma.com/events/facundo-daranas-nuevo-libro/
SUMMARY:Facundo Daranas presenta su nuevo libro sobre las calles San José 
 y Santa Águeda  de Santa Cruz de La Palma
DESCRIPTION:Este lunes 22 de diciembre a las 19:30 horas\, en la Sociedad L
 a Investigadora\, el catedrático de Historia Facundo Daranas Ventura pres
 entará su nuevo libro titulado Las calles San José y Santa Águeda de Sa
 nta Cruz de La Palma: arquitectura y sociedad.  \n\nLa monografía\, amp
 liamente ilustrada y publicada por Cartas Diferentes Ediciones dentro de l
 a colección “Cuadernos Insulanos” de la que hace el volumen 10\, abor
 da\, entre otros aspectos\, las transformaciones arquitectónicas y urban
 ísticas\, la sociedad\, las familias\, propietarios e inquilinos que han 
 dado vida a ambas calles\, así como el papel asignado a la mujer. Un retr
 ato social a lo largo del tiempo de este sector norte de la capital insula
 r.\n\nEl trabajo se basa en fuentes documentales primarias y está prologa
 do por Manuel Poggio Capote\, cronista oficial de Santa Cruz de La Palma. 
 En la edición han colaborado el Ayuntamiento de Santa Cruz de La Palma y 
 el Cabildo Insular de La Palma.\n\nEn el acto de presentación intervendr
 án además Asier Antona\, alcalde de Santa Cruz de La Palma\, y Sergio Ro
 dríguez\, presidente del Cabildo Insular de La Palma.
ATTACH;FMTTYPE=image/jpeg:https://www.larevistadelapalma.com/wp-content/up
 loads/2025/12/Facundo-Daranas.jpg
CATEGORIES:Cine y Literatura,Literatura
LOCATION:Casino de Santa Cruz de La Palma\,  C. Anselmo Pérez de Brito\, 1
 5\, Santa Cruz De La Palma\, Santa Cruz de Tenerife\, 38700\, España
GEO:28.684234;-17.7638
X-APPLE-STRUCTURED-LOCATION;VALUE=URI;X-ADDRESS= C. Anselmo Pérez de Brito
 \, 15\, Santa Cruz De La Palma\, Santa Cruz de Tenerife\, 38700\, España;
 X-APPLE-RADIUS=100;X-TITLE=Casino de Santa Cruz de La Palma:geo:28.684234,
 -17.7638
END:VEVENT
END:VCALENDARBEGIN:VCALENDAR
VERSION:2.0
PRODID:-//wp-events-plugin.com//7.2.3.1//EN
TZID:Europe/London
X-WR-TIMEZONE:Europe/London
BEGIN:VEVENT
UID:4422@larevistadelapalma.com
DTSTART:20251222T183000Z
DTEND:20251222T193000Z
DTSTAMP:20251218T204012Z
URL:https://www.larevistadelapalma.com/events/facundo-daranas-nuevo-libro/
SUMMARY:Facundo Daranas presenta su nuevo libro sobre las calles San José 
 y Santa Águeda  de Santa Cruz de La Palma
DESCRIPTION:Este lunes 22 de diciembre a las 19:30 horas\, en la Sociedad L
 a Investigadora\, el catedrático de Historia Facundo Daranas Ventura pres
 entará su nuevo libro titulado Las calles San José y Santa Águeda de Sa
 nta Cruz de La Palma: arquitectura y sociedad.  \n\nLa monografía\, amp
 liamente ilustrada y publicada por Cartas Diferentes Ediciones dentro de l
 a colección “Cuadernos Insulanos” de la que hace el volumen 10\, abor
 da\, entre otros aspectos\, las transformaciones arquitectónicas y urban
 ísticas\, la sociedad\, las familias\, propietarios e inquilinos que han 
 dado vida a ambas calles\, así como el papel asignado a la mujer. Un retr
 ato social a lo largo del tiempo de este sector norte de la capital insula
 r.\n\nEl trabajo se basa en fuentes documentales primarias y está prologa
 do por Manuel Poggio Capote\, cronista oficial de Santa Cruz de La Palma. 
 En la edición han colaborado el Ayuntamiento de Santa Cruz de La Palma y 
 el Cabildo Insular de La Palma.\n\nEn el acto de presentación intervendr
 án además Asier Antona\, alcalde de Santa Cruz de La Palma\, y Sergio Ro
 dríguez\, presidente del Cabildo Insular de La Palma.
ATTACH;FMTTYPE=image/jpeg:https://www.larevistadelapalma.com/wp-content/up
 loads/2025/12/Facundo-Daranas.jpg
CATEGORIES:Cine y Literatura,Literatura
LOCATION:Casino de Santa Cruz de La Palma\,  C. Anselmo Pérez de Brito\, 1
 5\, Santa Cruz De La Palma\, Santa Cruz de Tenerife\, 38700\, España
GEO:28.684234;-17.7638
X-APPLE-STRUCTURED-LOCATION;VALUE=URI;X-ADDRESS= C. Anselmo Pérez de Brito
 \, 15\, Santa Cruz De La Palma\, Santa Cruz de Tenerife\, 38700\, España;
 X-APPLE-RADIUS=100;X-TITLE=Casino de Santa Cruz de La Palma:geo:28.684234,
 -17.7638
END:VEVENT
END:VCALENDAR