BEGIN:VCALENDAR
VERSION:2.0
PRODID:-//wp-events-plugin.com//7.2.3.1//EN
TZID:Europe/London
X-WR-TIMEZONE:Europe/London
BEGIN:VEVENT
UID:849@larevistadelapalma.com
DTSTART;VALUE=DATE:20231117
DTEND;VALUE=DATE:20231201
DTSTAMP:20231117T141234Z
URL:https://www.larevistadelapalma.com/events/faep-pone-en-marcha-en-navid
 ad-el-i-concurso-de-escaparates-vive-la-navidad/
SUMMARY:FAEP pone en marcha en Navidad  el I Concurso de Escaparates “Vi
 ve la Navidad”
DESCRIPTION:La Federación de Asociaciones de Empresarios de La Palma (FAEP
 ) junto a Casco Histórico de Santa Cruz de La Palma\, Zona Comercial Abie
 rta (ZCA) y Asemba en Breña Alta se unen con el objetivo de llevar a cabo
  el I Concurso de Escaparates “Vive La Navidad” con el fin de incentiv
 ar el esfuerzo y la decoración de los escaparates ante la llegada de la 
 época navideña.\n\nLa fecha de inscripción será desde el día 16 de no
 viembre hasta el 30 de noviembre\, ambos inclusive\, y se realizará a tra
 vés de un documento de inscripción que se entregará a la Federación de
  Asociaciones de Empresarios de La Palma. Podrán participar todos los est
 ablecimientos y la cuota de inscripción será de 0€ para asociados y de
  30€ para no asociados\, importe que se abonará a la Federación de Aso
 ciaciones de Empresarios de La Palma (FAEP).\n\n\n\nLos escaparates se exh
 ibirán desde el día 1 de diciembre hasta el 31 de diciembre\, pasando el
  jurado entre los días 15\, 16\, y 17 de diciembre para su valoración y 
 votación\, que visitará los establecimientos de manera individual.\n\n\n
 \nNingún escaparate ostentará dos premios\, y en el caso de que el mismo
  escaparate los obtuviese tras el recuento\, se otorgará el siguiente má
 s puntuado. La entrega de los premios será el día 29 de diciembre y se v
 alorará la calidad\, la imagen comercial y presentación del producto\, c
 reatividad y composición\, entre otros. Los escaparates que participen de
 ben acreditar su participación colocando un distintivo que indique su con
 dición de participante. \n\nSe entregarán tres premios\, el primer premi
 o será un spot publicitario\, el segundo premio será 300€ a gastar en 
 las zonas comerciaels y el tercer premio será 60 cuñas de radio.\n\nEl p
 residente de la Federación de Empresarios de La Palma (FAEP)\, Jacob Alon
 so\, destaca que “este tipo de iniciativas son necesarias para el empres
 ario ya que fomenta su creatividad y beneficia la imagen de la empresa\, a
 demás de la posibilidad de obtener unos premios que permite mejorar la im
 agen corporativa de los negocios”.\n\nEsta Campaña es una acción inclu
 ida dentro del programa de innovación de las zonas comerciales abiertas d
 el Ayuntamiento de Santa Cruz de la Palma\, el Ayuntamiento de Breña Alta
  y el Ayuntamiento de Los Llanos de Aridane\, en colaboración con el Áre
 a de Comercio del Cabildo de La Palma.
ATTACH;FMTTYPE=image/jpeg:https://www.larevistadelapalma.com/wp-content/up
 loads/2023/11/CARTEL-I-CONCURSO-DE-ESCAPARATES.png
CATEGORIES:Otras propuestas,Varios
END:VEVENT
END:VCALENDARBEGIN:VCALENDAR
VERSION:2.0
PRODID:-//wp-events-plugin.com//7.2.3.1//EN
TZID:Europe/London
X-WR-TIMEZONE:Europe/London
BEGIN:VEVENT
UID:849@larevistadelapalma.com
DTSTART;VALUE=DATE:20231117
DTEND;VALUE=DATE:20231201
DTSTAMP:20231117T141234Z
URL:https://www.larevistadelapalma.com/events/faep-pone-en-marcha-en-navid
 ad-el-i-concurso-de-escaparates-vive-la-navidad/
SUMMARY:FAEP pone en marcha en Navidad  el I Concurso de Escaparates “Vi
 ve la Navidad”
DESCRIPTION:La Federación de Asociaciones de Empresarios de La Palma (FAEP
 ) junto a Casco Histórico de Santa Cruz de La Palma\, Zona Comercial Abie
 rta (ZCA) y Asemba en Breña Alta se unen con el objetivo de llevar a cabo
  el I Concurso de Escaparates “Vive La Navidad” con el fin de incentiv
 ar el esfuerzo y la decoración de los escaparates ante la llegada de la 
 época navideña.\n\nLa fecha de inscripción será desde el día 16 de no
 viembre hasta el 30 de noviembre\, ambos inclusive\, y se realizará a tra
 vés de un documento de inscripción que se entregará a la Federación de
  Asociaciones de Empresarios de La Palma. Podrán participar todos los est
 ablecimientos y la cuota de inscripción será de 0€ para asociados y de
  30€ para no asociados\, importe que se abonará a la Federación de Aso
 ciaciones de Empresarios de La Palma (FAEP).\n\n\n\nLos escaparates se exh
 ibirán desde el día 1 de diciembre hasta el 31 de diciembre\, pasando el
  jurado entre los días 15\, 16\, y 17 de diciembre para su valoración y 
 votación\, que visitará los establecimientos de manera individual.\n\n\n
 \nNingún escaparate ostentará dos premios\, y en el caso de que el mismo
  escaparate los obtuviese tras el recuento\, se otorgará el siguiente má
 s puntuado. La entrega de los premios será el día 29 de diciembre y se v
 alorará la calidad\, la imagen comercial y presentación del producto\, c
 reatividad y composición\, entre otros. Los escaparates que participen de
 ben acreditar su participación colocando un distintivo que indique su con
 dición de participante. \n\nSe entregarán tres premios\, el primer premi
 o será un spot publicitario\, el segundo premio será 300€ a gastar en 
 las zonas comerciaels y el tercer premio será 60 cuñas de radio.\n\nEl p
 residente de la Federación de Empresarios de La Palma (FAEP)\, Jacob Alon
 so\, destaca que “este tipo de iniciativas son necesarias para el empres
 ario ya que fomenta su creatividad y beneficia la imagen de la empresa\, a
 demás de la posibilidad de obtener unos premios que permite mejorar la im
 agen corporativa de los negocios”.\n\nEsta Campaña es una acción inclu
 ida dentro del programa de innovación de las zonas comerciales abiertas d
 el Ayuntamiento de Santa Cruz de la Palma\, el Ayuntamiento de Breña Alta
  y el Ayuntamiento de Los Llanos de Aridane\, en colaboración con el Áre
 a de Comercio del Cabildo de La Palma.
ATTACH;FMTTYPE=image/jpeg:https://www.larevistadelapalma.com/wp-content/up
 loads/2023/11/CARTEL-I-CONCURSO-DE-ESCAPARATES.png
CATEGORIES:Otras propuestas,Varios
END:VEVENT
END:VCALENDAR