BEGIN:VCALENDAR
VERSION:2.0
PRODID:-//wp-events-plugin.com//7.2.3.1//EN
TZID:Europe/London
X-WR-TIMEZONE:Europe/London
BEGIN:VEVENT
UID:890@larevistadelapalma.com
DTSTART:20231213T193000Z
DTEND:20231213T210000Z
DTSTAMP:20231212T213922Z
URL:https://www.larevistadelapalma.com/events/falla-a-traves-del-espejo/
SUMMARY:Sinfónicos en miniatura: Falla a través del espejo
DESCRIPTION:‘Sinfónicos en miniatura’ es una iniciativa enmarcada en l
 a XV temporada de la Orquesta Sinfónica del Atlántico\, que se encuentra
  cumpliendo los 15 años de su constitución como formación.\n\nLa Orques
 ta Sinfónica del Atlántico traerá a La Palma el ciclo ‘Sinfónicos en
  miniatura’\, una iniciativa que tiene por objeto llevar al público obr
 as escritas para grandes orquestas sinfónicas pero que\, en este caso\, s
 erán interpretadas por una formación musical más reducida.\n\nLa propue
 sta ‘Sinfónicos en miniatura’ dio comienzo en el año 2015 en el Teat
 ro Pérez Galdós de la capital grancanaria cuando la orquesta que dirige 
 desde hace 15 años la maestra Isabel Costes\, preparó un programa partir
  de adaptaciones de grandes compositores como Schöenberg\, Simon\, Farrin
 gton o Webern\, acercando así el mundo de las grandes sinfonías\, para l
 as que se precisan grandes plantillas orquestales\, a aquellos lugares de 
 Canarias que no cuentan con una orquesta sinfónica de manera habitual.\n\
 nDe todos sabido es que Manuel de Falla escribió en mayúsculas la músic
 a que definió a todo un país ante sí mismo y hacia el mundo. Su talento
 \, su talante y su ambición le llevaron a vivir con plenitud una época q
 ue marcó las artes de Europa en el siglo XX. Vemos en este espectáculo\,
  la esencia de su creatividad\, impregnada de influencias compartidas con 
 algunos de sus cómplices\, lugares y artistas también universales como l
 o fue Don Manuel.\n\nEntre las obras que se podrán escuchar en la velada 
 del próximo miércoles día 13 a las 20.30h en el Teatro Municipal Circo 
 de Marte\, figuran páginas tan relevantes como "Cádiz" o "Sevilla" de Is
 aac Albéniz\, fragmentos de "Goyescas" de Enrique Granados\, "Poemas en f
 orma de canción" de Joaquín Turina o una selección de "Canciones popula
 res antiguas" de Federico García Lorca (en su faceta musical\, menos cono
 cida de que la literaria)\, además de fragmentos de "El Amor Brujo" o "Si
 ete Canciones Populares españolas" de Manuel de Falla.\n\n&nbsp\;\nCompra
 r entradas &gt\;
ATTACH;FMTTYPE=image/jpeg:https://www.larevistadelapalma.com/wp-content/up
 loads/2023/12/Falla-a-traves-del-espejo.jpg
CATEGORIES:Conciertos,Música
LOCATION:Teatro Circo de Marte\, Calle Virgen de La Luz\, 5\, Santa Cruz de
  La Palma\, 38700\, España
GEO:28.682989;-17.765755
X-APPLE-STRUCTURED-LOCATION;VALUE=URI;X-ADDRESS=Calle Virgen de La Luz\, 5\
 , Santa Cruz de La Palma\, 38700\, España;X-APPLE-RADIUS=100;X-TITLE=Teat
 ro Circo de Marte:geo:28.682989,-17.765755
END:VEVENT
END:VCALENDARBEGIN:VCALENDAR
VERSION:2.0
PRODID:-//wp-events-plugin.com//7.2.3.1//EN
TZID:Europe/London
X-WR-TIMEZONE:Europe/London
BEGIN:VEVENT
UID:890@larevistadelapalma.com
DTSTART:20231213T193000Z
DTEND:20231213T210000Z
DTSTAMP:20231212T213922Z
URL:https://www.larevistadelapalma.com/events/falla-a-traves-del-espejo/
SUMMARY:Sinfónicos en miniatura: Falla a través del espejo
DESCRIPTION:‘Sinfónicos en miniatura’ es una iniciativa enmarcada en l
 a XV temporada de la Orquesta Sinfónica del Atlántico\, que se encuentra
  cumpliendo los 15 años de su constitución como formación.\n\nLa Orques
 ta Sinfónica del Atlántico traerá a La Palma el ciclo ‘Sinfónicos en
  miniatura’\, una iniciativa que tiene por objeto llevar al público obr
 as escritas para grandes orquestas sinfónicas pero que\, en este caso\, s
 erán interpretadas por una formación musical más reducida.\n\nLa propue
 sta ‘Sinfónicos en miniatura’ dio comienzo en el año 2015 en el Teat
 ro Pérez Galdós de la capital grancanaria cuando la orquesta que dirige 
 desde hace 15 años la maestra Isabel Costes\, preparó un programa partir
  de adaptaciones de grandes compositores como Schöenberg\, Simon\, Farrin
 gton o Webern\, acercando así el mundo de las grandes sinfonías\, para l
 as que se precisan grandes plantillas orquestales\, a aquellos lugares de 
 Canarias que no cuentan con una orquesta sinfónica de manera habitual.\n\
 nDe todos sabido es que Manuel de Falla escribió en mayúsculas la músic
 a que definió a todo un país ante sí mismo y hacia el mundo. Su talento
 \, su talante y su ambición le llevaron a vivir con plenitud una época q
 ue marcó las artes de Europa en el siglo XX. Vemos en este espectáculo\,
  la esencia de su creatividad\, impregnada de influencias compartidas con 
 algunos de sus cómplices\, lugares y artistas también universales como l
 o fue Don Manuel.\n\nEntre las obras que se podrán escuchar en la velada 
 del próximo miércoles día 13 a las 20.30h en el Teatro Municipal Circo 
 de Marte\, figuran páginas tan relevantes como "Cádiz" o "Sevilla" de Is
 aac Albéniz\, fragmentos de "Goyescas" de Enrique Granados\, "Poemas en f
 orma de canción" de Joaquín Turina o una selección de "Canciones popula
 res antiguas" de Federico García Lorca (en su faceta musical\, menos cono
 cida de que la literaria)\, además de fragmentos de "El Amor Brujo" o "Si
 ete Canciones Populares españolas" de Manuel de Falla.\n\n&nbsp\;\nCompra
 r entradas &gt\;
ATTACH;FMTTYPE=image/jpeg:https://www.larevistadelapalma.com/wp-content/up
 loads/2023/12/Falla-a-traves-del-espejo.jpg
CATEGORIES:Conciertos,Música
LOCATION:Teatro Circo de Marte\, Calle Virgen de La Luz\, 5\, Santa Cruz de
  La Palma\, 38700\, España
GEO:28.682989;-17.765755
X-APPLE-STRUCTURED-LOCATION;VALUE=URI;X-ADDRESS=Calle Virgen de La Luz\, 5\
 , Santa Cruz de La Palma\, 38700\, España;X-APPLE-RADIUS=100;X-TITLE=Teat
 ro Circo de Marte:geo:28.682989,-17.765755
END:VEVENT
END:VCALENDAR