BEGIN:VCALENDAR
VERSION:2.0
PRODID:-//wp-events-plugin.com//7.2.3.1//EN
TZID:Europe/London
X-WR-TIMEZONE:Europe/London
BEGIN:VEVENT
UID:3987@larevistadelapalma.com
DTSTART:20251009T190000Z
DTEND:20251009T193000Z
DTSTAMP:20250929T121133Z
URL:https://www.larevistadelapalma.com/events/fangs-anyoung-sung/
SUMMARY:"Fangs": AnYoung Sung reinterpreta la danza de espadas coreana
DESCRIPTION:La bailarina y coreógrafa AnYoung reinterpreta en "Fangs" el 
 baile tradicional coreano Geommu (bailes de la espada)\, con raíces en la
 sa artes marciales
ATTACH;FMTTYPE=image/jpeg:https://www.larevistadelapalma.com/wp-content/up
 loads/2025/09/An-Young-Sung-1.jpeg
CATEGORIES:Danza,Espectáculos
LOCATION:Plaza de Santo Domingo en Santa Cruz de La Palma\, Plaza Santo Dom
 ingo\, Santa Cruz de La Palma\, 38700\, España
GEO:28.682691;-17.766334
X-APPLE-STRUCTURED-LOCATION;VALUE=URI;X-ADDRESS=Plaza Santo Domingo\, Santa
  Cruz de La Palma\, 38700\, España;X-APPLE-RADIUS=100;X-TITLE=Plaza de Sa
 nto Domingo en Santa Cruz de La Palma:geo:28.682691,-17.766334
END:VEVENT
END:VCALENDARBEGIN:VCALENDAR
VERSION:2.0
PRODID:-//wp-events-plugin.com//7.2.3.1//EN
TZID:Europe/London
X-WR-TIMEZONE:Europe/London
BEGIN:VEVENT
UID:3987@larevistadelapalma.com
DTSTART:20251009T190000Z
DTEND:20251009T193000Z
DTSTAMP:20250929T121133Z
URL:https://www.larevistadelapalma.com/events/fangs-anyoung-sung/
SUMMARY:"Fangs": AnYoung Sung reinterpreta la danza de espadas coreana
DESCRIPTION:La bailarina y coreógrafa AnYoung reinterpreta en "Fangs" el 
 baile tradicional coreano Geommu (bailes de la espada)\, con raíces en la
 sa artes marciales
ATTACH;FMTTYPE=image/jpeg:https://www.larevistadelapalma.com/wp-content/up
 loads/2025/09/An-Young-Sung-1.jpeg
CATEGORIES:Danza,Espectáculos
LOCATION:Plaza de Santo Domingo en Santa Cruz de La Palma\, Plaza Santo Dom
 ingo\, Santa Cruz de La Palma\, 38700\, España
GEO:28.682691;-17.766334
X-APPLE-STRUCTURED-LOCATION;VALUE=URI;X-ADDRESS=Plaza Santo Domingo\, Santa
  Cruz de La Palma\, 38700\, España;X-APPLE-RADIUS=100;X-TITLE=Plaza de Sa
 nto Domingo en Santa Cruz de La Palma:geo:28.682691,-17.766334
END:VEVENT
END:VCALENDAR