BEGIN:VCALENDAR
VERSION:2.0
PRODID:-//wp-events-plugin.com//7.2.3.1//EN
TZID:Europe/London
X-WR-TIMEZONE:Europe/London
BEGIN:VEVENT
UID:4043@larevistadelapalma.com
DTSTART;VALUE=DATE:20251113
DTEND;VALUE=DATE:20251117
DTSTAMP:20251106T134413Z
URL:https://www.larevistadelapalma.com/events/fave-2025/
SUMMARY:Festival de las Artes Visuales y Escénicas (FAVE) 2025
DESCRIPTION: Vuelve el Festival de las Artes Visuales y Escénicas (FAVE).
  \n\nLas plazas y rincones de la capital se convierten en espacios ideale
 s para conectar a la ciudadanía y a las personas de paso con su entorno a
  través de las artes escénicas.\n\nEste año tendremos\, entre otros muc
 hos\, a Cris-Is presenta “Home”\, 'FOSCURÍ'\, de Abubukaka\, Imaginar
 t Teatro Videomapping y su espectáculo “El Bosque Mágico”\, además 
 de la música de formaciones como la Charanga La Guataca o Indiana Dixiela
 nd llenando de ritmo y alegría la ciudad.\n\n\nLa programación al detall
 e en FAVE.
ATTACH;FMTTYPE=image/jpeg:https://www.larevistadelapalma.com/wp-content/up
 loads/2025/11/WhatsApp-Image-2025-11-04-at-15.59.52.jpeg
CATEGORIES:Espectáculos
LOCATION:Municipio de Santa Cruz de La Palma\, Santa Cruz de La Palma \, Sa
 nta Cruz de La Palma \, 38700\, España
GEO:28.688757;-17.765102
X-APPLE-STRUCTURED-LOCATION;VALUE=URI;X-ADDRESS=Santa Cruz de La Palma \, S
 anta Cruz de La Palma \, 38700\, España;X-APPLE-RADIUS=100;X-TITLE=Munici
 pio de Santa Cruz de La Palma:geo:28.688757,-17.765102
END:VEVENT
END:VCALENDARBEGIN:VCALENDAR
VERSION:2.0
PRODID:-//wp-events-plugin.com//7.2.3.1//EN
TZID:Europe/London
X-WR-TIMEZONE:Europe/London
BEGIN:VEVENT
UID:4043@larevistadelapalma.com
DTSTART;VALUE=DATE:20251113
DTEND;VALUE=DATE:20251117
DTSTAMP:20251106T134413Z
URL:https://www.larevistadelapalma.com/events/fave-2025/
SUMMARY:Festival de las Artes Visuales y Escénicas (FAVE) 2025
DESCRIPTION: Vuelve el Festival de las Artes Visuales y Escénicas (FAVE).
  \n\nLas plazas y rincones de la capital se convierten en espacios ideale
 s para conectar a la ciudadanía y a las personas de paso con su entorno a
  través de las artes escénicas.\n\nEste año tendremos\, entre otros muc
 hos\, a Cris-Is presenta “Home”\, 'FOSCURÍ'\, de Abubukaka\, Imaginar
 t Teatro Videomapping y su espectáculo “El Bosque Mágico”\, además 
 de la música de formaciones como la Charanga La Guataca o Indiana Dixiela
 nd llenando de ritmo y alegría la ciudad.\n\n\nLa programación al detall
 e en FAVE.
ATTACH;FMTTYPE=image/jpeg:https://www.larevistadelapalma.com/wp-content/up
 loads/2025/11/WhatsApp-Image-2025-11-04-at-15.59.52.jpeg
CATEGORIES:Espectáculos
LOCATION:Municipio de Santa Cruz de La Palma\, Santa Cruz de La Palma \, Sa
 nta Cruz de La Palma \, 38700\, España
GEO:28.688757;-17.765102
X-APPLE-STRUCTURED-LOCATION;VALUE=URI;X-ADDRESS=Santa Cruz de La Palma \, S
 anta Cruz de La Palma \, 38700\, España;X-APPLE-RADIUS=100;X-TITLE=Munici
 pio de Santa Cruz de La Palma:geo:28.688757,-17.765102
END:VEVENT
END:VCALENDAR