BEGIN:VCALENDAR
VERSION:2.0
PRODID:-//wp-events-plugin.com//7.2.3.1//EN
TZID:Europe/London
X-WR-TIMEZONE:Europe/London
BEGIN:VEVENT
UID:4110@larevistadelapalma.com
DTSTART;VALUE=DATE:20251218
DTEND;VALUE=DATE:20251221
DTSTAMP:20251215T191516Z
URL:https://www.larevistadelapalma.com/events/feria-de-artesania-de-brena-
 baja-2025/
SUMMARY:Feria de Artesanía de Breña Baja 2025
DESCRIPTION:\n\nBreña Baja celebra este diciembre una nueva edición de su
  tradicional Feria de Artesanía\, un encuentro donde creadores y artesano
 s de la isla compartirán su talento\, tradición y espíritu navideño. T
 res días llenos de música\, actividades familiares\, gastronomía y\, po
 r supuesto\, auténtica artesanía palmera.\n\n\n\nFechas: 18\, 19 y 20 de
  diciembre\n PROGRAMACIÓN \n\n\n JUEVES 18\n\n 	17:30 h – Inauguraci
 ón de la Feria\n 	17:30–20:00 h – Hinchables (Tabayzú)\n 	18:00 h 
 – Concurso de Galletas Navideñas\n 	18:00 h – Escuela de Acordeones d
 e Breña Baja\n 	19:00 h – Grupo Musical Gándara\n 	19:30 h – Agrupac
 ión Folclórica Cumbre Nueva\n\n VIERNES 19\n\n 	11:00 h – Apertura de
  la Feria\n 	12:00 h – Actuación de Navidad de Las CER Las Breñas\n 	1
 7:30–20:00 h – Hinchables\n 	18:00 h – Grupo Entre Cuerdas\n 	20:30 
 h – Dúo Yumara Luis y Carlos Martín\n\n\n SÁBADO 20\n\n\n 	11:00 h 
 – Apertura de la Feria\n 	11:00–20:00 h – Hinchables\n 	12:00 h – 
 Los Chicos del Son\n 	17:00 h – Agrupación Folclórica Alfaguara\n 	18:
 00 h – Grupo Siempre Ellas\n 	19:30 h – Grupo Musical Código Latino\n
 \n\n\n
ATTACH;FMTTYPE=image/jpeg:https://www.larevistadelapalma.com/wp-content/up
 loads/2025/12/Artesania-FeriaNavidad-24-Foto10.jpg
CATEGORIES:Ferias y mercados,Otras propuestas
LOCATION:Plaza de las Madres\, San José\, Breña Baja\, 38712\, España
GEO:28.642202;-17.775828
X-APPLE-STRUCTURED-LOCATION;VALUE=URI;X-ADDRESS=San José\, Breña Baja\, 3
 8712\, España;X-APPLE-RADIUS=100;X-TITLE=Plaza de las Madres:geo:28.64220
 2,-17.775828
END:VEVENT
END:VCALENDARBEGIN:VCALENDAR
VERSION:2.0
PRODID:-//wp-events-plugin.com//7.2.3.1//EN
TZID:Europe/London
X-WR-TIMEZONE:Europe/London
BEGIN:VEVENT
UID:4110@larevistadelapalma.com
DTSTART;VALUE=DATE:20251218
DTEND;VALUE=DATE:20251221
DTSTAMP:20251215T191516Z
URL:https://www.larevistadelapalma.com/events/feria-de-artesania-de-brena-
 baja-2025/
SUMMARY:Feria de Artesanía de Breña Baja 2025
DESCRIPTION:\n\nBreña Baja celebra este diciembre una nueva edición de su
  tradicional Feria de Artesanía\, un encuentro donde creadores y artesano
 s de la isla compartirán su talento\, tradición y espíritu navideño. T
 res días llenos de música\, actividades familiares\, gastronomía y\, po
 r supuesto\, auténtica artesanía palmera.\n\n\n\nFechas: 18\, 19 y 20 de
  diciembre\n PROGRAMACIÓN \n\n\n JUEVES 18\n\n 	17:30 h – Inauguraci
 ón de la Feria\n 	17:30–20:00 h – Hinchables (Tabayzú)\n 	18:00 h 
 – Concurso de Galletas Navideñas\n 	18:00 h – Escuela de Acordeones d
 e Breña Baja\n 	19:00 h – Grupo Musical Gándara\n 	19:30 h – Agrupac
 ión Folclórica Cumbre Nueva\n\n VIERNES 19\n\n 	11:00 h – Apertura de
  la Feria\n 	12:00 h – Actuación de Navidad de Las CER Las Breñas\n 	1
 7:30–20:00 h – Hinchables\n 	18:00 h – Grupo Entre Cuerdas\n 	20:30 
 h – Dúo Yumara Luis y Carlos Martín\n\n\n SÁBADO 20\n\n\n 	11:00 h 
 – Apertura de la Feria\n 	11:00–20:00 h – Hinchables\n 	12:00 h – 
 Los Chicos del Son\n 	17:00 h – Agrupación Folclórica Alfaguara\n 	18:
 00 h – Grupo Siempre Ellas\n 	19:30 h – Grupo Musical Código Latino\n
 \n\n\n
ATTACH;FMTTYPE=image/jpeg:https://www.larevistadelapalma.com/wp-content/up
 loads/2025/12/Artesania-FeriaNavidad-24-Foto10.jpg
CATEGORIES:Ferias y mercados,Otras propuestas
LOCATION:Plaza de las Madres\, San José\, Breña Baja\, 38712\, España
GEO:28.642202;-17.775828
X-APPLE-STRUCTURED-LOCATION;VALUE=URI;X-ADDRESS=San José\, Breña Baja\, 3
 8712\, España;X-APPLE-RADIUS=100;X-TITLE=Plaza de las Madres:geo:28.64220
 2,-17.775828
END:VEVENT
END:VCALENDAR