BEGIN:VCALENDAR
VERSION:2.0
PRODID:-//wp-events-plugin.com//7.2.3.1//EN
TZID:Europe/London
X-WR-TIMEZONE:Europe/London
BEGIN:VEVENT
UID:4412@larevistadelapalma.com
DTSTART;VALUE=DATE:20251217
DTEND;VALUE=DATE:20251221
DTSTAMP:20251217T232602Z
URL:https://www.larevistadelapalma.com/events/feria-de-artesania-de-navida
 d-los-llanos-de-aridane/
SUMMARY:Feria de Artesanía de Navidad. Los Llanos de Aridane.
DESCRIPTION:La feria se desarrolla del 17 al 20 de diciembre en horario de 
 10:00 a 21:00 horas. Inauguración el día 17\, a las 17:00 horas. Podrás
  disfrutar en la Avenida Díaz Pimienta de las mejores artes y oficios de
  una veintena de artesanos.\n\n
ATTACH;FMTTYPE=image/jpeg:https://www.larevistadelapalma.com/wp-content/up
 loads/2025/12/NP-Feria-de-Artesania-Los-Llanos-25.jpeg
CATEGORIES:Ferias y mercados,Otras propuestas
LOCATION:Plaza de España en Los Llanos de Aridane\, Plaza de España\, Los
  Llanos de Aridane\, 38760\, España
GEO:28.658934;-17.913174
X-APPLE-STRUCTURED-LOCATION;VALUE=URI;X-ADDRESS=Plaza de España\, Los Llan
 os de Aridane\, 38760\, España;X-APPLE-RADIUS=100;X-TITLE=Plaza de Españ
 a en Los Llanos de Aridane:geo:28.658934,-17.913174
END:VEVENT
END:VCALENDARBEGIN:VCALENDAR
VERSION:2.0
PRODID:-//wp-events-plugin.com//7.2.3.1//EN
TZID:Europe/London
X-WR-TIMEZONE:Europe/London
BEGIN:VEVENT
UID:4412@larevistadelapalma.com
DTSTART;VALUE=DATE:20251217
DTEND;VALUE=DATE:20251221
DTSTAMP:20251217T232602Z
URL:https://www.larevistadelapalma.com/events/feria-de-artesania-de-navida
 d-los-llanos-de-aridane/
SUMMARY:Feria de Artesanía de Navidad. Los Llanos de Aridane.
DESCRIPTION:La feria se desarrolla del 17 al 20 de diciembre en horario de 
 10:00 a 21:00 horas. Inauguración el día 17\, a las 17:00 horas. Podrás
  disfrutar en la Avenida Díaz Pimienta de las mejores artes y oficios de
  una veintena de artesanos.\n\n
ATTACH;FMTTYPE=image/jpeg:https://www.larevistadelapalma.com/wp-content/up
 loads/2025/12/NP-Feria-de-Artesania-Los-Llanos-25.jpeg
CATEGORIES:Ferias y mercados,Otras propuestas
LOCATION:Plaza de España en Los Llanos de Aridane\, Plaza de España\, Los
  Llanos de Aridane\, 38760\, España
GEO:28.658934;-17.913174
X-APPLE-STRUCTURED-LOCATION;VALUE=URI;X-ADDRESS=Plaza de España\, Los Llan
 os de Aridane\, 38760\, España;X-APPLE-RADIUS=100;X-TITLE=Plaza de Españ
 a en Los Llanos de Aridane:geo:28.658934,-17.913174
END:VEVENT
END:VCALENDAR