BEGIN:VCALENDAR
VERSION:2.0
PRODID:-//wp-events-plugin.com//7.2.3.1//EN
TZID:Europe/London
X-WR-TIMEZONE:Europe/London
BEGIN:VEVENT
UID:4059@larevistadelapalma.com
DTSTART;VALUE=DATE:20251121
DTEND;VALUE=DATE:20251123
DTSTAMP:20251121T215013Z
URL:https://www.larevistadelapalma.com/events/feria-de-artesania-en-brena-
 alta-2/
SUMMARY:APLAZADA - Feria de Artesanía en Breña Alta
DESCRIPTION:Este fin de semana tienen Feria de Artesanía en Breña Alta. T
 e invitan a descubrir el valor de lo auténtico en piezas genuinas\, llena
 s de historia\, identidad y cariño. El lugar perfecto para encontrar ese 
 detalle especial: regalos hechos a mano\, con esencia palmera\, que hablan
  de tradición y apoyan a quienes las mantienen vivas.
ATTACH;FMTTYPE=image/jpeg:https://www.larevistadelapalma.com/wp-content/up
 loads/2025/11/Feria-Artesania-B-Alta.jpg
CATEGORIES:Ferias y mercados,Otras propuestas
LOCATION:Parque de Los Álamos\, Bodegón Los Alamos\, Breña Alta\, 38710\
 , España
GEO:28.667222;-17.787778
X-APPLE-STRUCTURED-LOCATION;VALUE=URI;X-ADDRESS=Bodegón Los Alamos\, Breñ
 a Alta\, 38710\, España;X-APPLE-RADIUS=100;X-TITLE=Parque de Los Álamos:
 geo:28.667222,-17.787778
END:VEVENT
END:VCALENDARBEGIN:VCALENDAR
VERSION:2.0
PRODID:-//wp-events-plugin.com//7.2.3.1//EN
TZID:Europe/London
X-WR-TIMEZONE:Europe/London
BEGIN:VEVENT
UID:4059@larevistadelapalma.com
DTSTART;VALUE=DATE:20251121
DTEND;VALUE=DATE:20251123
DTSTAMP:20251121T215013Z
URL:https://www.larevistadelapalma.com/events/feria-de-artesania-en-brena-
 alta-2/
SUMMARY:APLAZADA - Feria de Artesanía en Breña Alta
DESCRIPTION:Este fin de semana tienen Feria de Artesanía en Breña Alta. T
 e invitan a descubrir el valor de lo auténtico en piezas genuinas\, llena
 s de historia\, identidad y cariño. El lugar perfecto para encontrar ese 
 detalle especial: regalos hechos a mano\, con esencia palmera\, que hablan
  de tradición y apoyan a quienes las mantienen vivas.
ATTACH;FMTTYPE=image/jpeg:https://www.larevistadelapalma.com/wp-content/up
 loads/2025/11/Feria-Artesania-B-Alta.jpg
CATEGORIES:Ferias y mercados,Otras propuestas
LOCATION:Parque de Los Álamos\, Bodegón Los Alamos\, Breña Alta\, 38710\
 , España
GEO:28.667222;-17.787778
X-APPLE-STRUCTURED-LOCATION;VALUE=URI;X-ADDRESS=Bodegón Los Alamos\, Breñ
 a Alta\, 38710\, España;X-APPLE-RADIUS=100;X-TITLE=Parque de Los Álamos:
 geo:28.667222,-17.787778
END:VEVENT
END:VCALENDAR