BEGIN:VCALENDAR
VERSION:2.0
PRODID:-//wp-events-plugin.com//7.2.3.1//EN
TZID:Europe/London
X-WR-TIMEZONE:Europe/London
BEGIN:VEVENT
UID:3431@larevistadelapalma.com
DTSTART;VALUE=DATE:20241129
DTEND;VALUE=DATE:20241201
DTSTAMP:20241126T231530Z
URL:https://www.larevistadelapalma.com/events/feria-de-artesania-en-brena-
 alta/
SUMMARY:Feria de Artesanía en Breña Alta
DESCRIPTION:\n29 y 30 de noviembre en el Parque de Los Álamos.\nViernes: D
 esde las 16:00 hasta las 21:00 h.\nSábado: De 08:30 a 19:00 horas.\n
ATTACH;FMTTYPE=image/jpeg:https://www.larevistadelapalma.com/wp-content/up
 loads/2024/11/Feria-de-artesania-balta.jpg
CATEGORIES:Ferias y mercados,Otras propuestas
LOCATION:Parque de Los Álamos\, Bodegón Los Alamos\, Breña Alta\, 38710\
 , España
GEO:28.667222;-17.787778
X-APPLE-STRUCTURED-LOCATION;VALUE=URI;X-ADDRESS=Bodegón Los Alamos\, Breñ
 a Alta\, 38710\, España;X-APPLE-RADIUS=100;X-TITLE=Parque de Los Álamos:
 geo:28.667222,-17.787778
END:VEVENT
END:VCALENDARBEGIN:VCALENDAR
VERSION:2.0
PRODID:-//wp-events-plugin.com//7.2.3.1//EN
TZID:Europe/London
X-WR-TIMEZONE:Europe/London
BEGIN:VEVENT
UID:3431@larevistadelapalma.com
DTSTART;VALUE=DATE:20241129
DTEND;VALUE=DATE:20241201
DTSTAMP:20241126T231530Z
URL:https://www.larevistadelapalma.com/events/feria-de-artesania-en-brena-
 alta/
SUMMARY:Feria de Artesanía en Breña Alta
DESCRIPTION:\n29 y 30 de noviembre en el Parque de Los Álamos.\nViernes: D
 esde las 16:00 hasta las 21:00 h.\nSábado: De 08:30 a 19:00 horas.\n
ATTACH;FMTTYPE=image/jpeg:https://www.larevistadelapalma.com/wp-content/up
 loads/2024/11/Feria-de-artesania-balta.jpg
CATEGORIES:Ferias y mercados,Otras propuestas
LOCATION:Parque de Los Álamos\, Bodegón Los Alamos\, Breña Alta\, 38710\
 , España
GEO:28.667222;-17.787778
X-APPLE-STRUCTURED-LOCATION;VALUE=URI;X-ADDRESS=Bodegón Los Alamos\, Breñ
 a Alta\, 38710\, España;X-APPLE-RADIUS=100;X-TITLE=Parque de Los Álamos:
 geo:28.667222,-17.787778
END:VEVENT
END:VCALENDAR