BEGIN:VCALENDAR
VERSION:2.0
PRODID:-//wp-events-plugin.com//7.2.3.1//EN
TZID:Europe/London
X-WR-TIMEZONE:Europe/London
BEGIN:VEVENT
UID:162@larevistadelapalma.com
DTSTART:20230715T160000Z
DTEND:20230715T200000Z
DTSTAMP:20230715T123312Z
URL:https://www.larevistadelapalma.com/events/feria-de-artesania-en-la-ala
 meda/
SUMMARY:Feria de artesanía en La Alameda
DESCRIPTION:* CAMBIOS EN EL PROGRAMA: Debido al incendio declarado en el Mu
 nicipio de Puntagorda los actos previstos para el sábado 15 de julio qued
 an aplazados.
ATTACH;FMTTYPE=image/jpeg:https://www.larevistadelapalma.com/wp-content/up
 loads/2023/07/Feria-Artesania-La-ALameda.jpg
CATEGORIES:Ferias y mercados,Otras propuestas
LOCATION:Plaza de La Alameda\, Plaza de La Alameda\, Santa Cruz de La Palma
 \, 38700\, España
GEO:28.688148;-17.761123
X-APPLE-STRUCTURED-LOCATION;VALUE=URI;X-ADDRESS=Plaza de La Alameda\, Santa
  Cruz de La Palma\, 38700\, España;X-APPLE-RADIUS=100;X-TITLE=Plaza de La
  Alameda:geo:28.688148,-17.761123
END:VEVENT
END:VCALENDARBEGIN:VCALENDAR
VERSION:2.0
PRODID:-//wp-events-plugin.com//7.2.3.1//EN
TZID:Europe/London
X-WR-TIMEZONE:Europe/London
BEGIN:VEVENT
UID:162@larevistadelapalma.com
DTSTART:20230715T160000Z
DTEND:20230715T200000Z
DTSTAMP:20230715T123312Z
URL:https://www.larevistadelapalma.com/events/feria-de-artesania-en-la-ala
 meda/
SUMMARY:Feria de artesanía en La Alameda
DESCRIPTION:* CAMBIOS EN EL PROGRAMA: Debido al incendio declarado en el Mu
 nicipio de Puntagorda los actos previstos para el sábado 15 de julio qued
 an aplazados.
ATTACH;FMTTYPE=image/jpeg:https://www.larevistadelapalma.com/wp-content/up
 loads/2023/07/Feria-Artesania-La-ALameda.jpg
CATEGORIES:Ferias y mercados,Otras propuestas
LOCATION:Plaza de La Alameda\, Plaza de La Alameda\, Santa Cruz de La Palma
 \, 38700\, España
GEO:28.688148;-17.761123
X-APPLE-STRUCTURED-LOCATION;VALUE=URI;X-ADDRESS=Plaza de La Alameda\, Santa
  Cruz de La Palma\, 38700\, España;X-APPLE-RADIUS=100;X-TITLE=Plaza de La
  Alameda:geo:28.688148,-17.761123
END:VEVENT
END:VCALENDAR