BEGIN:VCALENDAR
VERSION:2.0
PRODID:-//wp-events-plugin.com//7.2.3.1//EN
TZID:Europe/London
X-WR-TIMEZONE:Europe/London
BEGIN:VEVENT
UID:3468@larevistadelapalma.com
DTSTART;VALUE=DATE:20241212
DTEND;VALUE=DATE:20241215
DTSTAMP:20241205T204740Z
URL:https://www.larevistadelapalma.com/events/feria-de-artesania-en-navida
 d-brena-baja/
SUMMARY:Feria de artesanía en Navidad\, Breña Baja
DESCRIPTION:Actuaciones de Changó\, Tajadre\, Agrupación folclórica Alfa
 guara\, Agrupación Tagomate\, Parranda La Palma\, Javi y la banda invisib
 le...
ATTACH;FMTTYPE=image/jpeg:https://www.larevistadelapalma.com/wp-content/up
 loads/2024/12/Feria-Artesania-Navidad-B-Baja.jpg
CATEGORIES:Ferias y mercados,Otras propuestas
LOCATION:Plaza de las Madres\, San José\, Breña Baja\, 38712\, España
GEO:28.642202;-17.775828
X-APPLE-STRUCTURED-LOCATION;VALUE=URI;X-ADDRESS=San José\, Breña Baja\, 3
 8712\, España;X-APPLE-RADIUS=100;X-TITLE=Plaza de las Madres:geo:28.64220
 2,-17.775828
END:VEVENT
END:VCALENDARBEGIN:VCALENDAR
VERSION:2.0
PRODID:-//wp-events-plugin.com//7.2.3.1//EN
TZID:Europe/London
X-WR-TIMEZONE:Europe/London
BEGIN:VEVENT
UID:3468@larevistadelapalma.com
DTSTART;VALUE=DATE:20241212
DTEND;VALUE=DATE:20241215
DTSTAMP:20241205T204740Z
URL:https://www.larevistadelapalma.com/events/feria-de-artesania-en-navida
 d-brena-baja/
SUMMARY:Feria de artesanía en Navidad\, Breña Baja
DESCRIPTION:Actuaciones de Changó\, Tajadre\, Agrupación folclórica Alfa
 guara\, Agrupación Tagomate\, Parranda La Palma\, Javi y la banda invisib
 le...
ATTACH;FMTTYPE=image/jpeg:https://www.larevistadelapalma.com/wp-content/up
 loads/2024/12/Feria-Artesania-Navidad-B-Baja.jpg
CATEGORIES:Ferias y mercados,Otras propuestas
LOCATION:Plaza de las Madres\, San José\, Breña Baja\, 38712\, España
GEO:28.642202;-17.775828
X-APPLE-STRUCTURED-LOCATION;VALUE=URI;X-ADDRESS=San José\, Breña Baja\, 3
 8712\, España;X-APPLE-RADIUS=100;X-TITLE=Plaza de las Madres:geo:28.64220
 2,-17.775828
END:VEVENT
END:VCALENDAR